BEGIN:VCALENDAR
VERSION:2.0
PRODID:-//Lebanon Township - ECPv6.15.20//NONSGML v1.0//EN
CALSCALE:GREGORIAN
METHOD:PUBLISH
X-WR-CALNAME:Lebanon Township
X-ORIGINAL-URL:https://lebanontownship.net
X-WR-CALDESC:Events for Lebanon Township
REFRESH-INTERVAL;VALUE=DURATION:PT1H
X-Robots-Tag:noindex
X-PUBLISHED-TTL:PT1H
BEGIN:VTIMEZONE
TZID:America/New_York
BEGIN:DAYLIGHT
TZOFFSETFROM:-0500
TZOFFSETTO:-0400
TZNAME:EDT
DTSTART:20250309T070000
END:DAYLIGHT
BEGIN:STANDARD
TZOFFSETFROM:-0400
TZOFFSETTO:-0500
TZNAME:EST
DTSTART:20251102T060000
END:STANDARD
BEGIN:DAYLIGHT
TZOFFSETFROM:-0500
TZOFFSETTO:-0400
TZNAME:EDT
DTSTART:20260308T070000
END:DAYLIGHT
BEGIN:STANDARD
TZOFFSETFROM:-0400
TZOFFSETTO:-0500
TZNAME:EST
DTSTART:20261101T060000
END:STANDARD
BEGIN:DAYLIGHT
TZOFFSETFROM:-0500
TZOFFSETTO:-0400
TZNAME:EDT
DTSTART:20270314T070000
END:DAYLIGHT
BEGIN:STANDARD
TZOFFSETFROM:-0400
TZOFFSETTO:-0500
TZNAME:EST
DTSTART:20271107T060000
END:STANDARD
END:VTIMEZONE
BEGIN:VEVENT
DTSTART;TZID=America/New_York:20260401T080000
DTEND;TZID=America/New_York:20260430T170000
DTSTAMP:20260423T025032
CREATED:20260302T144619Z
LAST-MODIFIED:20260302T144925Z
UID:10001350-1775030400-1777568400@lebanontownship.net
SUMMARY:Annual Litter Clean Up
DESCRIPTION:
URL:https://lebanontownship.net/event/annual-litter-clean-up/2026-04-01/
LOCATION:NJ
ATTACH;FMTTYPE=image/jpeg:https://lebanontownship.net/wp-content/uploads/2026/03/Litter-Clean-Up-Flyer-2026-scaled.jpeg
END:VEVENT
BEGIN:VEVENT
DTSTART;TZID=America/New_York:20260423T183000
DTEND;TZID=America/New_York:20260423T193000
DTSTAMP:20260423T025032
CREATED:20260421T141658Z
LAST-MODIFIED:20260421T141658Z
UID:10001367-1776969000-1776972600@lebanontownship.net
SUMMARY:Volleyball Court Ribbon Cutting
DESCRIPTION:Come celebrate the opening of the 2 newly renovated Volleyball Courts at Memorial Park!
URL:https://lebanontownship.net/event/volleyball-court-ribbon-cutting/
LOCATION:Memorial Park\, Bunnvale Rd.\, Califon\, NJ\, 07830\, United States
ATTACH;FMTTYPE=image/jpeg:https://lebanontownship.net/wp-content/uploads/2026/04/Volleyball.jpeg
END:VEVENT
END:VCALENDAR