BEGIN:VCALENDAR
VERSION:2.0
PRODID:-//Lebanon Township - ECPv6.15.20//NONSGML v1.0//EN
CALSCALE:GREGORIAN
METHOD:PUBLISH
X-WR-CALNAME:Lebanon Township
X-ORIGINAL-URL:https://lebanontownship.net
X-WR-CALDESC:Events for Lebanon Township
REFRESH-INTERVAL;VALUE=DURATION:PT1H
X-Robots-Tag:noindex
X-PUBLISHED-TTL:PT1H
BEGIN:VTIMEZONE
TZID:America/New_York
BEGIN:DAYLIGHT
TZOFFSETFROM:-0500
TZOFFSETTO:-0400
TZNAME:EDT
DTSTART:20250309T070000
END:DAYLIGHT
BEGIN:STANDARD
TZOFFSETFROM:-0400
TZOFFSETTO:-0500
TZNAME:EST
DTSTART:20251102T060000
END:STANDARD
BEGIN:DAYLIGHT
TZOFFSETFROM:-0500
TZOFFSETTO:-0400
TZNAME:EDT
DTSTART:20260308T070000
END:DAYLIGHT
BEGIN:STANDARD
TZOFFSETFROM:-0400
TZOFFSETTO:-0500
TZNAME:EST
DTSTART:20261101T060000
END:STANDARD
BEGIN:DAYLIGHT
TZOFFSETFROM:-0500
TZOFFSETTO:-0400
TZNAME:EDT
DTSTART:20270314T070000
END:DAYLIGHT
BEGIN:STANDARD
TZOFFSETFROM:-0400
TZOFFSETTO:-0500
TZNAME:EST
DTSTART:20271107T060000
END:STANDARD
END:VTIMEZONE
BEGIN:VEVENT
DTSTART;TZID=America/New_York:20260423T183000
DTEND;TZID=America/New_York:20260423T193000
DTSTAMP:20260422T202951
CREATED:20260421T141658Z
LAST-MODIFIED:20260421T141658Z
UID:10001367-1776969000-1776972600@lebanontownship.net
SUMMARY:Volleyball Court Ribbon Cutting
DESCRIPTION:Come celebrate the opening of the 2 newly renovated Volleyball Courts at Memorial Park!
URL:https://lebanontownship.net/event/volleyball-court-ribbon-cutting/
LOCATION:Memorial Park\, Bunnvale Rd.\, Califon\, NJ\, 07830\, United States
ATTACH;FMTTYPE=image/jpeg:https://lebanontownship.net/wp-content/uploads/2026/04/Volleyball.jpeg
END:VEVENT
BEGIN:VEVENT
DTSTART;TZID=America/New_York:20260422T190000
DTEND;TZID=America/New_York:20260422T200000
DTSTAMP:20260422T202951
CREATED:20260209T161957Z
LAST-MODIFIED:20260209T161957Z
UID:10001331-1776884400-1776888000@lebanontownship.net
SUMMARY:Board of Adjustment Meeting
DESCRIPTION:
URL:https://lebanontownship.net/event/board-of-adjustment-meeting/2026-04-22/
LOCATION:Meeting Room\, 530 West Hill Rd\, Glen Gardner\, NJ\, 08826
ATTACH;FMTTYPE=image/jpeg:https://lebanontownship.net/wp-content/uploads/2023/01/qtq80-pHcUx0-scaled.jpeg
END:VEVENT
BEGIN:VEVENT
DTSTART;TZID=America/New_York:20260422T080000
DTEND;TZID=America/New_York:20260422T170000
DTSTAMP:20260422T202951
CREATED:20260302T144619Z
LAST-MODIFIED:20260302T144925Z
UID:10001353-1776844800-1776877200@lebanontownship.net
SUMMARY:Annual Litter Clean Up
DESCRIPTION:
URL:https://lebanontownship.net/event/annual-litter-clean-up/2026-04-22/
LOCATION:NJ
ATTACH;FMTTYPE=image/jpeg:https://lebanontownship.net/wp-content/uploads/2026/03/Litter-Clean-Up-Flyer-2026-scaled.jpeg
END:VEVENT
BEGIN:VEVENT
DTSTART;TZID=America/New_York:20260418T080000
DTEND;TZID=America/New_York:20260418T113000
DTSTAMP:20260422T202951
CREATED:20260124T174836Z
LAST-MODIFIED:20260127T141723Z
UID:10001322-1776499200-1776511800@lebanontownship.net
SUMMARY:Hunterdon County Paper Shredding Event
DESCRIPTION:Location and Time: Route 12 County Complex\, Rain or shine 8 am to 11:30 am or until the trucks are full.   
URL:https://lebanontownship.net/event/hunterdon-county-paper-shredding-event/2026-04-18/
LOCATION:Hunterdon Couty Complex\, 314 State Route 12\, Flemmington\, 08822\, United States
ATTACH;FMTTYPE=image/jpeg:https://lebanontownship.net/wp-content/uploads/2026/01/Ident-a-Shred-scaled.jpg
END:VEVENT
BEGIN:VEVENT
DTSTART;TZID=America/New_York:20260415T080000
DTEND;TZID=America/New_York:20260415T170000
DTSTAMP:20260422T202951
CREATED:20260302T144619Z
LAST-MODIFIED:20260302T144925Z
UID:10001352-1776240000-1776272400@lebanontownship.net
SUMMARY:Annual Litter Clean Up
DESCRIPTION:
URL:https://lebanontownship.net/event/annual-litter-clean-up/2026-04-15/
LOCATION:NJ
ATTACH;FMTTYPE=image/jpeg:https://lebanontownship.net/wp-content/uploads/2026/03/Litter-Clean-Up-Flyer-2026-scaled.jpeg
END:VEVENT
BEGIN:VEVENT
DTSTART;TZID=America/New_York:20260414T190000
DTEND;TZID=America/New_York:20260414T200000
DTSTAMP:20260422T202951
CREATED:20251229T162718Z
LAST-MODIFIED:20260103T231202Z
UID:10001306-1776193200-1776196800@lebanontownship.net
SUMMARY:Planning Board Meeting - Alternate Meeting - If Needed
DESCRIPTION:
URL:https://lebanontownship.net/event/planning-board-meeting-alternate-meeting-if-needed/2026-04-14/
LOCATION:NJ
ATTACH;FMTTYPE=image/jpeg:https://lebanontownship.net/wp-content/uploads/2023/01/qtq80-N8aOEv.jpeg
END:VEVENT
BEGIN:VEVENT
DTSTART;TZID=America/New_York:20260414T190000
DTEND;TZID=America/New_York:20260414T193000
DTSTAMP:20260422T202951
CREATED:20260410T133137Z
LAST-MODIFIED:20260410T133137Z
UID:10001365-1776193200-1776195000@lebanontownship.net
SUMMARY:Board of Adjustment Special Meeting
DESCRIPTION:
URL:https://lebanontownship.net/event/board-of-adjustment-special-meeting-2/
LOCATION:Meeting Room\, 530 West Hill Rd\, Glen Gardner\, NJ\, 08826
ATTACH;FMTTYPE=image/jpeg:https://lebanontownship.net/wp-content/uploads/2023/01/qtq80-pHcUx0-scaled.jpeg
END:VEVENT
BEGIN:VEVENT
DTSTART;TZID=America/New_York:20260413T183000
DTEND;TZID=America/New_York:20260413T203000
DTSTAMP:20260422T202951
CREATED:20260323T124027Z
LAST-MODIFIED:20260323T124027Z
UID:10001363-1776105000-1776112200@lebanontownship.net
SUMMARY:Spring Craft Workshop
DESCRIPTION:
URL:https://lebanontownship.net/event/spring-craft-workshop/2026-04-13/
LOCATION:Museum\, 57 Musconetcong River Rd\,\, Hampton\, NJ\, 08827\, United States
ATTACH;FMTTYPE=image/jpeg:https://lebanontownship.net/wp-content/uploads/2026/03/Spring-Craft-Workshop-scaled.jpeg
END:VEVENT
BEGIN:VEVENT
DTSTART;TZID=America/New_York:20260411T080000
DTEND;TZID=America/New_York:20260411T130000
DTSTAMP:20260422T202951
CREATED:20260311T192607Z
LAST-MODIFIED:20260311T192607Z
UID:10001358-1775894400-1775912400@lebanontownship.net
SUMMARY:Spring Clean Up
DESCRIPTION:
URL:https://lebanontownship.net/event/spring-clean-up-3/
LOCATION:DPW\, 339 Newport Road\, Glen Gardner\, NJ\, 08826\, United States
ATTACH;FMTTYPE=image/jpeg:https://lebanontownship.net/wp-content/uploads/2026/03/2026-Spring-Clean-Up-Flyer-scaled.jpg
END:VEVENT
BEGIN:VEVENT
DTSTART;TZID=America/New_York:20260408T190000
DTEND;TZID=America/New_York:20260408T200000
DTSTAMP:20260422T202951
CREATED:20250326T134248Z
LAST-MODIFIED:20251224T141006Z
UID:10001271-1775674800-1775678400@lebanontownship.net
SUMMARY:Township Committee Meeting
DESCRIPTION:
URL:https://lebanontownship.net/event/township-committee-meeting-4/2026-04-08/
LOCATION:Municipal Building\, 530 West Hill Rd\, Glen Gardner\, NJ\, 08826\, United States
ATTACH;FMTTYPE=image/jpeg:https://lebanontownship.net/wp-content/uploads/2022/10/township-committee-meeting.jpg
END:VEVENT
BEGIN:VEVENT
DTSTART;TZID=America/New_York:20260408T183000
DTEND;TZID=America/New_York:20260408T190000
DTSTAMP:20260422T202951
CREATED:20250114T161729Z
LAST-MODIFIED:20260403T144916Z
UID:10001131-1775673000-1775674800@lebanontownship.net
SUMMARY:Board of Health Meeting
DESCRIPTION:
URL:https://lebanontownship.net/event/board-of-health-meeting/
LOCATION:Meeting Room\, 530 West Hill Rd\, Glen Gardner\, NJ\, 08826
ATTACH;FMTTYPE=image/jpeg:https://lebanontownship.net/wp-content/uploads/2023/01/qtq80-w2iINF.jpeg
END:VEVENT
BEGIN:VEVENT
DTSTART;TZID=America/New_York:20260408T080000
DTEND;TZID=America/New_York:20260408T170000
DTSTAMP:20260422T202951
CREATED:20260302T144619Z
LAST-MODIFIED:20260302T144925Z
UID:10001351-1775635200-1775667600@lebanontownship.net
SUMMARY:Annual Litter Clean Up
DESCRIPTION:
URL:https://lebanontownship.net/event/annual-litter-clean-up/2026-04-08/
LOCATION:NJ
ATTACH;FMTTYPE=image/jpeg:https://lebanontownship.net/wp-content/uploads/2026/03/Litter-Clean-Up-Flyer-2026-scaled.jpeg
END:VEVENT
BEGIN:VEVENT
DTSTART;TZID=America/New_York:20260407T190000
DTEND;TZID=America/New_York:20260407T200000
DTSTAMP:20260422T202951
CREATED:20251229T162230Z
LAST-MODIFIED:20251229T162230Z
UID:10001294-1775588400-1775592000@lebanontownship.net
SUMMARY:Planning Board Meeting
DESCRIPTION:
URL:https://lebanontownship.net/event/planning-board-meeting-3/2026-04-07/
LOCATION:Meeting Room\, 530 West Hill Rd\, Glen Gardner\, NJ\, 08826
ATTACH;FMTTYPE=image/jpeg:https://lebanontownship.net/wp-content/uploads/2023/01/qtq80-N8aOEv.jpeg
END:VEVENT
BEGIN:VEVENT
DTSTART;TZID=America/New_York:20260406T190000
DTEND;TZID=America/New_York:20260406T200000
DTSTAMP:20260422T202951
CREATED:20241223T133941Z
LAST-MODIFIED:20260126T142338Z
UID:10001283-1775502000-1775505600@lebanontownship.net
SUMMARY:Environmental & Open Space Commission Meeting
DESCRIPTION:
URL:https://lebanontownship.net/event/environmental-open-space-commission-meeting/2026-04-06/
LOCATION:Meeting Room\, 530 West Hill Rd\, Glen Gardner\, NJ\, 08826
ATTACH;FMTTYPE=image/jpeg:https://lebanontownship.net/wp-content/uploads/2023/01/qtq80-DJdnbl-scaled.jpeg
END:VEVENT
BEGIN:VEVENT
DTSTART;TZID=America/New_York:20260327T191500
DTEND;TZID=America/New_York:20260327T201500
DTSTAMP:20260422T202951
CREATED:20260227T180645Z
LAST-MODIFIED:20260227T180645Z
UID:10001344-1774638900-1774642500@lebanontownship.net
SUMMARY:Flashlight Easter Egg Hunt
DESCRIPTION:
URL:https://lebanontownship.net/event/flashlight-easter-egg-hunt/
LOCATION:Memorial Park\, Bunnvale Rd.\, Califon\, NJ\, 07830\, United States
ATTACH;FMTTYPE=image/jpeg:https://lebanontownship.net/wp-content/uploads/2026/02/Easter-Egg-Hunt-2026.jpeg
END:VEVENT
BEGIN:VEVENT
DTSTART;TZID=America/New_York:20260325T190000
DTEND;TZID=America/New_York:20260325T200000
DTSTAMP:20260422T202951
CREATED:20260209T161957Z
LAST-MODIFIED:20260209T161957Z
UID:10001330-1774465200-1774468800@lebanontownship.net
SUMMARY:Board of Adjustment Meeting
DESCRIPTION:
URL:https://lebanontownship.net/event/board-of-adjustment-meeting/2026-03-25/
LOCATION:Meeting Room\, 530 West Hill Rd\, Glen Gardner\, NJ\, 08826
ATTACH;FMTTYPE=image/jpeg:https://lebanontownship.net/wp-content/uploads/2023/01/qtq80-pHcUx0-scaled.jpeg
END:VEVENT
BEGIN:VEVENT
DTSTART;TZID=America/New_York:20260325T183000
DTEND;TZID=America/New_York:20260325T190000
DTSTAMP:20260422T202951
CREATED:20260320T201751Z
LAST-MODIFIED:20260320T201751Z
UID:10001362-1774463400-1774465200@lebanontownship.net
SUMMARY:Board of Adjustment - Special Meeting
DESCRIPTION:
URL:https://lebanontownship.net/event/board-of-adjustment-special-meeting/
LOCATION:Meeting Room\, 530 West Hill Rd\, Glen Gardner\, NJ\, 08826
ATTACH;FMTTYPE=image/jpeg:https://lebanontownship.net/wp-content/uploads/2023/01/qtq80-pHcUx0-scaled.jpeg
END:VEVENT
BEGIN:VEVENT
DTSTART;TZID=America/New_York:20260324T100000
DTEND;TZID=America/New_York:20260324T120000
DTSTAMP:20260422T202951
CREATED:20260302T175909Z
LAST-MODIFIED:20260302T175909Z
UID:10001356-1774346400-1774353600@lebanontownship.net
SUMMARY:Adult Craft Class
DESCRIPTION:
URL:https://lebanontownship.net/event/adult-craft-class-3/2026-03-24/
LOCATION:Museum\, 57 Musconetcong River Rd\,\, Hampton\, NJ\, 08827\, United States
ATTACH;FMTTYPE=image/jpeg:https://lebanontownship.net/wp-content/uploads/2026/03/Embroidery-101-Update-scaled.jpg
END:VEVENT
BEGIN:VEVENT
DTSTART;TZID=America/New_York:20260321T090000
DTEND;TZID=America/New_York:20260321T130000
DTSTAMP:20260422T202951
CREATED:20260311T192756Z
LAST-MODIFIED:20260311T192756Z
UID:10001359-1774083600-1774098000@lebanontownship.net
SUMMARY:Hunterdon County Hazardous Waste Cleanup
DESCRIPTION:
URL:https://lebanontownship.net/event/hunterdon-county-hazardous-waste-cleanup/2026-03-21/
LOCATION:Hunterdon Couty Complex\, 314 State Route 12\, Flemmington\, 08822\, United States
ATTACH;FMTTYPE=image/jpeg:https://lebanontownship.net/wp-content/uploads/2026/03/HHW-ADD_2026-scaled.jpg
END:VEVENT
BEGIN:VEVENT
DTSTART;TZID=America/New_York:20260314T110000
DTEND;TZID=America/New_York:20260314T120000
DTSTAMP:20260422T202951
CREATED:20260206T185947Z
LAST-MODIFIED:20260206T185947Z
UID:10001328-1773486000-1773489600@lebanontownship.net
SUMMARY:The History of Irish Music
DESCRIPTION:
URL:https://lebanontownship.net/event/the-history-of-irish-music/
LOCATION:Museum\, 57 Musconetcong River Rd\,\, Hampton\, NJ\, 08827\, United States
ATTACH;FMTTYPE=image/jpeg:https://lebanontownship.net/wp-content/uploads/2026/02/March-Museum.jpeg
END:VEVENT
BEGIN:VEVENT
DTSTART;TZID=America/New_York:20260314T090000
DTEND;TZID=America/New_York:20260314T130000
DTSTAMP:20260422T202951
CREATED:20260124T174539Z
LAST-MODIFIED:20260124T174539Z
UID:10001318-1773478800-1773493200@lebanontownship.net
SUMMARY:Hunterdon County Electronics Recycling Event
DESCRIPTION:**NOW ACCEPTING MOST ITEMS WITH A PLUG. WE WILL BE TAKING AIR CONDITIONERS AND DEHUMIDIFIERS AT ALL ELECTRONIC EVENTS.** \nLocation and Time: Route 12 County Complex\, Rain or shine 9 am to 1 pm
URL:https://lebanontownship.net/event/hunterdon-county-electronics-recycling-event/2026-03-14/
LOCATION:Hunterdon Couty Complex\, 314 State Route 12\, Flemmington\, 08822\, United States
ATTACH;FMTTYPE=image/jpeg:https://lebanontownship.net/wp-content/uploads/2026/01/download.jpg
END:VEVENT
BEGIN:VEVENT
DTSTART;TZID=America/New_York:20260311T190000
DTEND;TZID=America/New_York:20260311T200000
DTSTAMP:20260422T202951
CREATED:20250326T134248Z
LAST-MODIFIED:20251224T141006Z
UID:10001270-1773255600-1773259200@lebanontownship.net
SUMMARY:Township Committee Meeting
DESCRIPTION:
URL:https://lebanontownship.net/event/township-committee-meeting-4/2026-03-11/
LOCATION:Municipal Building\, 530 West Hill Rd\, Glen Gardner\, NJ\, 08826\, United States
ATTACH;FMTTYPE=image/jpeg:https://lebanontownship.net/wp-content/uploads/2022/10/township-committee-meeting.jpg
END:VEVENT
BEGIN:VEVENT
DTSTART;TZID=America/New_York:20260310T190000
DTEND;TZID=America/New_York:20260310T200000
DTSTAMP:20260422T202951
CREATED:20251229T162718Z
LAST-MODIFIED:20260103T231202Z
UID:10001305-1773169200-1773172800@lebanontownship.net
SUMMARY:Planning Board Meeting - Alternate Meeting - If Needed
DESCRIPTION:
URL:https://lebanontownship.net/event/planning-board-meeting-alternate-meeting-if-needed/2026-03-10/
LOCATION:NJ
ATTACH;FMTTYPE=image/jpeg:https://lebanontownship.net/wp-content/uploads/2023/01/qtq80-N8aOEv.jpeg
END:VEVENT
BEGIN:VEVENT
DTSTART;TZID=America/New_York:20260310T100000
DTEND;TZID=America/New_York:20260310T120000
DTSTAMP:20260422T202951
CREATED:20260303T124857Z
LAST-MODIFIED:20260303T124857Z
UID:10001357-1773136800-1773144000@lebanontownship.net
SUMMARY:Children's Craft & Story Time
DESCRIPTION:
URL:https://lebanontownship.net/event/childrens-craft-story-time/
LOCATION:Museum\, 57 Musconetcong River Rd\,\, Hampton\, NJ\, 08827\, United States
ATTACH;FMTTYPE=image/jpeg:https://lebanontownship.net/wp-content/uploads/2026/03/Childrens-Craft-Story-Time-scaled.jpg
END:VEVENT
BEGIN:VEVENT
DTSTART;TZID=America/New_York:20260304T100000
DTEND;TZID=America/New_York:20260304T120000
DTSTAMP:20260422T202951
CREATED:20260302T175909Z
LAST-MODIFIED:20260302T175909Z
UID:10001355-1772618400-1772625600@lebanontownship.net
SUMMARY:Adult Craft Class
DESCRIPTION:
URL:https://lebanontownship.net/event/adult-craft-class-3/2026-03-04/
LOCATION:Museum\, 57 Musconetcong River Rd\,\, Hampton\, NJ\, 08827\, United States
ATTACH;FMTTYPE=image/jpeg:https://lebanontownship.net/wp-content/uploads/2026/03/Embroidery-101-Update-scaled.jpg
END:VEVENT
BEGIN:VEVENT
DTSTART;TZID=America/New_York:20260303T190000
DTEND;TZID=America/New_York:20260303T200000
DTSTAMP:20260422T202951
CREATED:20251229T162230Z
LAST-MODIFIED:20251229T162230Z
UID:10001293-1772564400-1772568000@lebanontownship.net
SUMMARY:Planning Board Meeting
DESCRIPTION:
URL:https://lebanontownship.net/event/planning-board-meeting-3/2026-03-03/
LOCATION:Meeting Room\, 530 West Hill Rd\, Glen Gardner\, NJ\, 08826
ATTACH;FMTTYPE=image/jpeg:https://lebanontownship.net/wp-content/uploads/2023/01/qtq80-N8aOEv.jpeg
END:VEVENT
BEGIN:VEVENT
DTSTART;TZID=America/New_York:20260302T190000
DTEND;TZID=America/New_York:20260302T200000
DTSTAMP:20260422T202951
CREATED:20260224T134608Z
LAST-MODIFIED:20260224T134621Z
UID:10001342-1772478000-1772481600@lebanontownship.net
SUMMARY:Managing Deer on Township Open Space Property - During EOSC Meeting
DESCRIPTION:The public is invited to attend the Lebanon Township Environmental and Open Space Commission’s (EOSC) next meeting on March 2 at 7pm for a presentation by Jason Giroud on Readington Township’s successful deer management program on municipal open space properties.
URL:https://lebanontownship.net/event/managing-deer-on-township-open-space-property/
LOCATION:Meeting Room\, 530 West Hill Rd\, Glen Gardner\, NJ\, 08826
ATTACH;FMTTYPE=image/jpeg:https://lebanontownship.net/wp-content/uploads/2026/02/DeerManagementAd.jpg
END:VEVENT
BEGIN:VEVENT
DTSTART;TZID=America/New_York:20260302T190000
DTEND;TZID=America/New_York:20260302T200000
DTSTAMP:20260422T202951
CREATED:20241223T133941Z
LAST-MODIFIED:20260126T142338Z
UID:10001282-1772478000-1772481600@lebanontownship.net
SUMMARY:Environmental & Open Space Commission Meeting
DESCRIPTION:
URL:https://lebanontownship.net/event/environmental-open-space-commission-meeting/2026-03-02/
LOCATION:Meeting Room\, 530 West Hill Rd\, Glen Gardner\, NJ\, 08826
ATTACH;FMTTYPE=image/jpeg:https://lebanontownship.net/wp-content/uploads/2023/01/qtq80-DJdnbl-scaled.jpeg
END:VEVENT
BEGIN:VEVENT
DTSTART;TZID=America/New_York:20260226T183000
DTEND;TZID=America/New_York:20260226T200000
DTSTAMP:20260422T202951
CREATED:20260205T192923Z
LAST-MODIFIED:20260205T193609Z
UID:10001327-1772130600-1772136000@lebanontownship.net
SUMMARY:Hunterdon County Bicycle Plan Public Meeting
DESCRIPTION:
URL:https://lebanontownship.net/event/hunterdon-county-bicycle-plan-public-meeting/
LOCATION:Hunterdon County Library Complex\, 314 Route 12 East\, Flemington\, NJ\, 08822\, United States
ATTACH;FMTTYPE=image/jpeg:https://lebanontownship.net/wp-content/uploads/2026/02/Bike-Plan-Public-Meeting-Flyer-scaled.jpg
END:VEVENT
BEGIN:VEVENT
DTSTART;TZID=America/New_York:20260226T180000
DTEND;TZID=America/New_York:20260226T190000
DTSTAMP:20260422T202951
CREATED:20230307T215918Z
LAST-MODIFIED:20260226T163035Z
UID:10001343-1772128800-1772132400@lebanontownship.net
SUMMARY:Township Committee Budget Work Session
DESCRIPTION:Please take notice that in accordance with the Open Public Meetings Act\, the Township Committee will be holding Budget Work Session on the following dates: \nThursday\, January 15\, 2026 \nThursday\, February 12\, 2026 \nThursday\, February 26\, 2026 \nThe purpose of these meetings is to discuss the 2026 Budget and any other business that may be deemed necessary.   The meetings will be held at 6:00 p.m. in the Meeting Room of the Municipal Building\, 530 West Hill\, Road\, Glen Gardner\, NJ\, 08826.
URL:https://lebanontownship.net/event/township-committee-budget-work-session/2026-02-26/
LOCATION:Meeting Room\, 530 West Hill Rd\, Glen Gardner\, NJ\, 08826
ATTACH;FMTTYPE=image/jpeg:https://lebanontownship.net/wp-content/uploads/2023/03/qtq80-pnGno5-scaled.jpeg
END:VEVENT
END:VCALENDAR