BEGIN:VCALENDAR
VERSION:2.0
PRODID:-//Lebanon Township - ECPv6.15.20//NONSGML v1.0//EN
CALSCALE:GREGORIAN
METHOD:PUBLISH
X-ORIGINAL-URL:https://lebanontownship.net
X-WR-CALDESC:Events for Lebanon Township
REFRESH-INTERVAL;VALUE=DURATION:PT1H
X-Robots-Tag:noindex
X-PUBLISHED-TTL:PT1H
BEGIN:VTIMEZONE
TZID:America/New_York
BEGIN:DAYLIGHT
TZOFFSETFROM:-0500
TZOFFSETTO:-0400
TZNAME:EDT
DTSTART:20250309T070000
END:DAYLIGHT
BEGIN:STANDARD
TZOFFSETFROM:-0400
TZOFFSETTO:-0500
TZNAME:EST
DTSTART:20251102T060000
END:STANDARD
BEGIN:DAYLIGHT
TZOFFSETFROM:-0500
TZOFFSETTO:-0400
TZNAME:EDT
DTSTART:20260308T070000
END:DAYLIGHT
BEGIN:STANDARD
TZOFFSETFROM:-0400
TZOFFSETTO:-0500
TZNAME:EST
DTSTART:20261101T060000
END:STANDARD
BEGIN:DAYLIGHT
TZOFFSETFROM:-0500
TZOFFSETTO:-0400
TZNAME:EDT
DTSTART:20270314T070000
END:DAYLIGHT
BEGIN:STANDARD
TZOFFSETFROM:-0400
TZOFFSETTO:-0500
TZNAME:EST
DTSTART:20271107T060000
END:STANDARD
END:VTIMEZONE
BEGIN:VEVENT
DTSTART;TZID=America/New_York:20260401T080000
DTEND;TZID=America/New_York:20260430T170000
DTSTAMP:20260422T183612
CREATED:20260302T144619Z
LAST-MODIFIED:20260302T144925Z
UID:10001350-1775030400-1777568400@lebanontownship.net
SUMMARY:Annual Litter Clean Up
DESCRIPTION:
URL:https://lebanontownship.net/event/annual-litter-clean-up/2026-04-01/
LOCATION:NJ
ATTACH;FMTTYPE=image/jpeg:https://lebanontownship.net/wp-content/uploads/2026/03/Litter-Clean-Up-Flyer-2026-scaled.jpeg
END:VEVENT
BEGIN:VEVENT
DTSTART;TZID=America/New_York:20260418T080000
DTEND;TZID=America/New_York:20260418T113000
DTSTAMP:20260422T183612
CREATED:20260124T174836Z
LAST-MODIFIED:20260127T141723Z
UID:10001322-1776499200-1776511800@lebanontownship.net
SUMMARY:Hunterdon County Paper Shredding Event
DESCRIPTION:Location and Time: Route 12 County Complex\, Rain or shine 8 am to 11:30 am or until the trucks are full.   
URL:https://lebanontownship.net/event/hunterdon-county-paper-shredding-event/2026-04-18/
LOCATION:Hunterdon Couty Complex\, 314 State Route 12\, Flemmington\, 08822\, United States
ATTACH;FMTTYPE=image/jpeg:https://lebanontownship.net/wp-content/uploads/2026/01/Ident-a-Shred-scaled.jpg
END:VEVENT
BEGIN:VEVENT
DTSTART;TZID=America/New_York:20260422T080000
DTEND;TZID=America/New_York:20260422T170000
DTSTAMP:20260422T183612
CREATED:20260302T144619Z
LAST-MODIFIED:20260302T144925Z
UID:10001353-1776844800-1776877200@lebanontownship.net
SUMMARY:Annual Litter Clean Up
DESCRIPTION:
URL:https://lebanontownship.net/event/annual-litter-clean-up/2026-04-22/
LOCATION:NJ
ATTACH;FMTTYPE=image/jpeg:https://lebanontownship.net/wp-content/uploads/2026/03/Litter-Clean-Up-Flyer-2026-scaled.jpeg
END:VEVENT
BEGIN:VEVENT
DTSTART;TZID=America/New_York:20260422T190000
DTEND;TZID=America/New_York:20260422T200000
DTSTAMP:20260422T183612
CREATED:20260209T161957Z
LAST-MODIFIED:20260209T161957Z
UID:10001331-1776884400-1776888000@lebanontownship.net
SUMMARY:Board of Adjustment Meeting
DESCRIPTION:
URL:https://lebanontownship.net/event/board-of-adjustment-meeting/2026-04-22/
LOCATION:Meeting Room\, 530 West Hill Rd\, Glen Gardner\, NJ\, 08826
ATTACH;FMTTYPE=image/jpeg:https://lebanontownship.net/wp-content/uploads/2023/01/qtq80-pHcUx0-scaled.jpeg
END:VEVENT
BEGIN:VEVENT
DTSTART;TZID=America/New_York:20260423T183000
DTEND;TZID=America/New_York:20260423T193000
DTSTAMP:20260422T183612
CREATED:20260421T141658Z
LAST-MODIFIED:20260421T141658Z
UID:10001367-1776969000-1776972600@lebanontownship.net
SUMMARY:Volleyball Court Ribbon Cutting
DESCRIPTION:Come celebrate the opening of the 2 newly renovated Volleyball Courts at Memorial Park!
URL:https://lebanontownship.net/event/volleyball-court-ribbon-cutting/
LOCATION:Memorial Park\, Bunnvale Rd.\, Califon\, NJ\, 07830\, United States
ATTACH;FMTTYPE=image/jpeg:https://lebanontownship.net/wp-content/uploads/2026/04/Volleyball.jpeg
END:VEVENT
BEGIN:VEVENT
DTSTART;TZID=America/New_York:20260428T100000
DTEND;TZID=America/New_York:20260428T120000
DTSTAMP:20260422T183612
CREATED:20260323T124027Z
LAST-MODIFIED:20260323T124027Z
UID:10001364-1777370400-1777377600@lebanontownship.net
SUMMARY:Spring Craft Workshop
DESCRIPTION:
URL:https://lebanontownship.net/event/spring-craft-workshop/2026-04-28/
LOCATION:Museum\, 57 Musconetcong River Rd\,\, Hampton\, NJ\, 08827\, United States
ATTACH;FMTTYPE=image/jpeg:https://lebanontownship.net/wp-content/uploads/2026/03/Spring-Craft-Workshop-scaled.jpeg
END:VEVENT
BEGIN:VEVENT
DTSTART;TZID=America/New_York:20260429T080000
DTEND;TZID=America/New_York:20260429T170000
DTSTAMP:20260422T183612
CREATED:20260302T144619Z
LAST-MODIFIED:20260302T144925Z
UID:10001354-1777449600-1777482000@lebanontownship.net
SUMMARY:Annual Litter Clean Up
DESCRIPTION:
URL:https://lebanontownship.net/event/annual-litter-clean-up/2026-04-29/
LOCATION:NJ
ATTACH;FMTTYPE=image/jpeg:https://lebanontownship.net/wp-content/uploads/2026/03/Litter-Clean-Up-Flyer-2026-scaled.jpeg
END:VEVENT
BEGIN:VEVENT
DTSTART;TZID=America/New_York:20260504T190000
DTEND;TZID=America/New_York:20260504T200000
DTSTAMP:20260422T183612
CREATED:20241223T133941Z
LAST-MODIFIED:20260126T142338Z
UID:10001284-1777921200-1777924800@lebanontownship.net
SUMMARY:Environmental & Open Space Commission Meeting
DESCRIPTION:
URL:https://lebanontownship.net/event/environmental-open-space-commission-meeting/2026-05-04/
LOCATION:Meeting Room\, 530 West Hill Rd\, Glen Gardner\, NJ\, 08826
ATTACH;FMTTYPE=image/jpeg:https://lebanontownship.net/wp-content/uploads/2023/01/qtq80-DJdnbl-scaled.jpeg
END:VEVENT
BEGIN:VEVENT
DTSTART;TZID=America/New_York:20260505T190000
DTEND;TZID=America/New_York:20260505T200000
DTSTAMP:20260422T183612
CREATED:20251229T162230Z
LAST-MODIFIED:20251229T162230Z
UID:10001295-1778007600-1778011200@lebanontownship.net
SUMMARY:Planning Board Meeting
DESCRIPTION:
URL:https://lebanontownship.net/event/planning-board-meeting-3/2026-05-05/
LOCATION:Meeting Room\, 530 West Hill Rd\, Glen Gardner\, NJ\, 08826
ATTACH;FMTTYPE=image/jpeg:https://lebanontownship.net/wp-content/uploads/2023/01/qtq80-N8aOEv.jpeg
END:VEVENT
BEGIN:VEVENT
DTSTART;TZID=America/New_York:20260509T110000
DTEND;TZID=America/New_York:20260509T140000
DTSTAMP:20260422T183612
CREATED:20260415T171117Z
LAST-MODIFIED:20260415T171117Z
UID:10001366-1778324400-1778335200@lebanontownship.net
SUMMARY:An Afternoon with George Washington
DESCRIPTION:
URL:https://lebanontownship.net/event/an-afternoon-with-george-washington/
LOCATION:Museum\, 57 Musconetcong River Rd\,\, Hampton\, NJ\, 08827\, United States
ATTACH;FMTTYPE=image/jpeg:https://lebanontownship.net/wp-content/uploads/2026/04/An-Afternoon-with-George-Washington-scaled.jpg
END:VEVENT
BEGIN:VEVENT
DTSTART;TZID=America/New_York:20260512T190000
DTEND;TZID=America/New_York:20260512T200000
DTSTAMP:20260422T183612
CREATED:20251229T162718Z
LAST-MODIFIED:20260103T231202Z
UID:10001307-1778612400-1778616000@lebanontownship.net
SUMMARY:Planning Board Meeting - Alternate Meeting - If Needed
DESCRIPTION:
URL:https://lebanontownship.net/event/planning-board-meeting-alternate-meeting-if-needed/2026-05-12/
LOCATION:NJ
ATTACH;FMTTYPE=image/jpeg:https://lebanontownship.net/wp-content/uploads/2023/01/qtq80-N8aOEv.jpeg
END:VEVENT
BEGIN:VEVENT
DTSTART;TZID=America/New_York:20260513T190000
DTEND;TZID=America/New_York:20260513T200000
DTSTAMP:20260422T183612
CREATED:20250326T134248Z
LAST-MODIFIED:20251224T141006Z
UID:10001272-1778698800-1778702400@lebanontownship.net
SUMMARY:Township Committee Meeting
DESCRIPTION:
URL:https://lebanontownship.net/event/township-committee-meeting-4/2026-05-13/
LOCATION:Municipal Building\, 530 West Hill Rd\, Glen Gardner\, NJ\, 08826\, United States
ATTACH;FMTTYPE=image/jpeg:https://lebanontownship.net/wp-content/uploads/2022/10/township-committee-meeting.jpg
END:VEVENT
BEGIN:VEVENT
DTSTART;TZID=America/New_York:20260527T190000
DTEND;TZID=America/New_York:20260527T200000
DTSTAMP:20260422T183612
CREATED:20260209T161957Z
LAST-MODIFIED:20260209T161957Z
UID:10001332-1779908400-1779912000@lebanontownship.net
SUMMARY:Board of Adjustment Meeting
DESCRIPTION:
URL:https://lebanontownship.net/event/board-of-adjustment-meeting/2026-05-27/
LOCATION:Meeting Room\, 530 West Hill Rd\, Glen Gardner\, NJ\, 08826
ATTACH;FMTTYPE=image/jpeg:https://lebanontownship.net/wp-content/uploads/2023/01/qtq80-pHcUx0-scaled.jpeg
END:VEVENT
BEGIN:VEVENT
DTSTART;TZID=America/New_York:20260530T080000
DTEND;TZID=America/New_York:20260530T113000
DTSTAMP:20260422T183612
CREATED:20260124T174836Z
LAST-MODIFIED:20260127T141723Z
UID:10001323-1780128000-1780140600@lebanontownship.net
SUMMARY:Hunterdon County Paper Shredding Event
DESCRIPTION:Location and Time: Route 12 County Complex\, Rain or shine 8 am to 11:30 am or until the trucks are full.   
URL:https://lebanontownship.net/event/hunterdon-county-paper-shredding-event/2026-05-30/
LOCATION:Hunterdon Couty Complex\, 314 State Route 12\, Flemmington\, 08822\, United States
ATTACH;FMTTYPE=image/jpeg:https://lebanontownship.net/wp-content/uploads/2026/01/Ident-a-Shred-scaled.jpg
END:VEVENT
BEGIN:VEVENT
DTSTART;TZID=America/New_York:20260602T190000
DTEND;TZID=America/New_York:20260602T200000
DTSTAMP:20260422T183612
CREATED:20251229T162230Z
LAST-MODIFIED:20251229T162230Z
UID:10001296-1780426800-1780430400@lebanontownship.net
SUMMARY:Planning Board Meeting
DESCRIPTION:
URL:https://lebanontownship.net/event/planning-board-meeting-3/2026-06-02/
LOCATION:Meeting Room\, 530 West Hill Rd\, Glen Gardner\, NJ\, 08826
ATTACH;FMTTYPE=image/jpeg:https://lebanontownship.net/wp-content/uploads/2023/01/qtq80-N8aOEv.jpeg
END:VEVENT
BEGIN:VEVENT
DTSTART;TZID=America/New_York:20260609T190000
DTEND;TZID=America/New_York:20260609T200000
DTSTAMP:20260422T183612
CREATED:20241223T133941Z
LAST-MODIFIED:20260126T142338Z
UID:10001285-1781031600-1781035200@lebanontownship.net
SUMMARY:Environmental & Open Space Commission Meeting
DESCRIPTION:
URL:https://lebanontownship.net/event/environmental-open-space-commission-meeting/2026-06-09/
LOCATION:Meeting Room\, 530 West Hill Rd\, Glen Gardner\, NJ\, 08826
ATTACH;FMTTYPE=image/jpeg:https://lebanontownship.net/wp-content/uploads/2023/01/qtq80-DJdnbl-scaled.jpeg
END:VEVENT
BEGIN:VEVENT
DTSTART;TZID=America/New_York:20260609T190000
DTEND;TZID=America/New_York:20260609T200000
DTSTAMP:20260422T183612
CREATED:20251229T162718Z
LAST-MODIFIED:20260103T231202Z
UID:10001308-1781031600-1781035200@lebanontownship.net
SUMMARY:Planning Board Meeting - Alternate Meeting - If Needed
DESCRIPTION:
URL:https://lebanontownship.net/event/planning-board-meeting-alternate-meeting-if-needed/2026-06-09/
LOCATION:NJ
ATTACH;FMTTYPE=image/jpeg:https://lebanontownship.net/wp-content/uploads/2023/01/qtq80-N8aOEv.jpeg
END:VEVENT
BEGIN:VEVENT
DTSTART;TZID=America/New_York:20260610T190000
DTEND;TZID=America/New_York:20260610T200000
DTSTAMP:20260422T183612
CREATED:20250326T134248Z
LAST-MODIFIED:20251224T141006Z
UID:10001273-1781118000-1781121600@lebanontownship.net
SUMMARY:Township Committee Meeting
DESCRIPTION:
URL:https://lebanontownship.net/event/township-committee-meeting-4/2026-06-10/
LOCATION:Municipal Building\, 530 West Hill Rd\, Glen Gardner\, NJ\, 08826\, United States
ATTACH;FMTTYPE=image/jpeg:https://lebanontownship.net/wp-content/uploads/2022/10/township-committee-meeting.jpg
END:VEVENT
BEGIN:VEVENT
DTSTART;TZID=America/New_York:20260620T090000
DTEND;TZID=America/New_York:20260620T130000
DTSTAMP:20260422T183612
CREATED:20260311T192756Z
LAST-MODIFIED:20260311T192756Z
UID:10001360-1781946000-1781960400@lebanontownship.net
SUMMARY:Hunterdon County Hazardous Waste Cleanup
DESCRIPTION:
URL:https://lebanontownship.net/event/hunterdon-county-hazardous-waste-cleanup/2026-06-20/
LOCATION:Hunterdon Couty Complex\, 314 State Route 12\, Flemmington\, 08822\, United States
ATTACH;FMTTYPE=image/jpeg:https://lebanontownship.net/wp-content/uploads/2026/03/HHW-ADD_2026-scaled.jpg
END:VEVENT
BEGIN:VEVENT
DTSTART;TZID=America/New_York:20260624T190000
DTEND;TZID=America/New_York:20260624T200000
DTSTAMP:20260422T183612
CREATED:20260209T161957Z
LAST-MODIFIED:20260209T161957Z
UID:10001333-1782327600-1782331200@lebanontownship.net
SUMMARY:Board of Adjustment Meeting
DESCRIPTION:
URL:https://lebanontownship.net/event/board-of-adjustment-meeting/2026-06-24/
LOCATION:Meeting Room\, 530 West Hill Rd\, Glen Gardner\, NJ\, 08826
ATTACH;FMTTYPE=image/jpeg:https://lebanontownship.net/wp-content/uploads/2023/01/qtq80-pHcUx0-scaled.jpeg
END:VEVENT
BEGIN:VEVENT
DTSTART;TZID=America/New_York:20260627T090000
DTEND;TZID=America/New_York:20260627T130000
DTSTAMP:20260422T183612
CREATED:20260124T174539Z
LAST-MODIFIED:20260124T174539Z
UID:10001319-1782550800-1782565200@lebanontownship.net
SUMMARY:Hunterdon County Electronics Recycling Event
DESCRIPTION:**NOW ACCEPTING MOST ITEMS WITH A PLUG. WE WILL BE TAKING AIR CONDITIONERS AND DEHUMIDIFIERS AT ALL ELECTRONIC EVENTS.** \nLocation and Time: Route 12 County Complex\, Rain or shine 9 am to 1 pm
URL:https://lebanontownship.net/event/hunterdon-county-electronics-recycling-event/2026-06-27/
LOCATION:Hunterdon Couty Complex\, 314 State Route 12\, Flemmington\, 08822\, United States
ATTACH;FMTTYPE=image/jpeg:https://lebanontownship.net/wp-content/uploads/2026/01/download.jpg
END:VEVENT
BEGIN:VEVENT
DTSTART;TZID=America/New_York:20260707T190000
DTEND;TZID=America/New_York:20260707T200000
DTSTAMP:20260422T183612
CREATED:20251229T162230Z
LAST-MODIFIED:20251229T162230Z
UID:10001297-1783450800-1783454400@lebanontownship.net
SUMMARY:Planning Board Meeting
DESCRIPTION:
URL:https://lebanontownship.net/event/planning-board-meeting-3/2026-07-07/
LOCATION:Meeting Room\, 530 West Hill Rd\, Glen Gardner\, NJ\, 08826
ATTACH;FMTTYPE=image/jpeg:https://lebanontownship.net/wp-content/uploads/2023/01/qtq80-N8aOEv.jpeg
END:VEVENT
BEGIN:VEVENT
DTSTART;TZID=America/New_York:20260708T190000
DTEND;TZID=America/New_York:20260708T200000
DTSTAMP:20260422T183612
CREATED:20250326T134248Z
LAST-MODIFIED:20251224T141006Z
UID:10001274-1783537200-1783540800@lebanontownship.net
SUMMARY:Township Committee Meeting
DESCRIPTION:
URL:https://lebanontownship.net/event/township-committee-meeting-4/2026-07-08/
LOCATION:Municipal Building\, 530 West Hill Rd\, Glen Gardner\, NJ\, 08826\, United States
ATTACH;FMTTYPE=image/jpeg:https://lebanontownship.net/wp-content/uploads/2022/10/township-committee-meeting.jpg
END:VEVENT
BEGIN:VEVENT
DTSTART;TZID=America/New_York:20260714T190000
DTEND;TZID=America/New_York:20260714T200000
DTSTAMP:20260422T183612
CREATED:20241223T133941Z
LAST-MODIFIED:20260126T142338Z
UID:10001286-1784055600-1784059200@lebanontownship.net
SUMMARY:Environmental & Open Space Commission Meeting
DESCRIPTION:
URL:https://lebanontownship.net/event/environmental-open-space-commission-meeting/2026-07-14/
LOCATION:Meeting Room\, 530 West Hill Rd\, Glen Gardner\, NJ\, 08826
ATTACH;FMTTYPE=image/jpeg:https://lebanontownship.net/wp-content/uploads/2023/01/qtq80-DJdnbl-scaled.jpeg
END:VEVENT
BEGIN:VEVENT
DTSTART;TZID=America/New_York:20260714T190000
DTEND;TZID=America/New_York:20260714T200000
DTSTAMP:20260422T183612
CREATED:20251229T162718Z
LAST-MODIFIED:20260103T231202Z
UID:10001309-1784055600-1784059200@lebanontownship.net
SUMMARY:Planning Board Meeting - Alternate Meeting - If Needed
DESCRIPTION:
URL:https://lebanontownship.net/event/planning-board-meeting-alternate-meeting-if-needed/2026-07-14/
LOCATION:NJ
ATTACH;FMTTYPE=image/jpeg:https://lebanontownship.net/wp-content/uploads/2023/01/qtq80-N8aOEv.jpeg
END:VEVENT
BEGIN:VEVENT
DTSTART;TZID=America/New_York:20260722T190000
DTEND;TZID=America/New_York:20260722T200000
DTSTAMP:20260422T183612
CREATED:20260209T161957Z
LAST-MODIFIED:20260209T161957Z
UID:10001334-1784746800-1784750400@lebanontownship.net
SUMMARY:Board of Adjustment Meeting
DESCRIPTION:
URL:https://lebanontownship.net/event/board-of-adjustment-meeting/2026-07-22/
LOCATION:Meeting Room\, 530 West Hill Rd\, Glen Gardner\, NJ\, 08826
ATTACH;FMTTYPE=image/jpeg:https://lebanontownship.net/wp-content/uploads/2023/01/qtq80-pHcUx0-scaled.jpeg
END:VEVENT
BEGIN:VEVENT
DTSTART;TZID=America/New_York:20260803T190000
DTEND;TZID=America/New_York:20260803T200000
DTSTAMP:20260422T183612
CREATED:20241223T133941Z
LAST-MODIFIED:20260126T142338Z
UID:10001287-1785783600-1785787200@lebanontownship.net
SUMMARY:Environmental & Open Space Commission Meeting
DESCRIPTION:
URL:https://lebanontownship.net/event/environmental-open-space-commission-meeting/2026-08-03/
LOCATION:Meeting Room\, 530 West Hill Rd\, Glen Gardner\, NJ\, 08826
ATTACH;FMTTYPE=image/jpeg:https://lebanontownship.net/wp-content/uploads/2023/01/qtq80-DJdnbl-scaled.jpeg
END:VEVENT
BEGIN:VEVENT
DTSTART;TZID=America/New_York:20260804T190000
DTEND;TZID=America/New_York:20260804T200000
DTSTAMP:20260422T183612
CREATED:20251229T162230Z
LAST-MODIFIED:20251229T162230Z
UID:10001298-1785870000-1785873600@lebanontownship.net
SUMMARY:Planning Board Meeting
DESCRIPTION:
URL:https://lebanontownship.net/event/planning-board-meeting-3/2026-08-04/
LOCATION:Meeting Room\, 530 West Hill Rd\, Glen Gardner\, NJ\, 08826
ATTACH;FMTTYPE=image/jpeg:https://lebanontownship.net/wp-content/uploads/2023/01/qtq80-N8aOEv.jpeg
END:VEVENT
BEGIN:VEVENT
DTSTART;TZID=America/New_York:20260811T190000
DTEND;TZID=America/New_York:20260811T200000
DTSTAMP:20260422T183612
CREATED:20251229T162718Z
LAST-MODIFIED:20260103T231202Z
UID:10001310-1786474800-1786478400@lebanontownship.net
SUMMARY:Planning Board Meeting - Alternate Meeting - If Needed
DESCRIPTION:
URL:https://lebanontownship.net/event/planning-board-meeting-alternate-meeting-if-needed/2026-08-11/
LOCATION:NJ
ATTACH;FMTTYPE=image/jpeg:https://lebanontownship.net/wp-content/uploads/2023/01/qtq80-N8aOEv.jpeg
END:VEVENT
BEGIN:VEVENT
DTSTART;TZID=America/New_York:20260812T190000
DTEND;TZID=America/New_York:20260812T200000
DTSTAMP:20260422T183612
CREATED:20250326T134248Z
LAST-MODIFIED:20251224T141006Z
UID:10001275-1786561200-1786564800@lebanontownship.net
SUMMARY:Township Committee Meeting
DESCRIPTION:
URL:https://lebanontownship.net/event/township-committee-meeting-4/2026-08-12/
LOCATION:Municipal Building\, 530 West Hill Rd\, Glen Gardner\, NJ\, 08826\, United States
ATTACH;FMTTYPE=image/jpeg:https://lebanontownship.net/wp-content/uploads/2022/10/township-committee-meeting.jpg
END:VEVENT
END:VCALENDAR