BEGIN:VCALENDAR
VERSION:2.0
PRODID:-//Lebanon Township - ECPv6.15.20//NONSGML v1.0//EN
CALSCALE:GREGORIAN
METHOD:PUBLISH
X-ORIGINAL-URL:https://lebanontownship.net
X-WR-CALDESC:Events for Lebanon Township
REFRESH-INTERVAL;VALUE=DURATION:PT1H
X-Robots-Tag:noindex
X-PUBLISHED-TTL:PT1H
BEGIN:VTIMEZONE
TZID:America/New_York
BEGIN:DAYLIGHT
TZOFFSETFROM:-0500
TZOFFSETTO:-0400
TZNAME:EDT
DTSTART:20230312T070000
END:DAYLIGHT
BEGIN:STANDARD
TZOFFSETFROM:-0400
TZOFFSETTO:-0500
TZNAME:EST
DTSTART:20231105T060000
END:STANDARD
BEGIN:DAYLIGHT
TZOFFSETFROM:-0500
TZOFFSETTO:-0400
TZNAME:EDT
DTSTART:20240310T070000
END:DAYLIGHT
BEGIN:STANDARD
TZOFFSETFROM:-0400
TZOFFSETTO:-0500
TZNAME:EST
DTSTART:20241103T060000
END:STANDARD
BEGIN:DAYLIGHT
TZOFFSETFROM:-0500
TZOFFSETTO:-0400
TZNAME:EDT
DTSTART:20250309T070000
END:DAYLIGHT
BEGIN:STANDARD
TZOFFSETFROM:-0400
TZOFFSETTO:-0500
TZNAME:EST
DTSTART:20251102T060000
END:STANDARD
BEGIN:DAYLIGHT
TZOFFSETFROM:-0500
TZOFFSETTO:-0400
TZNAME:EDT
DTSTART:20260308T070000
END:DAYLIGHT
BEGIN:STANDARD
TZOFFSETFROM:-0400
TZOFFSETTO:-0500
TZNAME:EST
DTSTART:20261101T060000
END:STANDARD
END:VTIMEZONE
BEGIN:VEVENT
DTSTART;TZID=America/New_York:20241207T120000
DTEND;TZID=America/New_York:20241207T150000
DTSTAMP:20260424T221531
CREATED:20240529T201631Z
LAST-MODIFIED:20241113T124506Z
UID:10000979-1733572800-1733583600@lebanontownship.net
SUMMARY:Museum Open...Holiday Window Displays
DESCRIPTION:
URL:https://lebanontownship.net/event/museum-open-3-4/2024-12-07/
LOCATION:Museum\, 57 Musconetcong River Rd\,\, Hampton\, NJ\, 08827\, United States
ATTACH;FMTTYPE=image/png:https://lebanontownship.net/wp-content/uploads/2023/02/Lebanon-Township-Museum-Header-Photo.png
END:VEVENT
BEGIN:VEVENT
DTSTART;TZID=America/New_York:20241209T190000
DTEND;TZID=America/New_York:20241209T200000
DTSTAMP:20260424T221531
CREATED:20240506T201926Z
LAST-MODIFIED:20240506T202211Z
UID:10000891-1733770800-1733774400@lebanontownship.net
SUMMARY:Memorial Park Committee Meeting
DESCRIPTION:The Committee meets the 2nd Monday of the month at 7:00 pm at the Lebanon Township Municipal Building. All meeting end times are tentative. \n 
URL:https://lebanontownship.net/event/memorial-park-committee-meeting-2-2-2/2024-12-09/
LOCATION:Meeting Room\, 530 West Hill Rd\, Glen Gardner\, NJ\, 08826
ATTACH;FMTTYPE=image/jpeg:https://lebanontownship.net/wp-content/uploads/2022/10/PXL_20221030_200652395-scaled.jpg
END:VEVENT
BEGIN:VEVENT
DTSTART;TZID=America/New_York:20241211T190000
DTEND;TZID=America/New_York:20241211T200000
DTSTAMP:20260424T221531
CREATED:20240212T200225Z
LAST-MODIFIED:20241204T155723Z
UID:10001006-1733943600-1733947200@lebanontownship.net
SUMMARY:Board of Adjustment Meeting
DESCRIPTION:
URL:https://lebanontownship.net/event/board-of-adjustment-2/2024-12-11/
LOCATION:Municipal Building\, 530 West Hill Rd\, Glen Gardner\, NJ\, 08826\, United States
ATTACH;FMTTYPE=image/jpeg:https://lebanontownship.net/wp-content/uploads/2023/01/qtq80-pHcUx0-scaled.jpeg
END:VEVENT
BEGIN:VEVENT
DTSTART;TZID=America/New_York:20241211T190000
DTEND;TZID=America/New_York:20241211T200000
DTSTAMP:20260424T221531
CREATED:20240403T185802Z
LAST-MODIFIED:20240403T185825Z
UID:10000873-1733943600-1733947200@lebanontownship.net
SUMMARY:Library Committee Meeting
DESCRIPTION:The Library Committee meets the 2nd Wednesday of the month at 7:00 pm at Bunnvale Library\, 7 Bunnvale Road\, Califon\, NJ 07830.  The Committee does not meet in August.
URL:https://lebanontownship.net/event/library-committee-meeting/2024-12-11/
LOCATION:Bunnvale Library\, 7 Bunnvale Road\, Califon\, NJ\, 07830\, United States
ATTACH;FMTTYPE=image/jpeg:https://lebanontownship.net/wp-content/uploads/2022/10/bunnvale_library.jpeg
END:VEVENT
BEGIN:VEVENT
DTSTART;TZID=America/New_York:20241212T150000
DTEND;TZID=America/New_York:20241212T180000
DTSTAMP:20260424T221531
CREATED:20240529T201631Z
LAST-MODIFIED:20241113T124506Z
UID:10000980-1734015600-1734026400@lebanontownship.net
SUMMARY:Museum Open...Holiday Window Displays
DESCRIPTION:
URL:https://lebanontownship.net/event/museum-open-3-4/2024-12-12/
LOCATION:Museum\, 57 Musconetcong River Rd\,\, Hampton\, NJ\, 08827\, United States
ATTACH;FMTTYPE=image/png:https://lebanontownship.net/wp-content/uploads/2023/02/Lebanon-Township-Museum-Header-Photo.png
END:VEVENT
BEGIN:VEVENT
DTSTART;TZID=America/New_York:20241212T190000
DTEND;TZID=America/New_York:20241212T200000
DTSTAMP:20260424T221531
CREATED:20240912T173223Z
LAST-MODIFIED:20240912T173224Z
UID:10000982-1734030000-1734033600@lebanontownship.net
SUMMARY:Historians Committee Meeting
DESCRIPTION:The Historians meet the 2nd Thursday of the month at 7:00 pm  Lebanon Twp. Museum. \nNO MEETINGS JULY AND AUGUST 2024. \nAll meeting end times are tentative.
URL:https://lebanontownship.net/event/historians-committee-meeting-2-2-2-2/2024-12-12/
LOCATION:Museum\, 57 Musconetcong River Rd\,\, Hampton\, NJ\, 08827\, United States
ATTACH;FMTTYPE=image/jpeg:https://lebanontownship.net/wp-content/uploads/2022/10/museum.jpg
END:VEVENT
BEGIN:VEVENT
DTSTART;TZID=America/New_York:20241214T120000
DTEND;TZID=America/New_York:20241214T150000
DTSTAMP:20260424T221531
CREATED:20240529T201631Z
LAST-MODIFIED:20241113T124506Z
UID:10001005-1734177600-1734188400@lebanontownship.net
SUMMARY:Museum Open...Holiday Window Displays
DESCRIPTION:
URL:https://lebanontownship.net/event/museum-open-3-4/2024-12-14/
LOCATION:Museum\, 57 Musconetcong River Rd\,\, Hampton\, NJ\, 08827\, United States
ATTACH;FMTTYPE=image/png:https://lebanontownship.net/wp-content/uploads/2023/02/Lebanon-Township-Museum-Header-Photo.png
END:VEVENT
BEGIN:VEVENT
DTSTART;TZID=America/New_York:20241214T120000
DTEND;TZID=America/New_York:20241214T153000
DTSTAMP:20260424T221531
CREATED:20241213T124343Z
LAST-MODIFIED:20241213T124343Z
UID:10001007-1734177600-1734190200@lebanontownship.net
SUMMARY:Holiday Party at the Museum
DESCRIPTION:Please join the Lebanon Township Historian’s for a Holiday Party at the Museum!
URL:https://lebanontownship.net/event/holiday-party-at-the-museum/
LOCATION:Museum\, 57 Musconetcong River Rd\,\, Hampton\, NJ\, 08827\, United States
ATTACH;FMTTYPE=image/jpeg:https://lebanontownship.net/wp-content/uploads/2024/12/IMG_9323.jpeg
END:VEVENT
BEGIN:VEVENT
DTSTART;TZID=America/New_York:20241218T180000
DTEND;TZID=America/New_York:20241218T190000
DTSTAMP:20260424T221531
CREATED:20240510T151757Z
LAST-MODIFIED:20241209T173227Z
UID:10000895-1734544800-1734548400@lebanontownship.net
SUMMARY:Township Committee - Special Meeting
DESCRIPTION:Municipal Building Meeting Room\, 530 West Hill Road\, Glen Gardner\, NJ 08826.
URL:https://lebanontownship.net/event/township-committee-special-meeting-2/
LOCATION:Meeting Room\, 530 West Hill Rd\, Glen Gardner\, NJ\, 08826
ATTACH;FMTTYPE=image/jpeg:https://lebanontownship.net/wp-content/uploads/2022/10/Depositphotos_13534536_original-300x222-1.jpg
END:VEVENT
BEGIN:VEVENT
DTSTART;TZID=America/New_York:20241218T190000
DTEND;TZID=America/New_York:20241218T200000
DTSTAMP:20260424T221531
CREATED:20240606T152027Z
LAST-MODIFIED:20241017T144949Z
UID:10000924-1734548400-1734552000@lebanontownship.net
SUMMARY:Township Committee Meeting
DESCRIPTION:Township Committee Meetings are held the 1st & 3rd Wednesday of each month at 7:00 pm. \nNO MEETING 7/3/2024 and 8/7/2024. \nNO MEETING 11/20/2024.
URL:https://lebanontownship.net/event/township-committee-meeting-2/2024-12-18/
LOCATION:Meeting Room\, 530 West Hill Rd\, Glen Gardner\, NJ\, 08826
ATTACH;FMTTYPE=image/jpeg:https://lebanontownship.net/wp-content/uploads/2022/10/township-committee-meeting.jpg
END:VEVENT
BEGIN:VEVENT
DTSTART;TZID=America/New_York:20250103T150000
DTEND;TZID=America/New_York:20250103T170000
DTSTAMP:20260424T221531
CREATED:20240606T144552Z
LAST-MODIFIED:20240606T144717Z
UID:10000902-1735916400-1735923600@lebanontownship.net
SUMMARY:Township Committee Re-Organization Meeting
DESCRIPTION:Annual Re-Organization Meeting of the Township Committee at 3:00 p.m.
URL:https://lebanontownship.net/event/township-committee-re-organization-meeting/
LOCATION:Meeting Room\, 530 West Hill Rd\, Glen Gardner\, NJ\, 08826
ATTACH;FMTTYPE=image/jpeg:https://lebanontownship.net/wp-content/uploads/2023/11/qtq80-3BLccR.jpeg
END:VEVENT
BEGIN:VEVENT
DTSTART;TZID=America/New_York:20250109T190000
DTEND;TZID=America/New_York:20250109T200000
DTSTAMP:20260424T221531
CREATED:20250108T164915Z
LAST-MODIFIED:20251216T144130Z
UID:10001044-1736449200-1736452800@lebanontownship.net
SUMMARY:Historians Committee Meeting
DESCRIPTION:
URL:https://lebanontownship.net/event/historians-committee-meeting/2025-01-09/
LOCATION:Museum\, 57 Musconetcong River Rd\,\, Hampton\, NJ\, 08827\, United States
ATTACH;FMTTYPE=image/jpeg:https://lebanontownship.net/wp-content/uploads/2022/10/museum.jpg
END:VEVENT
BEGIN:VEVENT
DTSTART;TZID=America/New_York:20250114T100000
DTEND;TZID=America/New_York:20250114T120000
DTSTAMP:20260424T221531
CREATED:20250114T141457Z
LAST-MODIFIED:20251031T125313Z
UID:10001107-1736848800-1736856000@lebanontownship.net
SUMMARY:Museum Open
DESCRIPTION:
URL:https://lebanontownship.net/event/museum-open-2/2025-01-14/
LOCATION:Museum\, 57 Musconetcong River Rd\,\, Hampton\, NJ\, 08827\, United States
ATTACH;FMTTYPE=image/jpeg:https://lebanontownship.net/wp-content/uploads/2022/10/museum.jpg
END:VEVENT
BEGIN:VEVENT
DTSTART;TZID=America/New_York:20250115T173000
DTEND;TZID=America/New_York:20250115T183000
DTSTAMP:20260424T221531
CREATED:20250102T152618Z
LAST-MODIFIED:20250102T152618Z
UID:10001041-1736962200-1736965800@lebanontownship.net
SUMMARY:Township Committee - Special Meeting
DESCRIPTION:
URL:https://lebanontownship.net/event/township-committee-special-meeting-3/
LOCATION:Meeting Room\, 530 West Hill Rd\, Glen Gardner\, NJ\, 08826
ATTACH;FMTTYPE=image/jpeg:https://lebanontownship.net/wp-content/uploads/2022/10/Depositphotos_13534536_original-300x222-1.jpg
END:VEVENT
BEGIN:VEVENT
DTSTART;TZID=America/New_York:20250118T110000
DTEND;TZID=America/New_York:20250118T140000
DTSTAMP:20260424T221531
CREATED:20250114T140632Z
LAST-MODIFIED:20250114T140632Z
UID:10001058-1737198000-1737208800@lebanontownship.net
SUMMARY:Museum Open
DESCRIPTION:
URL:https://lebanontownship.net/event/museum-open/2025-01-18/
LOCATION:Museum\, 57 Musconetcong River Rd\,\, Hampton\, NJ\, 08827\, United States
ATTACH;FMTTYPE=image/jpeg:https://lebanontownship.net/wp-content/uploads/2022/10/museum.jpg
END:VEVENT
BEGIN:VEVENT
DTSTART;TZID=America/New_York:20250122T180000
DTEND;TZID=America/New_York:20250122T183000
DTSTAMP:20260424T221531
CREATED:20250117T210010Z
LAST-MODIFIED:20250117T210010Z
UID:10001139-1737568800-1737570600@lebanontownship.net
SUMMARY:Township Committee - Special Meeting
DESCRIPTION:
URL:https://lebanontownship.net/event/township-committee-special-meeting-4/
LOCATION:Meeting Room\, 530 West Hill Rd\, Glen Gardner\, NJ\, 08826
ATTACH;FMTTYPE=image/jpeg:https://lebanontownship.net/wp-content/uploads/2022/10/Depositphotos_13534536_original-300x222-1.jpg
END:VEVENT
BEGIN:VEVENT
DTSTART;TZID=America/New_York:20250122T190000
DTEND;TZID=America/New_York:20250122T200000
DTSTAMP:20260424T221531
CREATED:20241226T153116Z
LAST-MODIFIED:20241226T153116Z
UID:10001020-1737572400-1737576000@lebanontownship.net
SUMMARY:Board of Adjustment Re-Organization Meeting
DESCRIPTION:Annual Re-Organization Meeting of the Township Board of Adjustment.
URL:https://lebanontownship.net/event/board-of-adjustment-re-organization-meeting-2/
LOCATION:Meeting Room\, 530 West Hill Rd\, Glen Gardner\, NJ\, 08826
ATTACH;FMTTYPE=image/jpeg:https://lebanontownship.net/wp-content/uploads/2023/01/qtq80-pHcUx0-scaled.jpeg
END:VEVENT
BEGIN:VEVENT
DTSTART;TZID=America/New_York:20250125T110000
DTEND;TZID=America/New_York:20250125T130000
DTSTAMP:20260424T221531
CREATED:20250108T162839Z
LAST-MODIFIED:20250108T162839Z
UID:10001043-1737802800-1737810000@lebanontownship.net
SUMMARY:Calling All Creative Hearts!
DESCRIPTION:The Historians are seeking volunteers of all ages to help decorate the Township Museum for Valentine’s Day.
URL:https://lebanontownship.net/event/calling-all-creative-hearts/
LOCATION:Museum\, 57 Musconetcong River Rd\,\, Hampton\, NJ\, 08827\, United States
ATTACH;FMTTYPE=image/jpeg:https://lebanontownship.net/wp-content/uploads/2025/01/Museum-Valentines-Day.jpg
END:VEVENT
BEGIN:VEVENT
DTSTART;TZID=America/New_York:20250125T110000
DTEND;TZID=America/New_York:20250125T140000
DTSTAMP:20260424T221531
CREATED:20250114T140632Z
LAST-MODIFIED:20250114T140632Z
UID:10001059-1737802800-1737813600@lebanontownship.net
SUMMARY:Museum Open
DESCRIPTION:
URL:https://lebanontownship.net/event/museum-open/2025-01-25/
LOCATION:Museum\, 57 Musconetcong River Rd\,\, Hampton\, NJ\, 08827\, United States
ATTACH;FMTTYPE=image/jpeg:https://lebanontownship.net/wp-content/uploads/2022/10/museum.jpg
END:VEVENT
BEGIN:VEVENT
DTSTART;TZID=America/New_York:20250128T100000
DTEND;TZID=America/New_York:20250128T120000
DTSTAMP:20260424T221531
CREATED:20250114T141457Z
LAST-MODIFIED:20251031T125313Z
UID:10001108-1738058400-1738065600@lebanontownship.net
SUMMARY:Museum Open
DESCRIPTION:
URL:https://lebanontownship.net/event/museum-open-2/2025-01-28/
LOCATION:Museum\, 57 Musconetcong River Rd\,\, Hampton\, NJ\, 08827\, United States
ATTACH;FMTTYPE=image/jpeg:https://lebanontownship.net/wp-content/uploads/2022/10/museum.jpg
END:VEVENT
BEGIN:VEVENT
DTSTART;TZID=America/New_York:20250201T110000
DTEND;TZID=America/New_York:20250201T140000
DTSTAMP:20260424T221531
CREATED:20250114T140632Z
LAST-MODIFIED:20250114T140632Z
UID:10001060-1738407600-1738418400@lebanontownship.net
SUMMARY:Museum Open
DESCRIPTION:
URL:https://lebanontownship.net/event/museum-open/2025-02-01/
LOCATION:Museum\, 57 Musconetcong River Rd\,\, Hampton\, NJ\, 08827\, United States
ATTACH;FMTTYPE=image/jpeg:https://lebanontownship.net/wp-content/uploads/2022/10/museum.jpg
END:VEVENT
BEGIN:VEVENT
DTSTART;TZID=America/New_York:20250204T190000
DTEND;TZID=America/New_York:20250204T200000
DTSTAMP:20260424T221531
CREATED:20241226T153349Z
LAST-MODIFIED:20241226T153349Z
UID:10001021-1738695600-1738699200@lebanontownship.net
SUMMARY:Planning Board Meeting
DESCRIPTION:
URL:https://lebanontownship.net/event/planning-board-meeting/2025-02-04/
LOCATION:Meeting Room\, 530 West Hill Rd\, Glen Gardner\, NJ\, 08826
ATTACH;FMTTYPE=image/jpeg:https://lebanontownship.net/wp-content/uploads/2023/04/qtq80-2swUNs.jpeg
END:VEVENT
BEGIN:VEVENT
DTSTART;TZID=America/New_York:20250205T190000
DTEND;TZID=America/New_York:20250205T200000
DTSTAMP:20260424T221531
CREATED:20241226T153851Z
LAST-MODIFIED:20250326T133711Z
UID:10001030-1738782000-1738785600@lebanontownship.net
SUMMARY:Township Committee Meeting
DESCRIPTION:
URL:https://lebanontownship.net/event/township-committee-meeting-3/2025-02-05/
LOCATION:Meeting Room\, 530 West Hill Rd\, Glen Gardner\, NJ\, 08826
ATTACH;FMTTYPE=image/jpeg:https://lebanontownship.net/wp-content/uploads/2022/10/township-committee-meeting.jpg
END:VEVENT
BEGIN:VEVENT
DTSTART;TZID=America/New_York:20250208T110000
DTEND;TZID=America/New_York:20250208T140000
DTSTAMP:20260424T221531
CREATED:20250114T140632Z
LAST-MODIFIED:20250114T140632Z
UID:10001061-1739012400-1739023200@lebanontownship.net
SUMMARY:Museum Open
DESCRIPTION:
URL:https://lebanontownship.net/event/museum-open/2025-02-08/
LOCATION:Museum\, 57 Musconetcong River Rd\,\, Hampton\, NJ\, 08827\, United States
ATTACH;FMTTYPE=image/jpeg:https://lebanontownship.net/wp-content/uploads/2022/10/museum.jpg
END:VEVENT
BEGIN:VEVENT
DTSTART;TZID=America/New_York:20250208T111500
DTEND;TZID=America/New_York:20250208T121500
DTSTAMP:20260424T221531
CREATED:20250114T134611Z
LAST-MODIFIED:20250114T135049Z
UID:10001057-1739013300-1739016900@lebanontownship.net
SUMMARY:Local History Then & Now
DESCRIPTION:Come listen to the ramblings of a self proclaimed New Jersey wandered as he takes us through a historical journey “Then and Now”.
URL:https://lebanontownship.net/event/local-history-then-now/
LOCATION:Museum\, 57 Musconetcong River Rd\,\, Hampton\, NJ\, 08827\, United States
ATTACH;FMTTYPE=image/jpeg:https://lebanontownship.net/wp-content/uploads/2025/01/Then-and-Now-Lecture-Helbing-Feb-8-2025-scaled.jpeg
END:VEVENT
BEGIN:VEVENT
DTSTART;TZID=America/New_York:20250211T100000
DTEND;TZID=America/New_York:20250211T120000
DTSTAMP:20260424T221531
CREATED:20250114T141457Z
LAST-MODIFIED:20251031T125313Z
UID:10001109-1739268000-1739275200@lebanontownship.net
SUMMARY:Museum Open
DESCRIPTION:
URL:https://lebanontownship.net/event/museum-open-2/2025-02-11/
LOCATION:Museum\, 57 Musconetcong River Rd\,\, Hampton\, NJ\, 08827\, United States
ATTACH;FMTTYPE=image/jpeg:https://lebanontownship.net/wp-content/uploads/2022/10/museum.jpg
END:VEVENT
BEGIN:VEVENT
DTSTART;TZID=America/New_York:20250211T100000
DTEND;TZID=America/New_York:20250211T120000
DTSTAMP:20260424T221531
CREATED:20250116T124050Z
LAST-MODIFIED:20250116T124050Z
UID:10001135-1739268000-1739275200@lebanontownship.net
SUMMARY:Children's Story Time and Craft with Miss Mary
DESCRIPTION:
URL:https://lebanontownship.net/event/childrens-story-time-and-craft-with-miss-mary/
LOCATION:Museum\, 57 Musconetcong River Rd\,\, Hampton\, NJ\, 08827\, United States
ATTACH;FMTTYPE=image/jpeg:https://lebanontownship.net/wp-content/uploads/2025/01/February-childrens-story-time-and-craft_2025-scaled.jpg
END:VEVENT
BEGIN:VEVENT
DTSTART;TZID=America/New_York:20250212T190000
DTEND;TZID=America/New_York:20250212T200000
DTSTAMP:20260424T221531
CREATED:20250108T164915Z
LAST-MODIFIED:20251216T144130Z
UID:10001141-1739386800-1739390400@lebanontownship.net
SUMMARY:Historians Committee Meeting
DESCRIPTION:
URL:https://lebanontownship.net/event/historians-committee-meeting/2025-02-12/
LOCATION:Museum\, 57 Musconetcong River Rd\,\, Hampton\, NJ\, 08827\, United States
ATTACH;FMTTYPE=image/jpeg:https://lebanontownship.net/wp-content/uploads/2022/10/museum.jpg
END:VEVENT
BEGIN:VEVENT
DTSTART;TZID=America/New_York:20250215T110000
DTEND;TZID=America/New_York:20250215T140000
DTSTAMP:20260424T221531
CREATED:20250114T140632Z
LAST-MODIFIED:20250114T140632Z
UID:10001062-1739617200-1739628000@lebanontownship.net
SUMMARY:Museum Open
DESCRIPTION:
URL:https://lebanontownship.net/event/museum-open/2025-02-15/
LOCATION:Museum\, 57 Musconetcong River Rd\,\, Hampton\, NJ\, 08827\, United States
ATTACH;FMTTYPE=image/jpeg:https://lebanontownship.net/wp-content/uploads/2022/10/museum.jpg
END:VEVENT
BEGIN:VEVENT
DTSTART;TZID=America/New_York:20250215T110000
DTEND;TZID=America/New_York:20250215T140000
DTSTAMP:20260424T221531
CREATED:20250117T205702Z
LAST-MODIFIED:20250124T124419Z
UID:10001136-1739617200-1739628000@lebanontownship.net
SUMMARY:Memory Wire Beaded Bracelets
DESCRIPTION:Seating is limited to 15 people.  Cost is $10.00 per participant.
URL:https://lebanontownship.net/event/memory-wire-beaded-bracelets/
LOCATION:Museum\, 57 Musconetcong River Rd\,\, Hampton\, NJ\, 08827\, United States
ATTACH;FMTTYPE=image/jpeg:https://lebanontownship.net/wp-content/uploads/2025/01/Bracelet-Class-1.jpg
END:VEVENT
END:VCALENDAR