BEGIN:VCALENDAR
VERSION:2.0
PRODID:-//Lebanon Township - ECPv6.15.20//NONSGML v1.0//EN
CALSCALE:GREGORIAN
METHOD:PUBLISH
X-WR-CALNAME:Lebanon Township
X-ORIGINAL-URL:https://lebanontownship.net
X-WR-CALDESC:Events for Lebanon Township
REFRESH-INTERVAL;VALUE=DURATION:PT1H
X-Robots-Tag:noindex
X-PUBLISHED-TTL:PT1H
BEGIN:VTIMEZONE
TZID:America/New_York
BEGIN:DAYLIGHT
TZOFFSETFROM:-0500
TZOFFSETTO:-0400
TZNAME:EDT
DTSTART:20220313T070000
END:DAYLIGHT
BEGIN:STANDARD
TZOFFSETFROM:-0400
TZOFFSETTO:-0500
TZNAME:EST
DTSTART:20221106T060000
END:STANDARD
BEGIN:DAYLIGHT
TZOFFSETFROM:-0500
TZOFFSETTO:-0400
TZNAME:EDT
DTSTART:20230312T070000
END:DAYLIGHT
BEGIN:STANDARD
TZOFFSETFROM:-0400
TZOFFSETTO:-0500
TZNAME:EST
DTSTART:20231105T060000
END:STANDARD
BEGIN:DAYLIGHT
TZOFFSETFROM:-0500
TZOFFSETTO:-0400
TZNAME:EDT
DTSTART:20240310T070000
END:DAYLIGHT
BEGIN:STANDARD
TZOFFSETFROM:-0400
TZOFFSETTO:-0500
TZNAME:EST
DTSTART:20241103T060000
END:STANDARD
END:VTIMEZONE
BEGIN:VEVENT
DTSTART;TZID=America/New_York:20231206T060000
DTEND;TZID=America/New_York:20231206T060000
DTSTAMP:20260423T050332
CREATED:20230307T165042Z
LAST-MODIFIED:20240925T175753Z
UID:10000983-1701842400-1701842400@lebanontownship.net
SUMMARY:Planning Board Meeting
DESCRIPTION:PLANNING BOARD MEETING SCHEDULE: \nPlease take notice that in accordance with the Open Public Meetings Act\, Lebanon Township Planning Board will meet on the following Tuesday’s: \n\nJanuary 16\, 2024\nFebruary 6\, 2024\nMarch 5\, 2024\nApril 2\, 2024\nMay 7\, 2024\nJune 4\, 2024 – CANCELLED\nJuly 2\, 2024\nAugust 20\, 2024 – CANCELLED\nSeptember 3\, 2024 – CANCELLED\nSeptember 17\, 2024\nOctober 1\, 2024 – CANCELLED\nOctober 15\, 2024 – CANCELLED\nNO NOVEMBER MEETING\nDecember 3\, 2024\n\nMeetings will be held at 7:00 p.m. in the Meeting Room in the Municipal Building\, 530 West Hill Road\, Glen Gardner\, NJ 08826.
URL:https://lebanontownship.net/event/planning-board-meeting-5/2023-12-06/
LOCATION:Meeting Room\, 530 West Hill Rd\, Glen Gardner\, NJ\, 08826
ATTACH;FMTTYPE=image/jpeg:https://lebanontownship.net/wp-content/uploads/2023/01/qtq80-N8aOEv.jpeg
END:VEVENT
BEGIN:VEVENT
DTSTART;TZID=America/New_York:20231205T080000
DTEND;TZID=America/New_York:20231205T170000
DTSTAMP:20260423T050332
CREATED:20230307T165042Z
LAST-MODIFIED:20240925T175753Z
UID:10000971-1701763200-1701795600@lebanontownship.net
SUMMARY:Planning Board Meeting
DESCRIPTION:PLANNING BOARD MEETING SCHEDULE: \nPlease take notice that in accordance with the Open Public Meetings Act\, Lebanon Township Planning Board will meet on the following Tuesday’s: \n\nJanuary 16\, 2024\nFebruary 6\, 2024\nMarch 5\, 2024\nApril 2\, 2024\nMay 7\, 2024\nJune 4\, 2024 – CANCELLED\nJuly 2\, 2024\nAugust 20\, 2024 – CANCELLED\nSeptember 3\, 2024 – CANCELLED\nSeptember 17\, 2024\nOctober 1\, 2024 – CANCELLED\nOctober 15\, 2024 – CANCELLED\nNO NOVEMBER MEETING\nDecember 3\, 2024\n\nMeetings will be held at 7:00 p.m. in the Meeting Room in the Municipal Building\, 530 West Hill Road\, Glen Gardner\, NJ 08826.
URL:https://lebanontownship.net/event/planning-board-meeting-5/2023-12-05/
LOCATION:Meeting Room\, 530 West Hill Rd\, Glen Gardner\, NJ\, 08826
ATTACH;FMTTYPE=image/jpeg:https://lebanontownship.net/wp-content/uploads/2023/01/qtq80-N8aOEv.jpeg
END:VEVENT
END:VCALENDAR