BEGIN:VCALENDAR
VERSION:2.0
PRODID:-//Lebanon Township - ECPv6.15.20//NONSGML v1.0//EN
CALSCALE:GREGORIAN
METHOD:PUBLISH
X-WR-CALNAME:Lebanon Township
X-ORIGINAL-URL:https://lebanontownship.net
X-WR-CALDESC:Events for Lebanon Township
REFRESH-INTERVAL;VALUE=DURATION:PT1H
X-Robots-Tag:noindex
X-PUBLISHED-TTL:PT1H
BEGIN:VTIMEZONE
TZID:America/New_York
BEGIN:DAYLIGHT
TZOFFSETFROM:-0500
TZOFFSETTO:-0400
TZNAME:EDT
DTSTART:20240310T070000
END:DAYLIGHT
BEGIN:STANDARD
TZOFFSETFROM:-0400
TZOFFSETTO:-0500
TZNAME:EST
DTSTART:20241103T060000
END:STANDARD
BEGIN:DAYLIGHT
TZOFFSETFROM:-0500
TZOFFSETTO:-0400
TZNAME:EDT
DTSTART:20250309T070000
END:DAYLIGHT
BEGIN:STANDARD
TZOFFSETFROM:-0400
TZOFFSETTO:-0500
TZNAME:EST
DTSTART:20251102T060000
END:STANDARD
BEGIN:DAYLIGHT
TZOFFSETFROM:-0500
TZOFFSETTO:-0400
TZNAME:EDT
DTSTART:20260308T070000
END:DAYLIGHT
BEGIN:STANDARD
TZOFFSETFROM:-0400
TZOFFSETTO:-0500
TZNAME:EST
DTSTART:20261101T060000
END:STANDARD
END:VTIMEZONE
BEGIN:VEVENT
DTSTART;TZID=America/New_York:20251216T180000
DTEND;TZID=America/New_York:20251216T190000
DTSTAMP:20260423T013606
CREATED:20250714T155750Z
LAST-MODIFIED:20251216T144026Z
UID:10001225-1765908000-1765911600@lebanontownship.net
SUMMARY:Township Committee Special Meeting
DESCRIPTION:
URL:https://lebanontownship.net/event/township-committee-special-meeting-5/
LOCATION:Meeting Room\, 530 West Hill Rd\, Glen Gardner\, NJ\, 08826
ATTACH;FMTTYPE=image/jpeg:https://lebanontownship.net/wp-content/uploads/2022/10/Depositphotos_13534536_original-300x222-1.jpg
END:VEVENT
BEGIN:VEVENT
DTSTART;TZID=America/New_York:20251213T110000
DTEND;TZID=America/New_York:20251213T140000
DTSTAMP:20260423T013606
CREATED:20251021T131813Z
LAST-MODIFIED:20251021T131813Z
UID:10001257-1765623600-1765634400@lebanontownship.net
SUMMARY:Holiday Windows at the Museum
DESCRIPTION:
URL:https://lebanontownship.net/event/holiday-windows-at-the-museum/2025-12-13/
LOCATION:Museum\, 57 Musconetcong River Rd\,\, Hampton\, NJ\, 08827\, United States
ATTACH;FMTTYPE=image/jpeg:https://lebanontownship.net/wp-content/uploads/2025/10/Holiday-Windows-scaled.jpeg
END:VEVENT
BEGIN:VEVENT
DTSTART;TZID=America/New_York:20251213T110000
DTEND;TZID=America/New_York:20251213T140000
DTSTAMP:20260423T013606
CREATED:20250403T173358Z
LAST-MODIFIED:20251114T161024Z
UID:10001105-1765623600-1765634400@lebanontownship.net
SUMMARY:Museum Open
DESCRIPTION:
URL:https://lebanontownship.net/event/museum-open-3/2025-12-13/
LOCATION:Museum\, 57 Musconetcong River Rd\,\, Hampton\, NJ\, 08827\, United States
ATTACH;FMTTYPE=image/jpeg:https://lebanontownship.net/wp-content/uploads/2022/10/museum.jpg
END:VEVENT
BEGIN:VEVENT
DTSTART;TZID=America/New_York:20251209T100000
DTEND;TZID=America/New_York:20251209T120000
DTSTAMP:20260423T013606
CREATED:20250114T141457Z
LAST-MODIFIED:20251031T125313Z
UID:10001129-1765274400-1765281600@lebanontownship.net
SUMMARY:Museum Open
DESCRIPTION:
URL:https://lebanontownship.net/event/museum-open-2/2025-12-09/
LOCATION:Museum\, 57 Musconetcong River Rd\,\, Hampton\, NJ\, 08827\, United States
ATTACH;FMTTYPE=image/jpeg:https://lebanontownship.net/wp-content/uploads/2022/10/museum.jpg
END:VEVENT
BEGIN:VEVENT
DTSTART;TZID=America/New_York:20251206T153000
DTEND;TZID=America/New_York:20251206T180000
DTSTAMP:20260423T013606
CREATED:20251114T153606Z
LAST-MODIFIED:20251114T153606Z
UID:10001262-1765035000-1765044000@lebanontownship.net
SUMMARY:Annual Tree Lighting and Visit from Santa
DESCRIPTION:
URL:https://lebanontownship.net/event/annual-tree-lighting-and-visit-from-santa/
LOCATION:Municipal Building\, 530 West Hill Rd\, Glen Gardner\, NJ\, 08826\, United States
ATTACH;FMTTYPE=image/jpeg:https://lebanontownship.net/wp-content/uploads/2025/11/Tree-Lighting-12-6-2025.jpg
END:VEVENT
BEGIN:VEVENT
DTSTART;TZID=America/New_York:20251206T110000
DTEND;TZID=America/New_York:20251206T140000
DTSTAMP:20260423T013606
CREATED:20251021T131813Z
LAST-MODIFIED:20251021T131813Z
UID:10001256-1765018800-1765029600@lebanontownship.net
SUMMARY:Holiday Windows at the Museum
DESCRIPTION:
URL:https://lebanontownship.net/event/holiday-windows-at-the-museum/2025-12-06/
LOCATION:Museum\, 57 Musconetcong River Rd\,\, Hampton\, NJ\, 08827\, United States
ATTACH;FMTTYPE=image/jpeg:https://lebanontownship.net/wp-content/uploads/2025/10/Holiday-Windows-scaled.jpeg
END:VEVENT
BEGIN:VEVENT
DTSTART;TZID=America/New_York:20251206T110000
DTEND;TZID=America/New_York:20251206T140000
DTSTAMP:20260423T013606
CREATED:20250403T173358Z
LAST-MODIFIED:20251114T161024Z
UID:10001104-1765018800-1765029600@lebanontownship.net
SUMMARY:Museum Open
DESCRIPTION:
URL:https://lebanontownship.net/event/museum-open-3/2025-12-06/
LOCATION:Museum\, 57 Musconetcong River Rd\,\, Hampton\, NJ\, 08827\, United States
ATTACH;FMTTYPE=image/jpeg:https://lebanontownship.net/wp-content/uploads/2022/10/museum.jpg
END:VEVENT
BEGIN:VEVENT
DTSTART;TZID=America/New_York:20251204T193000
DTEND;TZID=America/New_York:20251204T203000
DTSTAMP:20260423T013606
CREATED:20251103T133329Z
LAST-MODIFIED:20251103T133330Z
UID:10001216-1764876600-1764880200@lebanontownship.net
SUMMARY:Recreation Commission Meeting
DESCRIPTION:  \n 
URL:https://lebanontownship.net/event/recreation-commission-meeting-3-3-4-2-2-2/2025-12-04/
LOCATION:Meeting Room\, 530 West Hill Rd\, Glen Gardner\, NJ\, 08826
ATTACH;FMTTYPE=image/jpeg:https://lebanontownship.net/wp-content/uploads/2023/01/qtq80-diKXrx.jpeg
END:VEVENT
BEGIN:VEVENT
DTSTART;TZID=America/New_York:20251203T190000
DTEND;TZID=America/New_York:20251203T200000
DTSTAMP:20260423T013606
CREATED:20241226T153851Z
LAST-MODIFIED:20250326T133711Z
UID:10001040-1764788400-1764792000@lebanontownship.net
SUMMARY:Township Committee Meeting
DESCRIPTION:
URL:https://lebanontownship.net/event/township-committee-meeting-3/2025-12-03/
LOCATION:Meeting Room\, 530 West Hill Rd\, Glen Gardner\, NJ\, 08826
ATTACH;FMTTYPE=image/jpeg:https://lebanontownship.net/wp-content/uploads/2022/10/township-committee-meeting.jpg
END:VEVENT
BEGIN:VEVENT
DTSTART;TZID=America/New_York:20251202T190000
DTEND;TZID=America/New_York:20251202T200000
DTSTAMP:20260423T013606
CREATED:20251103T202019Z
LAST-MODIFIED:20251103T202020Z
UID:10001227-1764702000-1764705600@lebanontownship.net
SUMMARY:Planning Board Meeting
DESCRIPTION:
URL:https://lebanontownship.net/event/planning-board-meeting-2-2-2-2/
LOCATION:Meeting Room\, 530 West Hill Rd\, Glen Gardner\, NJ\, 08826
ATTACH;FMTTYPE=image/jpeg:https://lebanontownship.net/wp-content/uploads/2023/04/qtq80-2swUNs.jpeg
END:VEVENT
BEGIN:VEVENT
DTSTART;TZID=America/New_York:20251129T110000
DTEND;TZID=America/New_York:20251129T140000
DTSTAMP:20260423T013606
CREATED:20250403T173358Z
LAST-MODIFIED:20251114T161024Z
UID:10001103-1764414000-1764424800@lebanontownship.net
SUMMARY:Museum Open
DESCRIPTION:
URL:https://lebanontownship.net/event/museum-open-3/2025-11-29/
LOCATION:Museum\, 57 Musconetcong River Rd\,\, Hampton\, NJ\, 08827\, United States
ATTACH;FMTTYPE=image/jpeg:https://lebanontownship.net/wp-content/uploads/2022/10/museum.jpg
END:VEVENT
BEGIN:VEVENT
DTSTART;TZID=America/New_York:20251125T100000
DTEND;TZID=America/New_York:20251125T140000
DTSTAMP:20260423T013606
CREATED:20251006T193511Z
LAST-MODIFIED:20251006T193511Z
UID:10001249-1764064800-1764079200@lebanontownship.net
SUMMARY:Adult Craft
DESCRIPTION:
URL:https://lebanontownship.net/event/adult-craft-2/2025-11-25/
LOCATION:Museum\, 57 Musconetcong River Rd\,\, Hampton\, NJ\, 08827\, United States
ATTACH;FMTTYPE=image/jpeg:https://lebanontownship.net/wp-content/uploads/2025/10/LEBTWP-Adult-Craft_OctNov-2025-scaled.jpg
END:VEVENT
BEGIN:VEVENT
DTSTART;TZID=America/New_York:20251125T100000
DTEND;TZID=America/New_York:20251125T120000
DTSTAMP:20260423T013606
CREATED:20250114T141457Z
LAST-MODIFIED:20251031T125313Z
UID:10001128-1764064800-1764072000@lebanontownship.net
SUMMARY:Museum Open
DESCRIPTION:
URL:https://lebanontownship.net/event/museum-open-2/2025-11-25/
LOCATION:Museum\, 57 Musconetcong River Rd\,\, Hampton\, NJ\, 08827\, United States
ATTACH;FMTTYPE=image/jpeg:https://lebanontownship.net/wp-content/uploads/2022/10/museum.jpg
END:VEVENT
BEGIN:VEVENT
DTSTART;TZID=America/New_York:20251122T110000
DTEND;TZID=America/New_York:20251122T140000
DTSTAMP:20260423T013606
CREATED:20251021T131813Z
LAST-MODIFIED:20251021T131813Z
UID:10001255-1763809200-1763820000@lebanontownship.net
SUMMARY:Holiday Windows at the Museum
DESCRIPTION:
URL:https://lebanontownship.net/event/holiday-windows-at-the-museum/2025-11-22/
LOCATION:Museum\, 57 Musconetcong River Rd\,\, Hampton\, NJ\, 08827\, United States
ATTACH;FMTTYPE=image/jpeg:https://lebanontownship.net/wp-content/uploads/2025/10/Holiday-Windows-scaled.jpeg
END:VEVENT
BEGIN:VEVENT
DTSTART;TZID=America/New_York:20251122T090000
DTEND;TZID=America/New_York:20251122T130000
DTSTAMP:20260423T013606
CREATED:20250228T134642Z
LAST-MODIFIED:20250228T134642Z
UID:10001162-1763802000-1763816400@lebanontownship.net
SUMMARY:Hunterdon County Hazardous Waste Cleanup Day
DESCRIPTION:
URL:https://lebanontownship.net/event/hunterdon-county-hazardous-waste-cleanup-day/2025-11-22/
LOCATION:Hunterdon County Library Complex\, 314 Route 12 East\, Flemington\, NJ\, 08822\, United States
ATTACH;FMTTYPE=image/jpeg:https://lebanontownship.net/wp-content/uploads/2025/02/Hunterdon-County-Household-Hazardous-Waste-Flyer-2025-1-scaled.jpg
END:VEVENT
BEGIN:VEVENT
DTSTART;TZID=America/New_York:20251115T110000
DTEND;TZID=America/New_York:20251115T140000
DTSTAMP:20260423T013606
CREATED:20251021T131813Z
LAST-MODIFIED:20251021T131813Z
UID:10001254-1763204400-1763215200@lebanontownship.net
SUMMARY:Holiday Windows at the Museum
DESCRIPTION:
URL:https://lebanontownship.net/event/holiday-windows-at-the-museum/2025-11-15/
LOCATION:Museum\, 57 Musconetcong River Rd\,\, Hampton\, NJ\, 08827\, United States
ATTACH;FMTTYPE=image/jpeg:https://lebanontownship.net/wp-content/uploads/2025/10/Holiday-Windows-scaled.jpeg
END:VEVENT
BEGIN:VEVENT
DTSTART;TZID=America/New_York:20251115T110000
DTEND;TZID=America/New_York:20251115T140000
DTSTAMP:20260423T013606
CREATED:20250403T173358Z
LAST-MODIFIED:20251114T161024Z
UID:10001101-1763204400-1763215200@lebanontownship.net
SUMMARY:Museum Open
DESCRIPTION:
URL:https://lebanontownship.net/event/museum-open-3/2025-11-15/
LOCATION:Museum\, 57 Musconetcong River Rd\,\, Hampton\, NJ\, 08827\, United States
ATTACH;FMTTYPE=image/jpeg:https://lebanontownship.net/wp-content/uploads/2022/10/museum.jpg
END:VEVENT
BEGIN:VEVENT
DTSTART;TZID=America/New_York:20251115T090000
DTEND;TZID=America/New_York:20251115T130000
DTSTAMP:20260423T013606
CREATED:20250228T134432Z
LAST-MODIFIED:20250228T134432Z
UID:10001160-1763197200-1763211600@lebanontownship.net
SUMMARY:Hunterdon County Electronic Waste Recycling Day
DESCRIPTION:
URL:https://lebanontownship.net/event/hunterdon-county-electronic-waste-recycling-day/2025-11-15/
LOCATION:Hunterdon County Library Complex\, 314 Route 12 East\, Flemington\, NJ\, 08822\, United States
ATTACH;FMTTYPE=image/jpeg:https://lebanontownship.net/wp-content/uploads/2025/02/Hunterdon-County-E-Waste-Flyer-2025-1-scaled.jpg
END:VEVENT
BEGIN:VEVENT
DTSTART;TZID=America/New_York:20251113T190000
DTEND;TZID=America/New_York:20251113T200000
DTSTAMP:20260423T013606
CREATED:20250108T164915Z
LAST-MODIFIED:20251216T144130Z
UID:10001052-1763060400-1763064000@lebanontownship.net
SUMMARY:Historians Committee Meeting
DESCRIPTION:
URL:https://lebanontownship.net/event/historians-committee-meeting/2025-11-13/
LOCATION:Museum\, 57 Musconetcong River Rd\,\, Hampton\, NJ\, 08827\, United States
ATTACH;FMTTYPE=image/jpeg:https://lebanontownship.net/wp-content/uploads/2022/10/museum.jpg
END:VEVENT
BEGIN:VEVENT
DTSTART;TZID=America/New_York:20251112T190000
DTEND;TZID=America/New_York:20251112T200000
DTSTAMP:20260423T013606
CREATED:20250220T205423Z
LAST-MODIFIED:20251209T195522Z
UID:10001154-1762974000-1762977600@lebanontownship.net
SUMMARY:Board of Adjustment Meeting
DESCRIPTION:
URL:https://lebanontownship.net/event/board-of-adjustment/2025-11-12/
LOCATION:Meeting Room\, 530 West Hill Rd\, Glen Gardner\, NJ\, 08826
ATTACH;FMTTYPE=image/jpeg:https://lebanontownship.net/wp-content/uploads/2023/01/qtq80-pHcUx0-scaled.jpeg
END:VEVENT
BEGIN:VEVENT
DTSTART;TZID=America/New_York:20251111T100000
DTEND;TZID=America/New_York:20251111T120000
DTSTAMP:20260423T013606
CREATED:20250114T141457Z
LAST-MODIFIED:20251031T125313Z
UID:10001127-1762855200-1762862400@lebanontownship.net
SUMMARY:Museum Open
DESCRIPTION:
URL:https://lebanontownship.net/event/museum-open-2/2025-11-11/
LOCATION:Museum\, 57 Musconetcong River Rd\,\, Hampton\, NJ\, 08827\, United States
ATTACH;FMTTYPE=image/jpeg:https://lebanontownship.net/wp-content/uploads/2022/10/museum.jpg
END:VEVENT
BEGIN:VEVENT
DTSTART;TZID=America/New_York:20251108T110000
DTEND;TZID=America/New_York:20251108T140000
DTSTAMP:20260423T013606
CREATED:20251021T131813Z
LAST-MODIFIED:20251021T131813Z
UID:10001253-1762599600-1762610400@lebanontownship.net
SUMMARY:Holiday Windows at the Museum
DESCRIPTION:
URL:https://lebanontownship.net/event/holiday-windows-at-the-museum/2025-11-08/
LOCATION:Museum\, 57 Musconetcong River Rd\,\, Hampton\, NJ\, 08827\, United States
ATTACH;FMTTYPE=image/jpeg:https://lebanontownship.net/wp-content/uploads/2025/10/Holiday-Windows-scaled.jpeg
END:VEVENT
BEGIN:VEVENT
DTSTART;TZID=America/New_York:20251108T110000
DTEND;TZID=America/New_York:20251108T140000
DTSTAMP:20260423T013606
CREATED:20250403T173358Z
LAST-MODIFIED:20251114T161024Z
UID:10001100-1762599600-1762610400@lebanontownship.net
SUMMARY:Museum Open
DESCRIPTION:
URL:https://lebanontownship.net/event/museum-open-3/2025-11-08/
LOCATION:Museum\, 57 Musconetcong River Rd\,\, Hampton\, NJ\, 08827\, United States
ATTACH;FMTTYPE=image/jpeg:https://lebanontownship.net/wp-content/uploads/2022/10/museum.jpg
END:VEVENT
BEGIN:VEVENT
DTSTART;TZID=America/New_York:20251107T180000
DTEND;TZID=America/New_York:20251107T200000
DTSTAMP:20260423T013606
CREATED:20251029T135730Z
LAST-MODIFIED:20251029T135730Z
UID:10001261-1762538400-1762545600@lebanontownship.net
SUMMARY:Holiday Window Displays Decorating
DESCRIPTION:
URL:https://lebanontownship.net/event/holiday-window-displays-decorating/2025-11-07/
LOCATION:Museum\, 57 Musconetcong River Rd\,\, Hampton\, NJ\, 08827\, United States
ATTACH;FMTTYPE=image/jpeg:https://lebanontownship.net/wp-content/uploads/2025/10/Holiday-Window-Displays-2025-scaled.jpg
END:VEVENT
BEGIN:VEVENT
DTSTART;TZID=America/New_York:20251106T150000
DTEND;TZID=America/New_York:20251106T180000
DTSTAMP:20260423T013606
CREATED:20251029T135730Z
LAST-MODIFIED:20251029T135730Z
UID:10001260-1762441200-1762452000@lebanontownship.net
SUMMARY:Holiday Window Displays Decorating
DESCRIPTION:
URL:https://lebanontownship.net/event/holiday-window-displays-decorating/2025-11-06/
LOCATION:Museum\, 57 Musconetcong River Rd\,\, Hampton\, NJ\, 08827\, United States
ATTACH;FMTTYPE=image/jpeg:https://lebanontownship.net/wp-content/uploads/2025/10/Holiday-Window-Displays-2025-scaled.jpg
END:VEVENT
BEGIN:VEVENT
DTSTART;TZID=America/New_York:20251105T190000
DTEND;TZID=America/New_York:20251105T200000
DTSTAMP:20260423T013606
CREATED:20241226T153851Z
LAST-MODIFIED:20250326T133711Z
UID:10001039-1762369200-1762372800@lebanontownship.net
SUMMARY:Township Committee Meeting
DESCRIPTION:
URL:https://lebanontownship.net/event/township-committee-meeting-3/2025-11-05/
LOCATION:Meeting Room\, 530 West Hill Rd\, Glen Gardner\, NJ\, 08826
ATTACH;FMTTYPE=image/jpeg:https://lebanontownship.net/wp-content/uploads/2022/10/township-committee-meeting.jpg
END:VEVENT
BEGIN:VEVENT
DTSTART;TZID=America/New_York:20251105T100000
DTEND;TZID=America/New_York:20251105T120000
DTSTAMP:20260423T013606
CREATED:20251029T135730Z
LAST-MODIFIED:20251029T135730Z
UID:10001259-1762336800-1762344000@lebanontownship.net
SUMMARY:Holiday Window Displays Decorating
DESCRIPTION:
URL:https://lebanontownship.net/event/holiday-window-displays-decorating/2025-11-05/
LOCATION:Museum\, 57 Musconetcong River Rd\,\, Hampton\, NJ\, 08827\, United States
ATTACH;FMTTYPE=image/jpeg:https://lebanontownship.net/wp-content/uploads/2025/10/Holiday-Window-Displays-2025-scaled.jpg
END:VEVENT
BEGIN:VEVENT
DTSTART;TZID=America/New_York:20251101T183000
DTEND;TZID=America/New_York:20251101T203000
DTSTAMP:20260423T013606
CREATED:20251009T011531Z
LAST-MODIFIED:20251009T011531Z
UID:10001250-1762021800-1762029000@lebanontownship.net
SUMMARY:Ghostly Conjuring of Spooktacular Tales
DESCRIPTION:
URL:https://lebanontownship.net/event/ghostly-conjuring-of-spooktacular-tales/
LOCATION:Museum\, 57 Musconetcong River Rd\,\, Hampton\, NJ\, 08827\, United States
ATTACH;FMTTYPE=image/jpeg:https://lebanontownship.net/wp-content/uploads/2025/10/Lebanon-Township-Museum-Nov-1-scaled.jpg
END:VEVENT
BEGIN:VEVENT
DTSTART;TZID=America/New_York:20251101T090000
DTEND;TZID=America/New_York:20251101T120000
DTSTAMP:20260423T013606
CREATED:20250204T164346Z
LAST-MODIFIED:20250204T164346Z
UID:10001140-1761987600-1761998400@lebanontownship.net
SUMMARY:Free Rabies Clinic
DESCRIPTION:
URL:https://lebanontownship.net/event/free-rabies-clinic-2/
LOCATION:DPW\, 339 Newport Road\, Glen Gardner\, NJ\, 08826\, United States
ATTACH;FMTTYPE=image/jpeg:https://lebanontownship.net/wp-content/uploads/2024/10/istockphoto-466983526-612x612-1.jpg
END:VEVENT
BEGIN:VEVENT
DTSTART;TZID=America/New_York:20251028T100000
DTEND;TZID=America/New_York:20251028T140000
DTSTAMP:20260423T013606
CREATED:20251006T193511Z
LAST-MODIFIED:20251006T193511Z
UID:10001248-1761645600-1761660000@lebanontownship.net
SUMMARY:Adult Craft
DESCRIPTION:
URL:https://lebanontownship.net/event/adult-craft-2/2025-10-28/
LOCATION:Museum\, 57 Musconetcong River Rd\,\, Hampton\, NJ\, 08827\, United States
ATTACH;FMTTYPE=image/jpeg:https://lebanontownship.net/wp-content/uploads/2025/10/LEBTWP-Adult-Craft_OctNov-2025-scaled.jpg
END:VEVENT
END:VCALENDAR