BEGIN:VCALENDAR
VERSION:2.0
PRODID:-//Lebanon Township - ECPv6.15.20//NONSGML v1.0//EN
CALSCALE:GREGORIAN
METHOD:PUBLISH
X-ORIGINAL-URL:https://lebanontownship.net
X-WR-CALDESC:Events for Lebanon Township
REFRESH-INTERVAL;VALUE=DURATION:PT1H
X-Robots-Tag:noindex
X-PUBLISHED-TTL:PT1H
BEGIN:VTIMEZONE
TZID:America/New_York
BEGIN:DAYLIGHT
TZOFFSETFROM:-0500
TZOFFSETTO:-0400
TZNAME:EDT
DTSTART:20230312T070000
END:DAYLIGHT
BEGIN:STANDARD
TZOFFSETFROM:-0400
TZOFFSETTO:-0500
TZNAME:EST
DTSTART:20231105T060000
END:STANDARD
BEGIN:DAYLIGHT
TZOFFSETFROM:-0500
TZOFFSETTO:-0400
TZNAME:EDT
DTSTART:20240310T070000
END:DAYLIGHT
BEGIN:STANDARD
TZOFFSETFROM:-0400
TZOFFSETTO:-0500
TZNAME:EST
DTSTART:20241103T060000
END:STANDARD
BEGIN:DAYLIGHT
TZOFFSETFROM:-0500
TZOFFSETTO:-0400
TZNAME:EDT
DTSTART:20250309T070000
END:DAYLIGHT
BEGIN:STANDARD
TZOFFSETFROM:-0400
TZOFFSETTO:-0500
TZNAME:EST
DTSTART:20251102T060000
END:STANDARD
END:VTIMEZONE
BEGIN:VEVENT
DTSTART;TZID=America/New_York:20240507T190000
DTEND;TZID=America/New_York:20240507T200000
DTSTAMP:20260423T064213
CREATED:20230307T165042Z
LAST-MODIFIED:20240925T175753Z
UID:10000729-1715108400-1715112000@lebanontownship.net
SUMMARY:Planning Board Meeting
DESCRIPTION:PLANNING BOARD MEETING SCHEDULE: \nPlease take notice that in accordance with the Open Public Meetings Act\, Lebanon Township Planning Board will meet on the following Tuesday’s: \n\nJanuary 16\, 2024\nFebruary 6\, 2024\nMarch 5\, 2024\nApril 2\, 2024\nMay 7\, 2024\nJune 4\, 2024 – CANCELLED\nJuly 2\, 2024\nAugust 20\, 2024 – CANCELLED\nSeptember 3\, 2024 – CANCELLED\nSeptember 17\, 2024\nOctober 1\, 2024 – CANCELLED\nOctober 15\, 2024 – CANCELLED\nNO NOVEMBER MEETING\nDecember 3\, 2024\n\nMeetings will be held at 7:00 p.m. in the Meeting Room in the Municipal Building\, 530 West Hill Road\, Glen Gardner\, NJ 08826.
URL:https://lebanontownship.net/event/planning-board-meeting-5/2024-05-07/
LOCATION:Meeting Room\, 530 West Hill Rd\, Glen Gardner\, NJ\, 08826
ATTACH;FMTTYPE=image/jpeg:https://lebanontownship.net/wp-content/uploads/2023/01/qtq80-N8aOEv.jpeg
END:VEVENT
BEGIN:VEVENT
DTSTART;TZID=America/New_York:20240508T190000
DTEND;TZID=America/New_York:20240508T200000
DTSTAMP:20260423T064213
CREATED:20240403T185802Z
LAST-MODIFIED:20240403T185825Z
UID:10000867-1715194800-1715198400@lebanontownship.net
SUMMARY:Library Committee Meeting
DESCRIPTION:The Library Committee meets the 2nd Wednesday of the month at 7:00 pm at Bunnvale Library\, 7 Bunnvale Road\, Califon\, NJ 07830.  The Committee does not meet in August.
URL:https://lebanontownship.net/event/library-committee-meeting/2024-05-08/
LOCATION:Bunnvale Library\, 7 Bunnvale Road\, Califon\, NJ\, 07830\, United States
ATTACH;FMTTYPE=image/jpeg:https://lebanontownship.net/wp-content/uploads/2022/10/bunnvale_library.jpeg
END:VEVENT
BEGIN:VEVENT
DTSTART;TZID=America/New_York:20240508T190000
DTEND;TZID=America/New_York:20240508T230000
DTSTAMP:20260423T064213
CREATED:20231220T205455Z
LAST-MODIFIED:20240909T181509Z
UID:10000695-1715194800-1715209200@lebanontownship.net
SUMMARY:Board of Adjustment Meeting
DESCRIPTION:Special Meetings of the Board of Adjustment…ONLY IF NEEDED.
URL:https://lebanontownship.net/event/board-of-adjustment-meeting-11/2024-05-08/
ATTACH;FMTTYPE=image/jpeg:https://lebanontownship.net/wp-content/uploads/2023/01/qtq80-pHcUx0-scaled.jpeg
END:VEVENT
BEGIN:VEVENT
DTSTART;TZID=America/New_York:20240509T190000
DTEND;TZID=America/New_York:20240509T200000
DTSTAMP:20260423T064213
CREATED:20230516T172352Z
LAST-MODIFIED:20240406T211732Z
UID:10000860-1715281200-1715284800@lebanontownship.net
SUMMARY:Historians Committee Meeting
DESCRIPTION:The Historians meet the 2nd Thursday of the month at 7:00 pm  Lebanon Twp. Museum. \nNO MEETINGS JULY AND AUGUST 2024. \nAll meeting end times are tentative.
URL:https://lebanontownship.net/event/historians-committee-meeting-2-2/2024-05-09/
LOCATION:Museum\, 57 Musconetcong River Rd\,\, Hampton\, NJ\, 08827\, United States
ATTACH;FMTTYPE=image/jpeg:https://lebanontownship.net/wp-content/uploads/2022/10/museum.jpg
END:VEVENT
BEGIN:VEVENT
DTSTART;TZID=America/New_York:20240511T090000
DTEND;TZID=America/New_York:20240511T120000
DTSTAMP:20260423T064213
CREATED:20240415T122358Z
LAST-MODIFIED:20240415T122358Z
UID:10000875-1715418000-1715428800@lebanontownship.net
SUMMARY:Well Water Testing
DESCRIPTION:https://lebanontownship.net/wp-content/uploads/2024/04/LebTwp-Well-Water-Testing-Info-and-Costs-2024.pdf
URL:https://lebanontownship.net/event/well-water-testing-2/
LOCATION:Municipal Building\, 530 West Hill Rd\, Glen Gardner\, NJ\, 08826\, United States
ATTACH;FMTTYPE=application/pdf:https://lebanontownship.net/wp-content/uploads/2024/04/LebTwp-Well-Water-Testing-Info-and-Costs-2024-1.pdf
END:VEVENT
BEGIN:VEVENT
DTSTART;TZID=America/New_York:20240515T190000
DTEND;TZID=America/New_York:20240515T190000
DTSTAMP:20260423T064213
CREATED:20231226T171707Z
LAST-MODIFIED:20240606T151712Z
UID:10000710-1715799600-1715799600@lebanontownship.net
SUMMARY:Township Committee Meeting
DESCRIPTION:Township Committee Meetings are held the 1st & 3rd Wednesday of each month at 7:00 pm.
URL:https://lebanontownship.net/event/township-committee-meeting-8/2024-05-15/
LOCATION:Meeting Room\, 530 West Hill Rd\, Glen Gardner\, NJ\, 08826
ATTACH;FMTTYPE=image/jpeg:https://lebanontownship.net/wp-content/uploads/2022/10/township-committee-meeting.jpg
END:VEVENT
BEGIN:VEVENT
DTSTART;TZID=America/New_York:20240515T190000
DTEND;TZID=America/New_York:20240515T190000
DTSTAMP:20260423T064213
CREATED:20240606T152027Z
LAST-MODIFIED:20241017T144949Z
UID:10000913-1715799600-1715799600@lebanontownship.net
SUMMARY:Township Committee Meeting
DESCRIPTION:Township Committee Meetings are held the 1st & 3rd Wednesday of each month at 7:00 pm. \nNO MEETING 7/3/2024 and 8/7/2024. \nNO MEETING 11/20/2024.
URL:https://lebanontownship.net/event/township-committee-meeting-2/2024-05-15/
LOCATION:Meeting Room\, 530 West Hill Rd\, Glen Gardner\, NJ\, 08826
ATTACH;FMTTYPE=image/jpeg:https://lebanontownship.net/wp-content/uploads/2022/10/township-committee-meeting.jpg
END:VEVENT
BEGIN:VEVENT
DTSTART;TZID=America/New_York:20240520T080000
DTEND;TZID=America/New_York:20240520T170000
DTSTAMP:20260423T064213
CREATED:20240506T202441Z
LAST-MODIFIED:20240506T202441Z
UID:10000892-1716192000-1716224400@lebanontownship.net
SUMMARY:Memorial Park Committee Meeting
DESCRIPTION:
URL:https://lebanontownship.net/event/memorial-park-committee-meeting/2024-05-20/1/
LOCATION:Municipal Building\, 530 West Hill Rd\, Glen Gardner\, NJ\, 08826\, United States
ATTACH;FMTTYPE=image/jpeg:https://lebanontownship.net/wp-content/uploads/2023/01/1.jpg
END:VEVENT
BEGIN:VEVENT
DTSTART;TZID=America/New_York:20240520T190000
DTEND;TZID=America/New_York:20240520T200000
DTSTAMP:20260423T064213
CREATED:20240506T202441Z
LAST-MODIFIED:20240506T202441Z
UID:10000893-1716231600-1716235200@lebanontownship.net
SUMMARY:Memorial Park Committee Meeting
DESCRIPTION:
URL:https://lebanontownship.net/event/memorial-park-committee-meeting/2024-05-20/2/
LOCATION:Municipal Building\, 530 West Hill Rd\, Glen Gardner\, NJ\, 08826\, United States
ATTACH;FMTTYPE=image/jpeg:https://lebanontownship.net/wp-content/uploads/2023/01/1.jpg
END:VEVENT
BEGIN:VEVENT
DTSTART;TZID=America/New_York:20240601T100000
DTEND;TZID=America/New_York:20240601T120000
DTSTAMP:20260423T064213
CREATED:20240510T132217Z
LAST-MODIFIED:20240510T132217Z
UID:10000894-1717236000-1717243200@lebanontownship.net
SUMMARY:Native Plant Swap
DESCRIPTION:https://lebanontownship.net/wp-content/uploads/2024/05/LTEOSC-Plant-Swap-flyer-new-QR.pdf
URL:https://lebanontownship.net/event/native-plant-swap/
LOCATION:Memorial Park\, Bunnvale Rd.\, Califon\, NJ\, 07830\, United States
ATTACH;FMTTYPE=application/pdf:https://lebanontownship.net/wp-content/uploads/2024/05/LTEOSC-Plant-Swap-flyer-new-QR-1.pdf
END:VEVENT
BEGIN:VEVENT
DTSTART;TZID=America/New_York:20240605T190000
DTEND;TZID=America/New_York:20240605T200000
DTSTAMP:20260423T064213
CREATED:20231226T171707Z
LAST-MODIFIED:20240606T151712Z
UID:10000900-1717614000-1717617600@lebanontownship.net
SUMMARY:Township Committee Meeting
DESCRIPTION:Township Committee Meetings are held the 1st & 3rd Wednesday of each month at 7:00 pm.
URL:https://lebanontownship.net/event/township-committee-meeting-8/2024-06-05/
LOCATION:Meeting Room\, 530 West Hill Rd\, Glen Gardner\, NJ\, 08826
ATTACH;FMTTYPE=image/jpeg:https://lebanontownship.net/wp-content/uploads/2022/10/township-committee-meeting.jpg
END:VEVENT
BEGIN:VEVENT
DTSTART;TZID=America/New_York:20240605T190000
DTEND;TZID=America/New_York:20240605T200000
DTSTAMP:20260423T064213
CREATED:20240606T152027Z
LAST-MODIFIED:20241017T144949Z
UID:10000914-1717614000-1717617600@lebanontownship.net
SUMMARY:Township Committee Meeting
DESCRIPTION:Township Committee Meetings are held the 1st & 3rd Wednesday of each month at 7:00 pm. \nNO MEETING 7/3/2024 and 8/7/2024. \nNO MEETING 11/20/2024.
URL:https://lebanontownship.net/event/township-committee-meeting-2/2024-06-05/
LOCATION:Meeting Room\, 530 West Hill Rd\, Glen Gardner\, NJ\, 08826
ATTACH;FMTTYPE=image/jpeg:https://lebanontownship.net/wp-content/uploads/2022/10/township-committee-meeting.jpg
END:VEVENT
BEGIN:VEVENT
DTSTART;TZID=America/New_York:20240606T193000
DTEND;TZID=America/New_York:20240606T203000
DTSTAMP:20260423T064213
CREATED:20240403T183312Z
LAST-MODIFIED:20240403T183440Z
UID:10000829-1717702200-1717705800@lebanontownship.net
SUMMARY:Recreation Commission Meeting
DESCRIPTION:Recreation Commission Meeting \nThe Commission meets the 1st Thursday of the month at 7:30 pm at the Lebanon Township Municipal Building\, 530 West Hill Road\, Lebanon Township\, NJ.  Our meetings are open to the public and township residents are welcome to attend. All meeting end times are tentative. \n 
URL:https://lebanontownship.net/event/recreation-commission-meeting-3-3-4/2024-06-06/
LOCATION:Meeting Room\, 530 West Hill Rd\, Glen Gardner\, NJ\, 08826
ATTACH;FMTTYPE=image/jpeg:https://lebanontownship.net/wp-content/uploads/2023/01/qtq80-diKXrx.jpeg
END:VEVENT
BEGIN:VEVENT
DTSTART;TZID=America/New_York:20240608T120000
DTEND;TZID=America/New_York:20240608T150000
DTSTAMP:20260423T064213
CREATED:20240529T201327Z
LAST-MODIFIED:20240529T201839Z
UID:10000796-1717848000-1717858800@lebanontownship.net
SUMMARY:Museum Open
DESCRIPTION:
URL:https://lebanontownship.net/event/museum-open-3-2/
LOCATION:Museum\, 57 Musconetcong River Rd\,\, Hampton\, NJ\, 08827\, United States
ATTACH;FMTTYPE=image/png:https://lebanontownship.net/wp-content/uploads/2023/02/Lebanon-Township-Museum-Header-Photo.png
END:VEVENT
BEGIN:VEVENT
DTSTART;TZID=America/New_York:20240610T190000
DTEND;TZID=America/New_York:20240610T190000
DTSTAMP:20260423T064213
CREATED:20240426T114535Z
LAST-MODIFIED:20240426T114535Z
UID:10000876-1718046000-1718046000@lebanontownship.net
SUMMARY:Flag Retirement Ceremony
DESCRIPTION:https://lebanontownship.net/wp-content/uploads/2024/04/2024_06_10-Flag-Retirement-002.jpeg
URL:https://lebanontownship.net/event/flag-retirement-ceremony/
LOCATION:Museum\, 57 Musconetcong River Rd\,\, Hampton\, NJ\, 08827\, United States
ATTACH;FMTTYPE=image/jpeg:https://lebanontownship.net/wp-content/uploads/2024/04/2024_06_10-Flag-Retirement-002.jpeg
END:VEVENT
BEGIN:VEVENT
DTSTART;TZID=America/New_York:20240610T190000
DTEND;TZID=America/New_York:20240610T200000
DTSTAMP:20260423T064213
CREATED:20240506T201926Z
LAST-MODIFIED:20240506T202211Z
UID:10000887-1718046000-1718049600@lebanontownship.net
SUMMARY:Memorial Park Committee Meeting
DESCRIPTION:The Committee meets the 2nd Monday of the month at 7:00 pm at the Lebanon Township Municipal Building. All meeting end times are tentative. \n 
URL:https://lebanontownship.net/event/memorial-park-committee-meeting-2-2-2/2024-06-10/
LOCATION:Meeting Room\, 530 West Hill Rd\, Glen Gardner\, NJ\, 08826
ATTACH;FMTTYPE=image/jpeg:https://lebanontownship.net/wp-content/uploads/2022/10/PXL_20221030_200652395-scaled.jpg
END:VEVENT
BEGIN:VEVENT
DTSTART;TZID=America/New_York:20240612T190000
DTEND;TZID=America/New_York:20240612T200000
DTSTAMP:20260423T064213
CREATED:20240403T185802Z
LAST-MODIFIED:20240403T185825Z
UID:10000868-1718218800-1718222400@lebanontownship.net
SUMMARY:Library Committee Meeting
DESCRIPTION:The Library Committee meets the 2nd Wednesday of the month at 7:00 pm at Bunnvale Library\, 7 Bunnvale Road\, Califon\, NJ 07830.  The Committee does not meet in August.
URL:https://lebanontownship.net/event/library-committee-meeting/2024-06-12/
LOCATION:Bunnvale Library\, 7 Bunnvale Road\, Califon\, NJ\, 07830\, United States
ATTACH;FMTTYPE=image/jpeg:https://lebanontownship.net/wp-content/uploads/2022/10/bunnvale_library.jpeg
END:VEVENT
BEGIN:VEVENT
DTSTART;TZID=America/New_York:20240612T190000
DTEND;TZID=America/New_York:20240612T230000
DTSTAMP:20260423T064213
CREATED:20231220T205455Z
LAST-MODIFIED:20240909T181509Z
UID:10000696-1718218800-1718233200@lebanontownship.net
SUMMARY:Board of Adjustment Meeting
DESCRIPTION:Special Meetings of the Board of Adjustment…ONLY IF NEEDED.
URL:https://lebanontownship.net/event/board-of-adjustment-meeting-11/2024-06-12/
ATTACH;FMTTYPE=image/jpeg:https://lebanontownship.net/wp-content/uploads/2023/01/qtq80-pHcUx0-scaled.jpeg
END:VEVENT
BEGIN:VEVENT
DTSTART;TZID=America/New_York:20240613T190000
DTEND;TZID=America/New_York:20240613T200000
DTSTAMP:20260423T064213
CREATED:20230516T172352Z
LAST-MODIFIED:20240406T211732Z
UID:10000861-1718305200-1718308800@lebanontownship.net
SUMMARY:Historians Committee Meeting
DESCRIPTION:The Historians meet the 2nd Thursday of the month at 7:00 pm  Lebanon Twp. Museum. \nNO MEETINGS JULY AND AUGUST 2024. \nAll meeting end times are tentative.
URL:https://lebanontownship.net/event/historians-committee-meeting-2-2/2024-06-13/
LOCATION:Museum\, 57 Musconetcong River Rd\,\, Hampton\, NJ\, 08827\, United States
ATTACH;FMTTYPE=image/jpeg:https://lebanontownship.net/wp-content/uploads/2022/10/museum.jpg
END:VEVENT
BEGIN:VEVENT
DTSTART;TZID=America/New_York:20240619T190000
DTEND;TZID=America/New_York:20240619T200000
DTSTAMP:20260423T064213
CREATED:20231226T171707Z
LAST-MODIFIED:20240606T151712Z
UID:10000901-1718823600-1718827200@lebanontownship.net
SUMMARY:Township Committee Meeting
DESCRIPTION:Township Committee Meetings are held the 1st & 3rd Wednesday of each month at 7:00 pm.
URL:https://lebanontownship.net/event/township-committee-meeting-8/2024-06-19/
LOCATION:Meeting Room\, 530 West Hill Rd\, Glen Gardner\, NJ\, 08826
ATTACH;FMTTYPE=image/jpeg:https://lebanontownship.net/wp-content/uploads/2022/10/township-committee-meeting.jpg
END:VEVENT
BEGIN:VEVENT
DTSTART;TZID=America/New_York:20240622T090000
DTEND;TZID=America/New_York:20240622T130000
DTSTAMP:20260423T064213
CREATED:20240223T165837Z
LAST-MODIFIED:20240223T165943Z
UID:10000816-1719046800-1719061200@lebanontownship.net
SUMMARY:Hunterdon County Free Electronic Waste Recycling
DESCRIPTION:Hunterdon County E-Waste \n  \nHUNTERDON COUNTY\nRESIDENTS & SMALL BUSINESSES ONLY \nFREE ELECTRONIC WASTE RECYCLING\n2024\nWHEN: Saturdays March 16th\, June 22nd\, October 5th\, and November 16th HOURS: 9:00 a.m. to\n1:00 p.m. (Rain or Shine)\nWHERE: Hunterdon County Route 12 (Library) Complex\,\n314 State Route 12 East\, Flemington (Directions on Back) \nWE WILL ACCEPT\nTelevisions\, Monitors\, Computers\, Computer Components\,\nLaptops\, UPS\, Power Cords\, Keyboards\, Mice\, Speakers\, Routers\, Docking Stations\, Modems\, Printers\,\nCopiers\, Fax Machines\, Toner Cartridges/Ink Cartridges\, Stereo Equipment\, Blu-Ray Players\, DVD\nPlayers\, VCR’s\, Cable Boxes\, Telephones\, Cell Phones\, Answering Machines\, Gaming Consoles\, Cameras\,\nRemote Controls\, Typewriters\, Miscellaneous\n*Items listed are not intended to be all inclusive. Call if you have questions about other items. \nALSO ACCEPTING AIR CONDITIONS AND DEHUMIDIFIERS \nWE WILL NOT ACCEPT \nRefrigerators\, Wooden Speakers and Hazardous Waste \nFOR MORE INFORMATION CONTACT US TELEPHONE: (908) 788-1351\nEmail: health@co.hunterdon.nj.us
URL:https://lebanontownship.net/event/hunterdon-county-free-electronic-waste-recycling/2024-06-22/
LOCATION:Hunterdon County Library Complex\, 314 Route 12 East\, Flemington\, NJ\, 08822\, United States
ATTACH;FMTTYPE=image/jpeg:https://lebanontownship.net/wp-content/uploads/2024/02/qtq80-PbOsZJ-scaled.jpeg
ORGANIZER;CN="Hunterdon County Health Department":MAILTO:health@co.hunterdon.nj.us
END:VEVENT
BEGIN:VEVENT
DTSTART;TZID=America/New_York:20240622T120000
DTEND;TZID=America/New_York:20240622T150000
DTSTAMP:20260423T064213
CREATED:20240529T201453Z
LAST-MODIFIED:20240529T201453Z
UID:10000794-1719057600-1719068400@lebanontownship.net
SUMMARY:Museum Open
DESCRIPTION:
URL:https://lebanontownship.net/event/museum-open-3-3/
LOCATION:Museum\, 57 Musconetcong River Rd\,\, Hampton\, NJ\, 08827\, United States
ATTACH;FMTTYPE=image/png:https://lebanontownship.net/wp-content/uploads/2023/02/Lebanon-Township-Museum-Header-Photo.png
END:VEVENT
BEGIN:VEVENT
DTSTART;TZID=America/New_York:20240627T150000
DTEND;TZID=America/New_York:20240627T180000
DTSTAMP:20260423T064213
CREATED:20240529T201631Z
LAST-MODIFIED:20241113T124506Z
UID:10000792-1719500400-1719511200@lebanontownship.net
SUMMARY:Museum Open...Holiday Window Displays
DESCRIPTION:
URL:https://lebanontownship.net/event/museum-open-3-4/2024-06-27/
LOCATION:Museum\, 57 Musconetcong River Rd\,\, Hampton\, NJ\, 08827\, United States
ATTACH;FMTTYPE=image/png:https://lebanontownship.net/wp-content/uploads/2023/02/Lebanon-Township-Museum-Header-Photo.png
END:VEVENT
BEGIN:VEVENT
DTSTART;TZID=America/New_York:20240702T190000
DTEND;TZID=America/New_York:20240702T200000
DTSTAMP:20260423T064213
CREATED:20230307T165042Z
LAST-MODIFIED:20240925T175753Z
UID:10000731-1719946800-1719950400@lebanontownship.net
SUMMARY:Planning Board Meeting
DESCRIPTION:PLANNING BOARD MEETING SCHEDULE: \nPlease take notice that in accordance with the Open Public Meetings Act\, Lebanon Township Planning Board will meet on the following Tuesday’s: \n\nJanuary 16\, 2024\nFebruary 6\, 2024\nMarch 5\, 2024\nApril 2\, 2024\nMay 7\, 2024\nJune 4\, 2024 – CANCELLED\nJuly 2\, 2024\nAugust 20\, 2024 – CANCELLED\nSeptember 3\, 2024 – CANCELLED\nSeptember 17\, 2024\nOctober 1\, 2024 – CANCELLED\nOctober 15\, 2024 – CANCELLED\nNO NOVEMBER MEETING\nDecember 3\, 2024\n\nMeetings will be held at 7:00 p.m. in the Meeting Room in the Municipal Building\, 530 West Hill Road\, Glen Gardner\, NJ 08826.
URL:https://lebanontownship.net/event/planning-board-meeting-5/2024-07-02/
LOCATION:Meeting Room\, 530 West Hill Rd\, Glen Gardner\, NJ\, 08826
ATTACH;FMTTYPE=image/jpeg:https://lebanontownship.net/wp-content/uploads/2023/01/qtq80-N8aOEv.jpeg
END:VEVENT
BEGIN:VEVENT
DTSTART;TZID=America/New_York:20240708T190000
DTEND;TZID=America/New_York:20240708T200000
DTSTAMP:20260423T064213
CREATED:20240506T201926Z
LAST-MODIFIED:20240506T202211Z
UID:10000888-1720465200-1720468800@lebanontownship.net
SUMMARY:Memorial Park Committee Meeting
DESCRIPTION:The Committee meets the 2nd Monday of the month at 7:00 pm at the Lebanon Township Municipal Building. All meeting end times are tentative. \n 
URL:https://lebanontownship.net/event/memorial-park-committee-meeting-2-2-2/2024-07-08/
LOCATION:Meeting Room\, 530 West Hill Rd\, Glen Gardner\, NJ\, 08826
ATTACH;FMTTYPE=image/jpeg:https://lebanontownship.net/wp-content/uploads/2022/10/PXL_20221030_200652395-scaled.jpg
END:VEVENT
BEGIN:VEVENT
DTSTART;TZID=America/New_York:20240710T190000
DTEND;TZID=America/New_York:20240710T200000
DTSTAMP:20260423T064213
CREATED:20240403T185802Z
LAST-MODIFIED:20240403T185825Z
UID:10000869-1720638000-1720641600@lebanontownship.net
SUMMARY:Library Committee Meeting
DESCRIPTION:The Library Committee meets the 2nd Wednesday of the month at 7:00 pm at Bunnvale Library\, 7 Bunnvale Road\, Califon\, NJ 07830.  The Committee does not meet in August.
URL:https://lebanontownship.net/event/library-committee-meeting/2024-07-10/
LOCATION:Bunnvale Library\, 7 Bunnvale Road\, Califon\, NJ\, 07830\, United States
ATTACH;FMTTYPE=image/jpeg:https://lebanontownship.net/wp-content/uploads/2022/10/bunnvale_library.jpeg
END:VEVENT
BEGIN:VEVENT
DTSTART;TZID=America/New_York:20240717T190000
DTEND;TZID=America/New_York:20240717T200000
DTSTAMP:20260423T064213
CREATED:20240606T152027Z
LAST-MODIFIED:20241017T144949Z
UID:10000915-1721242800-1721246400@lebanontownship.net
SUMMARY:Township Committee Meeting
DESCRIPTION:Township Committee Meetings are held the 1st & 3rd Wednesday of each month at 7:00 pm. \nNO MEETING 7/3/2024 and 8/7/2024. \nNO MEETING 11/20/2024.
URL:https://lebanontownship.net/event/township-committee-meeting-2/2024-07-17/
LOCATION:Meeting Room\, 530 West Hill Rd\, Glen Gardner\, NJ\, 08826
ATTACH;FMTTYPE=image/jpeg:https://lebanontownship.net/wp-content/uploads/2022/10/township-committee-meeting.jpg
END:VEVENT
BEGIN:VEVENT
DTSTART;TZID=America/New_York:20240720T130000
DTEND;TZID=America/New_York:20240720T140000
DTSTAMP:20260423T064213
CREATED:20240701T172046Z
LAST-MODIFIED:20240701T173201Z
UID:10000927-1721480400-1721484000@lebanontownship.net
SUMMARY:America's Pastime:  Tri-County Baseball League in the 1930s
DESCRIPTION:America’s Pastime: Tri-County Baseball League in the 1930s \n⚾️ ⚾️ ⚾️ \nIn 1937\, baseball fan and attorney\, Wesley Lance\, future Judge\, Senator and Acting Governor\, founded a baseball league comprised of Hunterdon\, Warren and Northampton\, PA counties. This league existed for about four decades. Senator Lance’s son\, James W. Lance\, Esq.\, a baseball aficionado and keeper of the family’s baseball history\, recounts the story for us on Saturday\, July 20th at 1PM. \n⚾️ ⚾️ ⚾️ \nJoin us at the Township of Lebanon Museum for this free event!
URL:https://lebanontownship.net/event/americas-pastime-tri-county-baseball-league-in-the-1930s/
LOCATION:Museum\, 57 Musconetcong River Rd\,\, Hampton\, NJ\, 08827\, United States
ATTACH;FMTTYPE=image/jpeg:https://lebanontownship.net/wp-content/uploads/2024/07/IMG_7046-1.jpeg
END:VEVENT
BEGIN:VEVENT
DTSTART;TZID=America/New_York:20240728T150000
DTEND;TZID=America/New_York:20240728T170000
DTSTAMP:20260423T064213
CREATED:20240701T173620Z
LAST-MODIFIED:20240718T163149Z
UID:10000935-1722178800-1722186000@lebanontownship.net
SUMMARY:"Once Upon a Township...Storytelling Event" at the Museum
DESCRIPTION:Join the Historians for “Once upon a Township…Storytelling Event” on Sunday\, July 28th from 3-5PM at the Lebanon Township Museum. Our guest speaker is life-long resident Bruce Sliker\, former Mayor\, Air Force veteran\, Grange member\, pilot and all around good guy. \nWhen asked to speak at our storytelling event\, Bruce replied\, “What am I going to talk about?” His daughter told him\, “Anything! You’re one of the oldest around that grew up here.” \nSo\, come listen to Bruce talk about the airport in his yard\, getting kicked off the school bus and other shenanigans he and his brothers did to the point it’s a surprise they survived childhood. \nStorytelling links us to our past and provides a glimpse into our future. We use storytelling as a way to pass down customs\, history and heritage. Through our events\, we pay tribute to the early beginnings of our community so future generations can continue the legacy. Come listen to stories\, learn\, and maybe even share YOUR family stories of life in Lebanon Township. It’s a chance to recall a moment from your life or just listen to some good stories!
URL:https://lebanontownship.net/event/museum-open-storytime/2024-07-28/
LOCATION:Museum\, 57 Musconetcong River Rd\,\, Hampton\, NJ\, 08827\, United States
ATTACH;FMTTYPE=image/jpeg:https://lebanontownship.net/wp-content/uploads/2024/07/Storytelling-2024-scaled-1.jpg
END:VEVENT
BEGIN:VEVENT
DTSTART;TZID=America/New_York:20240801T193000
DTEND;TZID=America/New_York:20240801T203000
DTSTAMP:20260423T064213
CREATED:20240403T183312Z
LAST-MODIFIED:20240403T183440Z
UID:10000830-1722540600-1722544200@lebanontownship.net
SUMMARY:Recreation Commission Meeting
DESCRIPTION:Recreation Commission Meeting \nThe Commission meets the 1st Thursday of the month at 7:30 pm at the Lebanon Township Municipal Building\, 530 West Hill Road\, Lebanon Township\, NJ.  Our meetings are open to the public and township residents are welcome to attend. All meeting end times are tentative. \n 
URL:https://lebanontownship.net/event/recreation-commission-meeting-3-3-4/2024-08-01/
LOCATION:Meeting Room\, 530 West Hill Rd\, Glen Gardner\, NJ\, 08826
ATTACH;FMTTYPE=image/jpeg:https://lebanontownship.net/wp-content/uploads/2023/01/qtq80-diKXrx.jpeg
END:VEVENT
END:VCALENDAR