BEGIN:VCALENDAR
VERSION:2.0
PRODID:-//Lebanon Township - ECPv6.15.20//NONSGML v1.0//EN
CALSCALE:GREGORIAN
METHOD:PUBLISH
X-WR-CALNAME:Lebanon Township
X-ORIGINAL-URL:https://lebanontownship.net
X-WR-CALDESC:Events for Lebanon Township
REFRESH-INTERVAL;VALUE=DURATION:PT1H
X-Robots-Tag:noindex
X-PUBLISHED-TTL:PT1H
BEGIN:VTIMEZONE
TZID:America/New_York
BEGIN:DAYLIGHT
TZOFFSETFROM:-0500
TZOFFSETTO:-0400
TZNAME:EDT
DTSTART:20240310T070000
END:DAYLIGHT
BEGIN:STANDARD
TZOFFSETFROM:-0400
TZOFFSETTO:-0500
TZNAME:EST
DTSTART:20241103T060000
END:STANDARD
BEGIN:DAYLIGHT
TZOFFSETFROM:-0500
TZOFFSETTO:-0400
TZNAME:EDT
DTSTART:20250309T070000
END:DAYLIGHT
BEGIN:STANDARD
TZOFFSETFROM:-0400
TZOFFSETTO:-0500
TZNAME:EST
DTSTART:20251102T060000
END:STANDARD
BEGIN:DAYLIGHT
TZOFFSETFROM:-0500
TZOFFSETTO:-0400
TZNAME:EDT
DTSTART:20260308T070000
END:DAYLIGHT
BEGIN:STANDARD
TZOFFSETFROM:-0400
TZOFFSETTO:-0500
TZNAME:EST
DTSTART:20261101T060000
END:STANDARD
END:VTIMEZONE
BEGIN:VEVENT
DTSTART;TZID=America/New_York:20251005T110000
DTEND;TZID=America/New_York:20251005T140000
DTSTAMP:20260423T154022
CREATED:20250909T120050Z
LAST-MODIFIED:20250909T120225Z
UID:10001235-1759662000-1759672800@lebanontownship.net
SUMMARY:Palm Tree Bark Art - Opening Reception
DESCRIPTION:
URL:https://lebanontownship.net/event/palm-tree-bark-art-opening-reception/
LOCATION:Museum\, 57 Musconetcong River Rd\,\, Hampton\, NJ\, 08827\, United States
ATTACH;FMTTYPE=image/jpeg:https://lebanontownship.net/wp-content/uploads/2025/09/Palm-Tree-Bark-Art-scaled.jpg
END:VEVENT
BEGIN:VEVENT
DTSTART;TZID=America/New_York:20251004T080000
DTEND;TZID=America/New_York:20251004T130000
DTSTAMP:20260423T154022
CREATED:20240503T155450Z
LAST-MODIFIED:20250904T131858Z
UID:10000878-1759564800-1759582800@lebanontownship.net
SUMMARY:Fall Clean Up
DESCRIPTION:https://lebanontownship.net/wp-content/uploads/2024/05/FallCleanUp24.pdf
URL:https://lebanontownship.net/event/fall-clean-up/
LOCATION:Department of Public Works Garage\, 339 NEWPORT ROAD\, Glen Gardner\, NJ\, 08826\, United States
ATTACH;FMTTYPE=image/jpeg:https://lebanontownship.net/wp-content/uploads/2024/05/2025-Fall-Clean-Up-Event-scaled.jpg
END:VEVENT
BEGIN:VEVENT
DTSTART;TZID=America/New_York:20251002T193000
DTEND;TZID=America/New_York:20251002T203000
DTSTAMP:20260423T154022
CREATED:20250630T123219Z
LAST-MODIFIED:20250630T123337Z
UID:10001215-1759433400-1759437000@lebanontownship.net
SUMMARY:Recreation Commission Meeting
DESCRIPTION:  \n 
URL:https://lebanontownship.net/event/recreation-commission-meeting-3-3-4-2-2/2025-10-02/
LOCATION:Meeting Room\, 530 West Hill Rd\, Glen Gardner\, NJ\, 08826
ATTACH;FMTTYPE=image/jpeg:https://lebanontownship.net/wp-content/uploads/2023/01/qtq80-diKXrx.jpeg
END:VEVENT
BEGIN:VEVENT
DTSTART;TZID=America/New_York:20251001T190000
DTEND;TZID=America/New_York:20251001T200000
DTSTAMP:20260423T154022
CREATED:20241226T153851Z
LAST-MODIFIED:20250326T133711Z
UID:10001038-1759345200-1759348800@lebanontownship.net
SUMMARY:Township Committee Meeting
DESCRIPTION:
URL:https://lebanontownship.net/event/township-committee-meeting-3/2025-10-01/
LOCATION:Meeting Room\, 530 West Hill Rd\, Glen Gardner\, NJ\, 08826
ATTACH;FMTTYPE=image/jpeg:https://lebanontownship.net/wp-content/uploads/2022/10/township-committee-meeting.jpg
END:VEVENT
BEGIN:VEVENT
DTSTART;TZID=America/New_York:20250927T110000
DTEND;TZID=America/New_York:20250927T140000
DTSTAMP:20260423T154022
CREATED:20250403T173358Z
LAST-MODIFIED:20251114T161024Z
UID:10001094-1758970800-1758981600@lebanontownship.net
SUMMARY:Museum Open
DESCRIPTION:
URL:https://lebanontownship.net/event/museum-open-3/2025-09-27/
LOCATION:Museum\, 57 Musconetcong River Rd\,\, Hampton\, NJ\, 08827\, United States
ATTACH;FMTTYPE=image/jpeg:https://lebanontownship.net/wp-content/uploads/2022/10/museum.jpg
END:VEVENT
BEGIN:VEVENT
DTSTART;TZID=America/New_York:20250927T110000
DTEND;TZID=America/New_York:20250927T120000
DTSTAMP:20260423T154022
CREATED:20250910T140804Z
LAST-MODIFIED:20250910T140804Z
UID:10001242-1758970800-1758974400@lebanontownship.net
SUMMARY:School Days\, A Celebration of Learning Through the Years
DESCRIPTION:
URL:https://lebanontownship.net/event/school-days-a-celebration-of-learning-through-the-years-2/2025-09-27/
LOCATION:Museum\, 57 Musconetcong River Rd\,\, Hampton\, NJ\, 08827\, United States
ATTACH;FMTTYPE=image/jpeg:https://lebanontownship.net/wp-content/uploads/2025/09/School-Days-Celebration-scaled.jpg
END:VEVENT
BEGIN:VEVENT
DTSTART;TZID=America/New_York:20250927T090000
DTEND;TZID=America/New_York:20250927T130000
DTSTAMP:20260423T154022
CREATED:20250228T134432Z
LAST-MODIFIED:20250228T134432Z
UID:10001159-1758963600-1758978000@lebanontownship.net
SUMMARY:Hunterdon County Electronic Waste Recycling Day
DESCRIPTION:
URL:https://lebanontownship.net/event/hunterdon-county-electronic-waste-recycling-day/2025-09-27/
LOCATION:Hunterdon County Library Complex\, 314 Route 12 East\, Flemington\, NJ\, 08822\, United States
ATTACH;FMTTYPE=image/jpeg:https://lebanontownship.net/wp-content/uploads/2025/02/Hunterdon-County-E-Waste-Flyer-2025-1-scaled.jpg
END:VEVENT
BEGIN:VEVENT
DTSTART;TZID=America/New_York:20250927T083000
DTEND;TZID=America/New_York:20250927T123000
DTSTAMP:20260423T154022
CREATED:20250508T150028Z
LAST-MODIFIED:20250508T150028Z
UID:10001194-1758961800-1758976200@lebanontownship.net
SUMMARY:Electronics Recycling Event
DESCRIPTION:
URL:https://lebanontownship.net/event/electronics-recycling-event/
LOCATION:DPW\, 339 Newport Road\, Glen Gardner\, NJ\, 08826\, United States
ATTACH;FMTTYPE=image/jpeg:https://lebanontownship.net/wp-content/uploads/2025/05/E-Waste-Flyer-9-27-2025-scaled.jpg
END:VEVENT
BEGIN:VEVENT
DTSTART;TZID=America/New_York:20250924T190000
DTEND;TZID=America/New_York:20250924T200000
DTSTAMP:20260423T154022
CREATED:20250220T205423Z
LAST-MODIFIED:20251209T195522Z
UID:10001152-1758740400-1758744000@lebanontownship.net
SUMMARY:Board of Adjustment Meeting
DESCRIPTION:
URL:https://lebanontownship.net/event/board-of-adjustment/2025-09-24/
LOCATION:Meeting Room\, 530 West Hill Rd\, Glen Gardner\, NJ\, 08826
ATTACH;FMTTYPE=image/jpeg:https://lebanontownship.net/wp-content/uploads/2023/01/qtq80-pHcUx0-scaled.jpeg
END:VEVENT
BEGIN:VEVENT
DTSTART;TZID=America/New_York:20250923T100000
DTEND;TZID=America/New_York:20250923T120000
DTSTAMP:20260423T154022
CREATED:20250910T140804Z
LAST-MODIFIED:20250910T140804Z
UID:10001241-1758621600-1758628800@lebanontownship.net
SUMMARY:School Days\, A Celebration of Learning Through the Years
DESCRIPTION:
URL:https://lebanontownship.net/event/school-days-a-celebration-of-learning-through-the-years-2/2025-09-23/
LOCATION:Museum\, 57 Musconetcong River Rd\,\, Hampton\, NJ\, 08827\, United States
ATTACH;FMTTYPE=image/jpeg:https://lebanontownship.net/wp-content/uploads/2025/09/School-Days-Celebration-scaled.jpg
END:VEVENT
BEGIN:VEVENT
DTSTART;TZID=America/New_York:20250923T100000
DTEND;TZID=America/New_York:20250923T120000
DTSTAMP:20260423T154022
CREATED:20250904T132451Z
LAST-MODIFIED:20250904T132451Z
UID:10001234-1758621600-1758628800@lebanontownship.net
SUMMARY:Adult Craft
DESCRIPTION:
URL:https://lebanontownship.net/event/adult-craft/
LOCATION:Museum\, 57 Musconetcong River Rd\,\, Hampton\, NJ\, 08827\, United States
ATTACH;FMTTYPE=image/png:https://lebanontownship.net/wp-content/uploads/2025/09/Adult-Craft_September-2025.png
END:VEVENT
BEGIN:VEVENT
DTSTART;TZID=America/New_York:20250923T100000
DTEND;TZID=America/New_York:20250923T120000
DTSTAMP:20260423T154022
CREATED:20250114T141457Z
LAST-MODIFIED:20251031T125313Z
UID:10001124-1758621600-1758628800@lebanontownship.net
SUMMARY:Museum Open
DESCRIPTION:
URL:https://lebanontownship.net/event/museum-open-2/2025-09-23/
LOCATION:Museum\, 57 Musconetcong River Rd\,\, Hampton\, NJ\, 08827\, United States
ATTACH;FMTTYPE=image/jpeg:https://lebanontownship.net/wp-content/uploads/2022/10/museum.jpg
END:VEVENT
BEGIN:VEVENT
DTSTART;TZID=America/New_York:20250920T150000
DTEND;TZID=America/New_York:20250920T190000
DTSTAMP:20260423T154022
CREATED:20250902T174206Z
LAST-MODIFIED:20250902T174206Z
UID:10001232-1758380400-1758394800@lebanontownship.net
SUMMARY:Bands and Brews
DESCRIPTION:
URL:https://lebanontownship.net/event/bands-and-brews/
LOCATION:Memorial Park\, Bunnvale Rd.\, Califon\, NJ\, 07830\, United States
ATTACH;FMTTYPE=image/jpeg:https://lebanontownship.net/wp-content/uploads/2025/09/Bands-and-Brews.jpg
END:VEVENT
BEGIN:VEVENT
DTSTART;TZID=America/New_York:20250920T110000
DTEND;TZID=America/New_York:20250920T140000
DTSTAMP:20260423T154022
CREATED:20250910T140804Z
LAST-MODIFIED:20250910T140804Z
UID:10001240-1758366000-1758376800@lebanontownship.net
SUMMARY:School Days\, A Celebration of Learning Through the Years
DESCRIPTION:
URL:https://lebanontownship.net/event/school-days-a-celebration-of-learning-through-the-years-2/2025-09-20/
LOCATION:Museum\, 57 Musconetcong River Rd\,\, Hampton\, NJ\, 08827\, United States
ATTACH;FMTTYPE=image/jpeg:https://lebanontownship.net/wp-content/uploads/2025/09/School-Days-Celebration-scaled.jpg
END:VEVENT
BEGIN:VEVENT
DTSTART;TZID=America/New_York:20250920T110000
DTEND;TZID=America/New_York:20250920T140000
DTSTAMP:20260423T154022
CREATED:20250403T173358Z
LAST-MODIFIED:20251114T161024Z
UID:10001093-1758366000-1758376800@lebanontownship.net
SUMMARY:Museum Open
DESCRIPTION:
URL:https://lebanontownship.net/event/museum-open-3/2025-09-20/
LOCATION:Museum\, 57 Musconetcong River Rd\,\, Hampton\, NJ\, 08827\, United States
ATTACH;FMTTYPE=image/jpeg:https://lebanontownship.net/wp-content/uploads/2022/10/museum.jpg
END:VEVENT
BEGIN:VEVENT
DTSTART;TZID=America/New_York:20250920T080000
DTEND;TZID=America/New_York:20250920T110000
DTSTAMP:20260423T154022
CREATED:20250206T123724Z
LAST-MODIFIED:20250206T123724Z
UID:10001143-1758355200-1758366000@lebanontownship.net
SUMMARY:Town-Wide Paper Shredding
DESCRIPTION:Event open to all Township residents.  No businesses. \nEvent location – front of the Municipal Building.
URL:https://lebanontownship.net/event/town-wide-paper-shredding/
LOCATION:Municipal Building\, 530 West Hill Rd\, Glen Gardner\, NJ\, 08826\, United States
ATTACH;FMTTYPE=image/jpeg:https://lebanontownship.net/wp-content/uploads/2025/02/2025-Paper-Shredding-Event-9-20-2025-scaled.jpg
END:VEVENT
BEGIN:VEVENT
DTSTART;TZID=America/New_York:20250913T110000
DTEND;TZID=America/New_York:20250913T140000
DTSTAMP:20260423T154022
CREATED:20250910T140804Z
LAST-MODIFIED:20250910T140804Z
UID:10001239-1757761200-1757772000@lebanontownship.net
SUMMARY:School Days\, A Celebration of Learning Through the Years
DESCRIPTION:
URL:https://lebanontownship.net/event/school-days-a-celebration-of-learning-through-the-years-2/2025-09-13/
LOCATION:Museum\, 57 Musconetcong River Rd\,\, Hampton\, NJ\, 08827\, United States
ATTACH;FMTTYPE=image/jpeg:https://lebanontownship.net/wp-content/uploads/2025/09/School-Days-Celebration-scaled.jpg
END:VEVENT
BEGIN:VEVENT
DTSTART;TZID=America/New_York:20250913T110000
DTEND;TZID=America/New_York:20250913T140000
DTSTAMP:20260423T154022
CREATED:20250403T173358Z
LAST-MODIFIED:20251114T161024Z
UID:10001092-1757761200-1757772000@lebanontownship.net
SUMMARY:Museum Open
DESCRIPTION:
URL:https://lebanontownship.net/event/museum-open-3/2025-09-13/
LOCATION:Museum\, 57 Musconetcong River Rd\,\, Hampton\, NJ\, 08827\, United States
ATTACH;FMTTYPE=image/jpeg:https://lebanontownship.net/wp-content/uploads/2022/10/museum.jpg
END:VEVENT
BEGIN:VEVENT
DTSTART;TZID=America/New_York:20250913T080000
DTEND;TZID=America/New_York:20250913T113000
DTSTAMP:20260423T154022
CREATED:20250425T174801Z
LAST-MODIFIED:20250425T174801Z
UID:10001190-1757750400-1757763000@lebanontownship.net
SUMMARY:Hunterdon County Ident-A-Shred
DESCRIPTION:
URL:https://lebanontownship.net/event/hunterdon-county-ident-a-shred/2025-09-13/
LOCATION:Hunterdon Couty Complex\, 314 State Route 12\, Flemmington\, 08822\, United States
ATTACH;FMTTYPE=image/jpeg:https://lebanontownship.net/wp-content/uploads/2025/04/Hunterdon-County-Shred-Event-2025.jpg
END:VEVENT
BEGIN:VEVENT
DTSTART;TZID=America/New_York:20250911T190000
DTEND;TZID=America/New_York:20250911T200000
DTSTAMP:20260423T154022
CREATED:20250108T164915Z
LAST-MODIFIED:20251216T144130Z
UID:10001050-1757617200-1757620800@lebanontownship.net
SUMMARY:Historians Committee Meeting
DESCRIPTION:
URL:https://lebanontownship.net/event/historians-committee-meeting/2025-09-11/
LOCATION:Museum\, 57 Musconetcong River Rd\,\, Hampton\, NJ\, 08827\, United States
ATTACH;FMTTYPE=image/jpeg:https://lebanontownship.net/wp-content/uploads/2022/10/museum.jpg
END:VEVENT
BEGIN:VEVENT
DTSTART;TZID=America/New_York:20250909T100000
DTEND;TZID=America/New_York:20250909T120000
DTSTAMP:20260423T154022
CREATED:20250904T132407Z
LAST-MODIFIED:20250904T132524Z
UID:10001233-1757412000-1757419200@lebanontownship.net
SUMMARY:Children's Storytime and Craft
DESCRIPTION:
URL:https://lebanontownship.net/event/childrens-storytime-and-craft/
LOCATION:Museum\, 57 Musconetcong River Rd\,\, Hampton\, NJ\, 08827\, United States
ATTACH;FMTTYPE=image/png:https://lebanontownship.net/wp-content/uploads/2025/09/Childrens-Story-Time_September-2025.png
END:VEVENT
BEGIN:VEVENT
DTSTART;TZID=America/New_York:20250909T100000
DTEND;TZID=America/New_York:20250909T120000
DTSTAMP:20260423T154022
CREATED:20250114T141457Z
LAST-MODIFIED:20251031T125313Z
UID:10001123-1757412000-1757419200@lebanontownship.net
SUMMARY:Museum Open
DESCRIPTION:
URL:https://lebanontownship.net/event/museum-open-2/2025-09-09/
LOCATION:Museum\, 57 Musconetcong River Rd\,\, Hampton\, NJ\, 08827\, United States
ATTACH;FMTTYPE=image/jpeg:https://lebanontownship.net/wp-content/uploads/2022/10/museum.jpg
END:VEVENT
BEGIN:VEVENT
DTSTART;TZID=America/New_York:20250906T110000
DTEND;TZID=America/New_York:20250906T140000
DTSTAMP:20260423T154022
CREATED:20250826T125001Z
LAST-MODIFIED:20250826T125001Z
UID:10001231-1757156400-1757167200@lebanontownship.net
SUMMARY:School Days: A Celebration of Learning Through the Years
DESCRIPTION:
URL:https://lebanontownship.net/event/school-days-a-celebration-of-learning-through-the-years/
LOCATION:Museum\, 57 Musconetcong River Rd\,\, Hampton\, NJ\, 08827\, United States
ATTACH;FMTTYPE=image/jpeg:https://lebanontownship.net/wp-content/uploads/2025/08/School-scaled.jpg
END:VEVENT
BEGIN:VEVENT
DTSTART;TZID=America/New_York:20250906T110000
DTEND;TZID=America/New_York:20250906T140000
DTSTAMP:20260423T154022
CREATED:20250403T173358Z
LAST-MODIFIED:20251114T161024Z
UID:10001091-1757156400-1757167200@lebanontownship.net
SUMMARY:Museum Open
DESCRIPTION:
URL:https://lebanontownship.net/event/museum-open-3/2025-09-06/
LOCATION:Museum\, 57 Musconetcong River Rd\,\, Hampton\, NJ\, 08827\, United States
ATTACH;FMTTYPE=image/jpeg:https://lebanontownship.net/wp-content/uploads/2022/10/museum.jpg
END:VEVENT
BEGIN:VEVENT
DTSTART;TZID=America/New_York:20250904T193000
DTEND;TZID=America/New_York:20250904T203000
DTSTAMP:20260423T154022
CREATED:20250630T123219Z
LAST-MODIFIED:20250630T123337Z
UID:10001214-1757014200-1757017800@lebanontownship.net
SUMMARY:Recreation Commission Meeting
DESCRIPTION:  \n 
URL:https://lebanontownship.net/event/recreation-commission-meeting-3-3-4-2-2/2025-09-04/
LOCATION:Meeting Room\, 530 West Hill Rd\, Glen Gardner\, NJ\, 08826
ATTACH;FMTTYPE=image/jpeg:https://lebanontownship.net/wp-content/uploads/2023/01/qtq80-diKXrx.jpeg
END:VEVENT
BEGIN:VEVENT
DTSTART;TZID=America/New_York:20250903T190000
DTEND;TZID=America/New_York:20250903T200000
DTSTAMP:20260423T154022
CREATED:20241226T153851Z
LAST-MODIFIED:20250326T133711Z
UID:10001037-1756926000-1756929600@lebanontownship.net
SUMMARY:Township Committee Meeting
DESCRIPTION:
URL:https://lebanontownship.net/event/township-committee-meeting-3/2025-09-03/
LOCATION:Meeting Room\, 530 West Hill Rd\, Glen Gardner\, NJ\, 08826
ATTACH;FMTTYPE=image/jpeg:https://lebanontownship.net/wp-content/uploads/2022/10/township-committee-meeting.jpg
END:VEVENT
BEGIN:VEVENT
DTSTART;TZID=America/New_York:20250826T100000
DTEND;TZID=America/New_York:20250826T120000
DTSTAMP:20260423T154022
CREATED:20250707T153421Z
LAST-MODIFIED:20250716T114530Z
UID:10001219-1756202400-1756209600@lebanontownship.net
SUMMARY:Adult Craft Class 'Embroidery 101'
DESCRIPTION:
URL:https://lebanontownship.net/event/adult-craft-class-embroidery-101/2025-08-26/
LOCATION:Museum\, 57 Musconetcong River Rd\,\, Hampton\, NJ\, 08827\, United States
ATTACH;FMTTYPE=image/jpeg:https://lebanontownship.net/wp-content/uploads/2025/07/Embroidery-101-1-scaled.jpg
END:VEVENT
BEGIN:VEVENT
DTSTART;TZID=America/New_York:20250823T110000
DTEND;TZID=America/New_York:20250823T140000
DTSTAMP:20260423T154022
CREATED:20250708T141710Z
LAST-MODIFIED:20250708T141710Z
UID:10001224-1755946800-1755957600@lebanontownship.net
SUMMARY:Diane Redfield Massie Exhibit
DESCRIPTION:
URL:https://lebanontownship.net/event/diane-redfield-massie-exhibit-2/2025-08-23/
LOCATION:Museum\, 57 Musconetcong River Rd\,\, Hampton\, NJ\, 08827\, United States
ATTACH;FMTTYPE=image/jpeg:https://lebanontownship.net/wp-content/uploads/2025/07/Massie-Exhibit_Flyer-2025-2-scaled.jpg
END:VEVENT
BEGIN:VEVENT
DTSTART;TZID=America/New_York:20250823T110000
DTEND;TZID=America/New_York:20250823T140000
DTSTAMP:20260423T154022
CREATED:20250403T173358Z
LAST-MODIFIED:20251114T161024Z
UID:10001089-1755946800-1755957600@lebanontownship.net
SUMMARY:Museum Open
DESCRIPTION:
URL:https://lebanontownship.net/event/museum-open-3/2025-08-23/
LOCATION:Museum\, 57 Musconetcong River Rd\,\, Hampton\, NJ\, 08827\, United States
ATTACH;FMTTYPE=image/jpeg:https://lebanontownship.net/wp-content/uploads/2022/10/museum.jpg
END:VEVENT
BEGIN:VEVENT
DTSTART;TZID=America/New_York:20250820T190000
DTEND;TZID=America/New_York:20250820T200000
DTSTAMP:20260423T154022
CREATED:20241226T153851Z
LAST-MODIFIED:20250326T133711Z
UID:10001171-1755716400-1755720000@lebanontownship.net
SUMMARY:Township Committee Meeting
DESCRIPTION:
URL:https://lebanontownship.net/event/township-committee-meeting-3/2025-08-20/
LOCATION:Meeting Room\, 530 West Hill Rd\, Glen Gardner\, NJ\, 08826
ATTACH;FMTTYPE=image/jpeg:https://lebanontownship.net/wp-content/uploads/2022/10/township-committee-meeting.jpg
END:VEVENT
END:VCALENDAR