BEGIN:VCALENDAR
VERSION:2.0
PRODID:-//Lebanon Township - ECPv6.15.20//NONSGML v1.0//EN
CALSCALE:GREGORIAN
METHOD:PUBLISH
X-ORIGINAL-URL:https://lebanontownship.net
X-WR-CALDESC:Events for Lebanon Township
REFRESH-INTERVAL;VALUE=DURATION:PT1H
X-Robots-Tag:noindex
X-PUBLISHED-TTL:PT1H
BEGIN:VTIMEZONE
TZID:America/New_York
BEGIN:DAYLIGHT
TZOFFSETFROM:-0500
TZOFFSETTO:-0400
TZNAME:EDT
DTSTART:20230312T070000
END:DAYLIGHT
BEGIN:STANDARD
TZOFFSETFROM:-0400
TZOFFSETTO:-0500
TZNAME:EST
DTSTART:20231105T060000
END:STANDARD
BEGIN:DAYLIGHT
TZOFFSETFROM:-0500
TZOFFSETTO:-0400
TZNAME:EDT
DTSTART:20240310T070000
END:DAYLIGHT
BEGIN:STANDARD
TZOFFSETFROM:-0400
TZOFFSETTO:-0500
TZNAME:EST
DTSTART:20241103T060000
END:STANDARD
BEGIN:DAYLIGHT
TZOFFSETFROM:-0500
TZOFFSETTO:-0400
TZNAME:EDT
DTSTART:20250309T070000
END:DAYLIGHT
BEGIN:STANDARD
TZOFFSETFROM:-0400
TZOFFSETTO:-0500
TZNAME:EST
DTSTART:20251102T060000
END:STANDARD
END:VTIMEZONE
BEGIN:VEVENT
DTSTART;TZID=America/New_York:20240921T120000
DTEND;TZID=America/New_York:20240921T150000
DTSTAMP:20260424T164125
CREATED:20240823T151448Z
LAST-MODIFIED:20240823T151509Z
UID:10000958-1726920000-1726930800@lebanontownship.net
SUMMARY:Fall Quilt Show
DESCRIPTION:Running September 21st – October 19th at the Lebanon Township Museum. \nHours:  Thursdays 3:00pm – 6:00pm and Saturdays 12:00pm – 3:00pm \nVolunteers are Needed!  Can you Help?
URL:https://lebanontownship.net/event/fall-quilt-show/2024-09-21/
LOCATION:Museum\, 57 Musconetcong River Rd\,\, Hampton\, NJ\, 08827\, United States
ATTACH;FMTTYPE=image/jpeg:https://lebanontownship.net/wp-content/uploads/2024/08/Fall-Quilt-Show-scaled.jpg
END:VEVENT
BEGIN:VEVENT
DTSTART;TZID=America/New_York:20240921T130000
DTEND;TZID=America/New_York:20240921T180000
DTSTAMP:20260424T164125
CREATED:20240823T151555Z
LAST-MODIFIED:20240823T151555Z
UID:10000967-1726923600-1726941600@lebanontownship.net
SUMMARY:Fall Fest
DESCRIPTION:
URL:https://lebanontownship.net/event/fall-fest/
LOCATION:Memorial Park\, Bunnvale Rd.\, Califon\, NJ\, 07830\, United States
ATTACH;FMTTYPE=image/jpeg:https://lebanontownship.net/wp-content/uploads/2024/08/Fall-Fest-2024-scaled.jpg
END:VEVENT
BEGIN:VEVENT
DTSTART;TZID=America/New_York:20240926T150000
DTEND;TZID=America/New_York:20240926T180000
DTSTAMP:20260424T164125
CREATED:20240823T151448Z
LAST-MODIFIED:20240823T151509Z
UID:10000959-1727362800-1727373600@lebanontownship.net
SUMMARY:Fall Quilt Show
DESCRIPTION:Running September 21st – October 19th at the Lebanon Township Museum. \nHours:  Thursdays 3:00pm – 6:00pm and Saturdays 12:00pm – 3:00pm \nVolunteers are Needed!  Can you Help?
URL:https://lebanontownship.net/event/fall-quilt-show/2024-09-26/
LOCATION:Museum\, 57 Musconetcong River Rd\,\, Hampton\, NJ\, 08827\, United States
ATTACH;FMTTYPE=image/jpeg:https://lebanontownship.net/wp-content/uploads/2024/08/Fall-Quilt-Show-scaled.jpg
END:VEVENT
BEGIN:VEVENT
DTSTART;TZID=America/New_York:20240928T120000
DTEND;TZID=America/New_York:20240928T150000
DTSTAMP:20260424T164125
CREATED:20240823T151448Z
LAST-MODIFIED:20240823T151509Z
UID:10000960-1727524800-1727535600@lebanontownship.net
SUMMARY:Fall Quilt Show
DESCRIPTION:Running September 21st – October 19th at the Lebanon Township Museum. \nHours:  Thursdays 3:00pm – 6:00pm and Saturdays 12:00pm – 3:00pm \nVolunteers are Needed!  Can you Help?
URL:https://lebanontownship.net/event/fall-quilt-show/2024-09-28/
LOCATION:Museum\, 57 Musconetcong River Rd\,\, Hampton\, NJ\, 08827\, United States
ATTACH;FMTTYPE=image/jpeg:https://lebanontownship.net/wp-content/uploads/2024/08/Fall-Quilt-Show-scaled.jpg
END:VEVENT
BEGIN:VEVENT
DTSTART;TZID=America/New_York:20241002T190000
DTEND;TZID=America/New_York:20241002T200000
DTSTAMP:20260424T164125
CREATED:20240606T152027Z
LAST-MODIFIED:20241017T144949Z
UID:10000919-1727895600-1727899200@lebanontownship.net
SUMMARY:Township Committee Meeting
DESCRIPTION:Township Committee Meetings are held the 1st & 3rd Wednesday of each month at 7:00 pm. \nNO MEETING 7/3/2024 and 8/7/2024. \nNO MEETING 11/20/2024.
URL:https://lebanontownship.net/event/township-committee-meeting-2/2024-10-02/
LOCATION:Meeting Room\, 530 West Hill Rd\, Glen Gardner\, NJ\, 08826
ATTACH;FMTTYPE=image/jpeg:https://lebanontownship.net/wp-content/uploads/2022/10/township-committee-meeting.jpg
END:VEVENT
BEGIN:VEVENT
DTSTART;TZID=America/New_York:20241003T150000
DTEND;TZID=America/New_York:20241003T180000
DTSTAMP:20260424T164125
CREATED:20240823T151448Z
LAST-MODIFIED:20240823T151509Z
UID:10000961-1727967600-1727978400@lebanontownship.net
SUMMARY:Fall Quilt Show
DESCRIPTION:Running September 21st – October 19th at the Lebanon Township Museum. \nHours:  Thursdays 3:00pm – 6:00pm and Saturdays 12:00pm – 3:00pm \nVolunteers are Needed!  Can you Help?
URL:https://lebanontownship.net/event/fall-quilt-show/2024-10-03/
LOCATION:Museum\, 57 Musconetcong River Rd\,\, Hampton\, NJ\, 08827\, United States
ATTACH;FMTTYPE=image/jpeg:https://lebanontownship.net/wp-content/uploads/2024/08/Fall-Quilt-Show-scaled.jpg
END:VEVENT
BEGIN:VEVENT
DTSTART;TZID=America/New_York:20241003T193000
DTEND;TZID=America/New_York:20241003T203000
DTSTAMP:20260424T164125
CREATED:20240403T183312Z
LAST-MODIFIED:20240403T183440Z
UID:10000832-1727983800-1727987400@lebanontownship.net
SUMMARY:Recreation Commission Meeting
DESCRIPTION:Recreation Commission Meeting \nThe Commission meets the 1st Thursday of the month at 7:30 pm at the Lebanon Township Municipal Building\, 530 West Hill Road\, Lebanon Township\, NJ.  Our meetings are open to the public and township residents are welcome to attend. All meeting end times are tentative. \n 
URL:https://lebanontownship.net/event/recreation-commission-meeting-3-3-4/2024-10-03/
LOCATION:Meeting Room\, 530 West Hill Rd\, Glen Gardner\, NJ\, 08826
ATTACH;FMTTYPE=image/jpeg:https://lebanontownship.net/wp-content/uploads/2023/01/qtq80-diKXrx.jpeg
END:VEVENT
BEGIN:VEVENT
DTSTART;TZID=America/New_York:20241005T090000
DTEND;TZID=America/New_York:20241005T130000
DTSTAMP:20260424T164125
CREATED:20240223T165837Z
LAST-MODIFIED:20240223T165943Z
UID:10000817-1728118800-1728133200@lebanontownship.net
SUMMARY:Hunterdon County Free Electronic Waste Recycling
DESCRIPTION:Hunterdon County E-Waste \n  \nHUNTERDON COUNTY\nRESIDENTS & SMALL BUSINESSES ONLY \nFREE ELECTRONIC WASTE RECYCLING\n2024\nWHEN: Saturdays March 16th\, June 22nd\, October 5th\, and November 16th HOURS: 9:00 a.m. to\n1:00 p.m. (Rain or Shine)\nWHERE: Hunterdon County Route 12 (Library) Complex\,\n314 State Route 12 East\, Flemington (Directions on Back) \nWE WILL ACCEPT\nTelevisions\, Monitors\, Computers\, Computer Components\,\nLaptops\, UPS\, Power Cords\, Keyboards\, Mice\, Speakers\, Routers\, Docking Stations\, Modems\, Printers\,\nCopiers\, Fax Machines\, Toner Cartridges/Ink Cartridges\, Stereo Equipment\, Blu-Ray Players\, DVD\nPlayers\, VCR’s\, Cable Boxes\, Telephones\, Cell Phones\, Answering Machines\, Gaming Consoles\, Cameras\,\nRemote Controls\, Typewriters\, Miscellaneous\n*Items listed are not intended to be all inclusive. Call if you have questions about other items. \nALSO ACCEPTING AIR CONDITIONS AND DEHUMIDIFIERS \nWE WILL NOT ACCEPT \nRefrigerators\, Wooden Speakers and Hazardous Waste \nFOR MORE INFORMATION CONTACT US TELEPHONE: (908) 788-1351\nEmail: health@co.hunterdon.nj.us
URL:https://lebanontownship.net/event/hunterdon-county-free-electronic-waste-recycling/2024-10-05/
LOCATION:Hunterdon County Library Complex\, 314 Route 12 East\, Flemington\, NJ\, 08822\, United States
ATTACH;FMTTYPE=image/jpeg:https://lebanontownship.net/wp-content/uploads/2024/02/qtq80-PbOsZJ-scaled.jpeg
ORGANIZER;CN="Hunterdon County Health Department":MAILTO:health@co.hunterdon.nj.us
END:VEVENT
BEGIN:VEVENT
DTSTART;TZID=America/New_York:20241005T120000
DTEND;TZID=America/New_York:20241005T150000
DTSTAMP:20260424T164125
CREATED:20240823T151448Z
LAST-MODIFIED:20240823T151509Z
UID:10000962-1728129600-1728140400@lebanontownship.net
SUMMARY:Fall Quilt Show
DESCRIPTION:Running September 21st – October 19th at the Lebanon Township Museum. \nHours:  Thursdays 3:00pm – 6:00pm and Saturdays 12:00pm – 3:00pm \nVolunteers are Needed!  Can you Help?
URL:https://lebanontownship.net/event/fall-quilt-show/2024-10-05/
LOCATION:Museum\, 57 Musconetcong River Rd\,\, Hampton\, NJ\, 08827\, United States
ATTACH;FMTTYPE=image/jpeg:https://lebanontownship.net/wp-content/uploads/2024/08/Fall-Quilt-Show-scaled.jpg
END:VEVENT
BEGIN:VEVENT
DTSTART;TZID=America/New_York:20241009T190000
DTEND;TZID=America/New_York:20241009T200000
DTSTAMP:20260424T164125
CREATED:20240403T185802Z
LAST-MODIFIED:20240403T185825Z
UID:10000871-1728500400-1728504000@lebanontownship.net
SUMMARY:Library Committee Meeting
DESCRIPTION:The Library Committee meets the 2nd Wednesday of the month at 7:00 pm at Bunnvale Library\, 7 Bunnvale Road\, Califon\, NJ 07830.  The Committee does not meet in August.
URL:https://lebanontownship.net/event/library-committee-meeting/2024-10-09/
LOCATION:Bunnvale Library\, 7 Bunnvale Road\, Califon\, NJ\, 07830\, United States
ATTACH;FMTTYPE=image/jpeg:https://lebanontownship.net/wp-content/uploads/2022/10/bunnvale_library.jpeg
END:VEVENT
BEGIN:VEVENT
DTSTART;TZID=America/New_York:20241010T150000
DTEND;TZID=America/New_York:20241010T180000
DTSTAMP:20260424T164125
CREATED:20240823T151448Z
LAST-MODIFIED:20240823T151509Z
UID:10000963-1728572400-1728583200@lebanontownship.net
SUMMARY:Fall Quilt Show
DESCRIPTION:Running September 21st – October 19th at the Lebanon Township Museum. \nHours:  Thursdays 3:00pm – 6:00pm and Saturdays 12:00pm – 3:00pm \nVolunteers are Needed!  Can you Help?
URL:https://lebanontownship.net/event/fall-quilt-show/2024-10-10/
LOCATION:Museum\, 57 Musconetcong River Rd\,\, Hampton\, NJ\, 08827\, United States
ATTACH;FMTTYPE=image/jpeg:https://lebanontownship.net/wp-content/uploads/2024/08/Fall-Quilt-Show-scaled.jpg
END:VEVENT
BEGIN:VEVENT
DTSTART;TZID=America/New_York:20241010T190000
DTEND;TZID=America/New_York:20241010T200000
DTSTAMP:20260424T164125
CREATED:20240912T173223Z
LAST-MODIFIED:20240912T173224Z
UID:10000975-1728586800-1728590400@lebanontownship.net
SUMMARY:Historians Committee Meeting
DESCRIPTION:The Historians meet the 2nd Thursday of the month at 7:00 pm  Lebanon Twp. Museum. \nNO MEETINGS JULY AND AUGUST 2024. \nAll meeting end times are tentative.
URL:https://lebanontownship.net/event/historians-committee-meeting-2-2-2-2/2024-10-10/
LOCATION:Museum\, 57 Musconetcong River Rd\,\, Hampton\, NJ\, 08827\, United States
ATTACH;FMTTYPE=image/jpeg:https://lebanontownship.net/wp-content/uploads/2022/10/museum.jpg
END:VEVENT
BEGIN:VEVENT
DTSTART;TZID=America/New_York:20241012T083000
DTEND;TZID=America/New_York:20241012T123000
DTSTAMP:20260424T164125
CREATED:20240503T155351Z
LAST-MODIFIED:20240503T155351Z
UID:10000877-1728721800-1728736200@lebanontownship.net
SUMMARY:Free Computer/Electronics and Scrap Metal Recycling Event
DESCRIPTION:https://lebanontownship.net/wp-content/uploads/2024/05/ELECFLYER24.pdf
URL:https://lebanontownship.net/event/free-computer-electronics-and-scrap-metal-recycling-event/
LOCATION:Department of Public Works Garage\, 339 NEWPORT ROAD\, Glen Gardner\, NJ\, 08826\, United States
ATTACH;FMTTYPE=application/pdf:https://lebanontownship.net/wp-content/uploads/2024/05/ELECFLYER24-1.pdf
END:VEVENT
BEGIN:VEVENT
DTSTART;TZID=America/New_York:20241012T120000
DTEND;TZID=America/New_York:20241012T150000
DTSTAMP:20260424T164125
CREATED:20240823T151448Z
LAST-MODIFIED:20240823T151509Z
UID:10000964-1728734400-1728745200@lebanontownship.net
SUMMARY:Fall Quilt Show
DESCRIPTION:Running September 21st – October 19th at the Lebanon Township Museum. \nHours:  Thursdays 3:00pm – 6:00pm and Saturdays 12:00pm – 3:00pm \nVolunteers are Needed!  Can you Help?
URL:https://lebanontownship.net/event/fall-quilt-show/2024-10-12/
LOCATION:Museum\, 57 Musconetcong River Rd\,\, Hampton\, NJ\, 08827\, United States
ATTACH;FMTTYPE=image/jpeg:https://lebanontownship.net/wp-content/uploads/2024/08/Fall-Quilt-Show-scaled.jpg
END:VEVENT
BEGIN:VEVENT
DTSTART;TZID=America/New_York:20241016T190000
DTEND;TZID=America/New_York:20241016T200000
DTSTAMP:20260424T164125
CREATED:20240606T152027Z
LAST-MODIFIED:20241017T144949Z
UID:10000920-1729105200-1729108800@lebanontownship.net
SUMMARY:Township Committee Meeting
DESCRIPTION:Township Committee Meetings are held the 1st & 3rd Wednesday of each month at 7:00 pm. \nNO MEETING 7/3/2024 and 8/7/2024. \nNO MEETING 11/20/2024.
URL:https://lebanontownship.net/event/township-committee-meeting-2/2024-10-16/
LOCATION:Meeting Room\, 530 West Hill Rd\, Glen Gardner\, NJ\, 08826
ATTACH;FMTTYPE=image/jpeg:https://lebanontownship.net/wp-content/uploads/2022/10/township-committee-meeting.jpg
END:VEVENT
BEGIN:VEVENT
DTSTART;TZID=America/New_York:20241017T150000
DTEND;TZID=America/New_York:20241017T180000
DTSTAMP:20260424T164125
CREATED:20240823T151448Z
LAST-MODIFIED:20240823T151509Z
UID:10000965-1729177200-1729188000@lebanontownship.net
SUMMARY:Fall Quilt Show
DESCRIPTION:Running September 21st – October 19th at the Lebanon Township Museum. \nHours:  Thursdays 3:00pm – 6:00pm and Saturdays 12:00pm – 3:00pm \nVolunteers are Needed!  Can you Help?
URL:https://lebanontownship.net/event/fall-quilt-show/2024-10-17/
LOCATION:Museum\, 57 Musconetcong River Rd\,\, Hampton\, NJ\, 08827\, United States
ATTACH;FMTTYPE=image/jpeg:https://lebanontownship.net/wp-content/uploads/2024/08/Fall-Quilt-Show-scaled.jpg
END:VEVENT
BEGIN:VEVENT
DTSTART;TZID=America/New_York:20241019T120000
DTEND;TZID=America/New_York:20241019T150000
DTSTAMP:20260424T164125
CREATED:20240823T151448Z
LAST-MODIFIED:20240823T151509Z
UID:10000966-1729339200-1729350000@lebanontownship.net
SUMMARY:Fall Quilt Show
DESCRIPTION:Running September 21st – October 19th at the Lebanon Township Museum. \nHours:  Thursdays 3:00pm – 6:00pm and Saturdays 12:00pm – 3:00pm \nVolunteers are Needed!  Can you Help?
URL:https://lebanontownship.net/event/fall-quilt-show/2024-10-19/
LOCATION:Museum\, 57 Musconetcong River Rd\,\, Hampton\, NJ\, 08827\, United States
ATTACH;FMTTYPE=image/jpeg:https://lebanontownship.net/wp-content/uploads/2024/08/Fall-Quilt-Show-scaled.jpg
END:VEVENT
BEGIN:VEVENT
DTSTART;TZID=America/New_York:20241026T150000
DTEND;TZID=America/New_York:20241026T173000
DTSTAMP:20260424T164125
CREATED:20240823T152555Z
LAST-MODIFIED:20241004T123239Z
UID:10000968-1729954800-1729963800@lebanontownship.net
SUMMARY:Halloween Madness Trunk or Treat
DESCRIPTION:Candy! Costumes!  Community!  Join us for an afternoon of fun!  Car decorating competition\, pumpkin carving contest\, costume parade\, tailgating and more! \n 
URL:https://lebanontownship.net/event/halloween-madness-trunk-or-treat/
LOCATION:Memorial Park\, Bunnvale Rd.\, Califon\, NJ\, 07830\, United States
ATTACH;FMTTYPE=image/jpeg:https://lebanontownship.net/wp-content/uploads/2024/08/Halloween-Madness-2024.jpeg
END:VEVENT
BEGIN:VEVENT
DTSTART;TZID=America/New_York:20241027T150000
DTEND;TZID=America/New_York:20241027T180000
DTSTAMP:20260424T164125
CREATED:20240823T152720Z
LAST-MODIFIED:20240909T182111Z
UID:10000969-1730041200-1730052000@lebanontownship.net
SUMMARY:The All Hallows Halloween Story Time
DESCRIPTION:Come and listen to stories of dread\, poison and murders of Lebanon Township.  Spooktacular refreshments will be served.
URL:https://lebanontownship.net/event/the-all-hallows-halloween-story-time/
LOCATION:Museum\, 57 Musconetcong River Rd\,\, Hampton\, NJ\, 08827\, United States
ATTACH;FMTTYPE=image/jpeg:https://lebanontownship.net/wp-content/uploads/2024/08/Halloween-Story-time-scaled.jpg
END:VEVENT
BEGIN:VEVENT
DTSTART;TZID=America/New_York:20241102T090000
DTEND;TZID=America/New_York:20241102T120000
DTSTAMP:20260424T164125
CREATED:20241002T155258Z
LAST-MODIFIED:20241002T155258Z
UID:10000984-1730538000-1730548800@lebanontownship.net
SUMMARY:Free Rabies Clinic
DESCRIPTION:Free Rabies Clinic \nSaturday\, November 2\, 2024 \n9am – 12pm \n@ DPW\, 339 Newport Road (corner of Anthony and Newport Roads)
URL:https://lebanontownship.net/event/free-rabies-clinic/
LOCATION:DPW\, 339 Newport Road\, Glen Gardner\, NJ\, 08826\, United States
ATTACH;FMTTYPE=image/jpeg:https://lebanontownship.net/wp-content/uploads/2024/10/istockphoto-466983526-612x612-1.jpg
END:VEVENT
BEGIN:VEVENT
DTSTART;TZID=America/New_York:20241106T190000
DTEND;TZID=America/New_York:20241106T200000
DTSTAMP:20260424T164125
CREATED:20240606T152027Z
LAST-MODIFIED:20241017T144949Z
UID:10000921-1730919600-1730923200@lebanontownship.net
SUMMARY:Township Committee Meeting
DESCRIPTION:Township Committee Meetings are held the 1st & 3rd Wednesday of each month at 7:00 pm. \nNO MEETING 7/3/2024 and 8/7/2024. \nNO MEETING 11/20/2024.
URL:https://lebanontownship.net/event/township-committee-meeting-2/2024-11-06/
LOCATION:Meeting Room\, 530 West Hill Rd\, Glen Gardner\, NJ\, 08826
ATTACH;FMTTYPE=image/jpeg:https://lebanontownship.net/wp-content/uploads/2022/10/township-committee-meeting.jpg
END:VEVENT
BEGIN:VEVENT
DTSTART;TZID=America/New_York:20241107T100000
DTEND;TZID=America/New_York:20241107T120000
DTSTAMP:20260424T164125
CREATED:20240823T152826Z
LAST-MODIFIED:20240823T152826Z
UID:10000970-1730973600-1730980800@lebanontownship.net
SUMMARY:Games & Crafts for Kids
DESCRIPTION:Join the Fun!
URL:https://lebanontownship.net/event/games-crafts-for-kids/
LOCATION:Museum\, 57 Musconetcong River Rd\,\, Hampton\, NJ\, 08827\, United States
ATTACH;FMTTYPE=image/jpeg:https://lebanontownship.net/wp-content/uploads/2024/08/Games-and-Crafts-for-Kids-scaled.jpg
END:VEVENT
BEGIN:VEVENT
DTSTART;TZID=America/New_York:20241112T193000
DTEND;TZID=America/New_York:20241112T203000
DTSTAMP:20260424T164125
CREATED:20241104T130246Z
LAST-MODIFIED:20241104T130246Z
UID:10000833-1731439800-1731443400@lebanontownship.net
SUMMARY:Recreation Commission Meeting
DESCRIPTION:Recreation Commission Meeting \nThe Commission meets the 1st Thursday of the month at 7:30 pm at the Lebanon Township Municipal Building\, 530 West Hill Road\, Lebanon Township\, NJ.  Our meetings are open to the public and township residents are welcome to attend. All meeting end times are tentative. \n 
URL:https://lebanontownship.net/event/recreation-commission-meeting-3-3-4-2/2024-11-12/
LOCATION:Meeting Room\, 530 West Hill Rd\, Glen Gardner\, NJ\, 08826
ATTACH;FMTTYPE=image/jpeg:https://lebanontownship.net/wp-content/uploads/2023/01/qtq80-diKXrx.jpeg
END:VEVENT
BEGIN:VEVENT
DTSTART;TZID=America/New_York:20241113T190000
DTEND;TZID=America/New_York:20241113T200000
DTSTAMP:20260424T164125
CREATED:20240403T185802Z
LAST-MODIFIED:20240403T185825Z
UID:10000872-1731524400-1731528000@lebanontownship.net
SUMMARY:Library Committee Meeting
DESCRIPTION:The Library Committee meets the 2nd Wednesday of the month at 7:00 pm at Bunnvale Library\, 7 Bunnvale Road\, Califon\, NJ 07830.  The Committee does not meet in August.
URL:https://lebanontownship.net/event/library-committee-meeting/2024-11-13/
LOCATION:Bunnvale Library\, 7 Bunnvale Road\, Califon\, NJ\, 07830\, United States
ATTACH;FMTTYPE=image/jpeg:https://lebanontownship.net/wp-content/uploads/2022/10/bunnvale_library.jpeg
END:VEVENT
BEGIN:VEVENT
DTSTART;TZID=America/New_York:20241114T150000
DTEND;TZID=America/New_York:20241114T180000
DTSTAMP:20260424T164125
CREATED:20240529T201631Z
LAST-MODIFIED:20241113T124506Z
UID:10000978-1731596400-1731607200@lebanontownship.net
SUMMARY:Museum Open...Holiday Window Displays
DESCRIPTION:
URL:https://lebanontownship.net/event/museum-open-3-4/2024-11-14/
LOCATION:Museum\, 57 Musconetcong River Rd\,\, Hampton\, NJ\, 08827\, United States
ATTACH;FMTTYPE=image/png:https://lebanontownship.net/wp-content/uploads/2023/02/Lebanon-Township-Museum-Header-Photo.png
END:VEVENT
BEGIN:VEVENT
DTSTART;TZID=America/New_York:20241114T190000
DTEND;TZID=America/New_York:20241114T200000
DTSTAMP:20260424T164125
CREATED:20240912T173223Z
LAST-MODIFIED:20240912T173224Z
UID:10000981-1731610800-1731614400@lebanontownship.net
SUMMARY:Historians Committee Meeting
DESCRIPTION:The Historians meet the 2nd Thursday of the month at 7:00 pm  Lebanon Twp. Museum. \nNO MEETINGS JULY AND AUGUST 2024. \nAll meeting end times are tentative.
URL:https://lebanontownship.net/event/historians-committee-meeting-2-2-2-2/2024-11-14/
LOCATION:Museum\, 57 Musconetcong River Rd\,\, Hampton\, NJ\, 08827\, United States
ATTACH;FMTTYPE=image/jpeg:https://lebanontownship.net/wp-content/uploads/2022/10/museum.jpg
END:VEVENT
BEGIN:VEVENT
DTSTART;TZID=America/New_York:20241116T090000
DTEND;TZID=America/New_York:20241116T130000
DTSTAMP:20260424T164125
CREATED:20240223T165837Z
LAST-MODIFIED:20240223T165943Z
UID:10000818-1731747600-1731762000@lebanontownship.net
SUMMARY:Hunterdon County Free Electronic Waste Recycling
DESCRIPTION:Hunterdon County E-Waste \n  \nHUNTERDON COUNTY\nRESIDENTS & SMALL BUSINESSES ONLY \nFREE ELECTRONIC WASTE RECYCLING\n2024\nWHEN: Saturdays March 16th\, June 22nd\, October 5th\, and November 16th HOURS: 9:00 a.m. to\n1:00 p.m. (Rain or Shine)\nWHERE: Hunterdon County Route 12 (Library) Complex\,\n314 State Route 12 East\, Flemington (Directions on Back) \nWE WILL ACCEPT\nTelevisions\, Monitors\, Computers\, Computer Components\,\nLaptops\, UPS\, Power Cords\, Keyboards\, Mice\, Speakers\, Routers\, Docking Stations\, Modems\, Printers\,\nCopiers\, Fax Machines\, Toner Cartridges/Ink Cartridges\, Stereo Equipment\, Blu-Ray Players\, DVD\nPlayers\, VCR’s\, Cable Boxes\, Telephones\, Cell Phones\, Answering Machines\, Gaming Consoles\, Cameras\,\nRemote Controls\, Typewriters\, Miscellaneous\n*Items listed are not intended to be all inclusive. Call if you have questions about other items. \nALSO ACCEPTING AIR CONDITIONS AND DEHUMIDIFIERS \nWE WILL NOT ACCEPT \nRefrigerators\, Wooden Speakers and Hazardous Waste \nFOR MORE INFORMATION CONTACT US TELEPHONE: (908) 788-1351\nEmail: health@co.hunterdon.nj.us
URL:https://lebanontownship.net/event/hunterdon-county-free-electronic-waste-recycling/2024-11-16/
LOCATION:Hunterdon County Library Complex\, 314 Route 12 East\, Flemington\, NJ\, 08822\, United States
ATTACH;FMTTYPE=image/jpeg:https://lebanontownship.net/wp-content/uploads/2024/02/qtq80-PbOsZJ-scaled.jpeg
ORGANIZER;CN="Hunterdon County Health Department":MAILTO:health@co.hunterdon.nj.us
END:VEVENT
BEGIN:VEVENT
DTSTART;TZID=America/New_York:20241116T120000
DTEND;TZID=America/New_York:20241116T150000
DTSTAMP:20260424T164125
CREATED:20240529T201631Z
LAST-MODIFIED:20241113T124506Z
UID:10001000-1731758400-1731769200@lebanontownship.net
SUMMARY:Museum Open...Holiday Window Displays
DESCRIPTION:
URL:https://lebanontownship.net/event/museum-open-3-4/2024-11-16/
LOCATION:Museum\, 57 Musconetcong River Rd\,\, Hampton\, NJ\, 08827\, United States
ATTACH;FMTTYPE=image/png:https://lebanontownship.net/wp-content/uploads/2023/02/Lebanon-Township-Museum-Header-Photo.png
END:VEVENT
BEGIN:VEVENT
DTSTART;TZID=America/New_York:20241121T150000
DTEND;TZID=America/New_York:20241121T180000
DTSTAMP:20260424T164125
CREATED:20240529T201631Z
LAST-MODIFIED:20241113T124506Z
UID:10001001-1732201200-1732212000@lebanontownship.net
SUMMARY:Museum Open...Holiday Window Displays
DESCRIPTION:
URL:https://lebanontownship.net/event/museum-open-3-4/2024-11-21/
LOCATION:Museum\, 57 Musconetcong River Rd\,\, Hampton\, NJ\, 08827\, United States
ATTACH;FMTTYPE=image/png:https://lebanontownship.net/wp-content/uploads/2023/02/Lebanon-Township-Museum-Header-Photo.png
END:VEVENT
BEGIN:VEVENT
DTSTART;TZID=America/New_York:20241123T120000
DTEND;TZID=America/New_York:20241123T150000
DTSTAMP:20260424T164125
CREATED:20240529T201631Z
LAST-MODIFIED:20241113T124506Z
UID:10001002-1732363200-1732374000@lebanontownship.net
SUMMARY:Museum Open...Holiday Window Displays
DESCRIPTION:
URL:https://lebanontownship.net/event/museum-open-3-4/2024-11-23/
LOCATION:Museum\, 57 Musconetcong River Rd\,\, Hampton\, NJ\, 08827\, United States
ATTACH;FMTTYPE=image/png:https://lebanontownship.net/wp-content/uploads/2023/02/Lebanon-Township-Museum-Header-Photo.png
END:VEVENT
END:VCALENDAR