BEGIN:VCALENDAR
VERSION:2.0
PRODID:-//Lebanon Township - ECPv6.15.20//NONSGML v1.0//EN
CALSCALE:GREGORIAN
METHOD:PUBLISH
X-ORIGINAL-URL:https://lebanontownship.net
X-WR-CALDESC:Events for Lebanon Township
REFRESH-INTERVAL;VALUE=DURATION:PT1H
X-Robots-Tag:noindex
X-PUBLISHED-TTL:PT1H
BEGIN:VTIMEZONE
TZID:America/New_York
BEGIN:DAYLIGHT
TZOFFSETFROM:-0500
TZOFFSETTO:-0400
TZNAME:EDT
DTSTART:20240310T070000
END:DAYLIGHT
BEGIN:STANDARD
TZOFFSETFROM:-0400
TZOFFSETTO:-0500
TZNAME:EST
DTSTART:20241103T060000
END:STANDARD
BEGIN:DAYLIGHT
TZOFFSETFROM:-0500
TZOFFSETTO:-0400
TZNAME:EDT
DTSTART:20250309T070000
END:DAYLIGHT
BEGIN:STANDARD
TZOFFSETFROM:-0400
TZOFFSETTO:-0500
TZNAME:EST
DTSTART:20251102T060000
END:STANDARD
BEGIN:DAYLIGHT
TZOFFSETFROM:-0500
TZOFFSETTO:-0400
TZNAME:EDT
DTSTART:20260308T070000
END:DAYLIGHT
BEGIN:STANDARD
TZOFFSETFROM:-0400
TZOFFSETTO:-0500
TZNAME:EST
DTSTART:20261101T060000
END:STANDARD
END:VTIMEZONE
BEGIN:VEVENT
DTSTART;TZID=America/New_York:20250305T053000
DTEND;TZID=America/New_York:20250305T180000
DTSTAMP:20260424T182836
CREATED:20250224T172909Z
LAST-MODIFIED:20250310T131227Z
UID:10001150-1741152600-1741197600@lebanontownship.net
SUMMARY:Township Committee Meeting - Special Meeting
DESCRIPTION:
URL:https://lebanontownship.net/event/township-committee-meeting-special-meeting-2/2025-03-05/
LOCATION:Meeting Room\, 530 West Hill Rd\, Glen Gardner\, NJ\, 08826
ATTACH;FMTTYPE=image/jpeg:https://lebanontownship.net/wp-content/uploads/2022/10/Depositphotos_13534536_original-300x222-1.jpg
END:VEVENT
BEGIN:VEVENT
DTSTART;TZID=America/New_York:20250308T110000
DTEND;TZID=America/New_York:20250308T140000
DTSTAMP:20260424T182836
CREATED:20250114T140632Z
LAST-MODIFIED:20250114T140632Z
UID:10001065-1741431600-1741442400@lebanontownship.net
SUMMARY:Museum Open
DESCRIPTION:
URL:https://lebanontownship.net/event/museum-open/2025-03-08/
LOCATION:Museum\, 57 Musconetcong River Rd\,\, Hampton\, NJ\, 08827\, United States
ATTACH;FMTTYPE=image/jpeg:https://lebanontownship.net/wp-content/uploads/2022/10/museum.jpg
END:VEVENT
BEGIN:VEVENT
DTSTART;TZID=America/New_York:20250308T111500
DTEND;TZID=America/New_York:20250308T121500
DTSTAMP:20260424T182836
CREATED:20250114T134920Z
LAST-MODIFIED:20250114T134920Z
UID:10001056-1741432500-1741436100@lebanontownship.net
SUMMARY:The Story of Irishtown
DESCRIPTION:Come listen to the story of how a small settlement along present day Route 31 in Glen Gardner became known as “Irishtown”.
URL:https://lebanontownship.net/event/the-story-of-irishtown/
LOCATION:NJ
ATTACH;FMTTYPE=image/jpeg:https://lebanontownship.net/wp-content/uploads/2025/01/Irishtown-Lecture-March-8-2025-scaled.jpeg
END:VEVENT
BEGIN:VEVENT
DTSTART;TZID=America/New_York:20250311T100000
DTEND;TZID=America/New_York:20250311T120000
DTSTAMP:20260424T182836
CREATED:20250114T141457Z
LAST-MODIFIED:20251031T125313Z
UID:10001111-1741687200-1741694400@lebanontownship.net
SUMMARY:Museum Open
DESCRIPTION:
URL:https://lebanontownship.net/event/museum-open-2/2025-03-11/
LOCATION:Museum\, 57 Musconetcong River Rd\,\, Hampton\, NJ\, 08827\, United States
ATTACH;FMTTYPE=image/jpeg:https://lebanontownship.net/wp-content/uploads/2022/10/museum.jpg
END:VEVENT
BEGIN:VEVENT
DTSTART;TZID=America/New_York:20250311T100000
DTEND;TZID=America/New_York:20250311T120000
DTSTAMP:20260424T182836
CREATED:20250116T123618Z
LAST-MODIFIED:20250116T123618Z
UID:10001133-1741687200-1741694400@lebanontownship.net
SUMMARY:Children's Story Time & Craft with Miss Mary
DESCRIPTION:Join us at the Museum to read the book Scribble Stones.
URL:https://lebanontownship.net/event/childrens-story-time-craft-with-miss-mary/
LOCATION:Museum\, 57 Musconetcong River Rd\,\, Hampton\, NJ\, 08827\, United States
ATTACH;FMTTYPE=image/jpeg:https://lebanontownship.net/wp-content/uploads/2025/01/March-childrens-story-time-and-craft-2025-scaled.jpg
END:VEVENT
BEGIN:VEVENT
DTSTART;TZID=America/New_York:20250312T173000
DTEND;TZID=America/New_York:20250312T183000
DTSTAMP:20260424T182836
CREATED:20250303T122900Z
LAST-MODIFIED:20250303T122900Z
UID:10001163-1741800600-1741804200@lebanontownship.net
SUMMARY:Sweeten Your Night - Maple Sugaring Adventure!
DESCRIPTION:
URL:https://lebanontownship.net/event/sweeten-your-night-maple-sugaring-adventure/
LOCATION:Echo Hill Park
ATTACH;FMTTYPE=image/jpeg:https://lebanontownship.net/wp-content/uploads/2025/03/Maple-Sugaring--scaled.jpeg
END:VEVENT
BEGIN:VEVENT
DTSTART;TZID=America/New_York:20250313T170000
DTEND;TZID=America/New_York:20250313T173000
DTSTAMP:20260424T182836
CREATED:20250224T172909Z
LAST-MODIFIED:20250310T131227Z
UID:10001172-1741885200-1741887000@lebanontownship.net
SUMMARY:Township Committee Meeting - Special Meeting
DESCRIPTION:
URL:https://lebanontownship.net/event/township-committee-meeting-special-meeting-2/2025-03-13/
LOCATION:Meeting Room\, 530 West Hill Rd\, Glen Gardner\, NJ\, 08826
ATTACH;FMTTYPE=image/jpeg:https://lebanontownship.net/wp-content/uploads/2022/10/Depositphotos_13534536_original-300x222-1.jpg
END:VEVENT
BEGIN:VEVENT
DTSTART;TZID=America/New_York:20250313T190000
DTEND;TZID=America/New_York:20250313T200000
DTSTAMP:20260424T182836
CREATED:20250108T164915Z
LAST-MODIFIED:20251216T144130Z
UID:10001046-1741892400-1741896000@lebanontownship.net
SUMMARY:Historians Committee Meeting
DESCRIPTION:
URL:https://lebanontownship.net/event/historians-committee-meeting/2025-03-13/
LOCATION:Museum\, 57 Musconetcong River Rd\,\, Hampton\, NJ\, 08827\, United States
ATTACH;FMTTYPE=image/jpeg:https://lebanontownship.net/wp-content/uploads/2022/10/museum.jpg
END:VEVENT
BEGIN:VEVENT
DTSTART;TZID=America/New_York:20250314T191500
DTEND;TZID=America/New_York:20250314T201500
DTSTAMP:20260424T182836
CREATED:20250303T123034Z
LAST-MODIFIED:20250303T123034Z
UID:10001164-1741979700-1741983300@lebanontownship.net
SUMMARY:Full Moon Hike at Teetertown Ravine Nature Preserve
DESCRIPTION:Space Limited.  Registration Required\, recreation@lebtwp.net.
URL:https://lebanontownship.net/event/full-moon-hike-at-teetertown-ravine-nature-preserve/
LOCATION:Teetertown Preserve\, 30 Pleasant Grove Rd.\, Port Murray\, NJ 07865\, NJ\, 07685\, United States
ATTACH;FMTTYPE=image/jpeg:https://lebanontownship.net/wp-content/uploads/2025/03/Full-Moon-Hike-.jpg
END:VEVENT
BEGIN:VEVENT
DTSTART;TZID=America/New_York:20250315T090000
DTEND;TZID=America/New_York:20250315T130000
DTSTAMP:20260424T182836
CREATED:20250228T134642Z
LAST-MODIFIED:20250228T134642Z
UID:10001161-1742029200-1742043600@lebanontownship.net
SUMMARY:Hunterdon County Hazardous Waste Cleanup Day
DESCRIPTION:
URL:https://lebanontownship.net/event/hunterdon-county-hazardous-waste-cleanup-day/2025-03-15/
LOCATION:Hunterdon County Library Complex\, 314 Route 12 East\, Flemington\, NJ\, 08822\, United States
ATTACH;FMTTYPE=image/jpeg:https://lebanontownship.net/wp-content/uploads/2025/02/Hunterdon-County-Household-Hazardous-Waste-Flyer-2025-1-scaled.jpg
END:VEVENT
BEGIN:VEVENT
DTSTART;TZID=America/New_York:20250315T110000
DTEND;TZID=America/New_York:20250315T140000
DTSTAMP:20260424T182836
CREATED:20250114T140632Z
LAST-MODIFIED:20250114T140632Z
UID:10001066-1742036400-1742047200@lebanontownship.net
SUMMARY:Museum Open
DESCRIPTION:
URL:https://lebanontownship.net/event/museum-open/2025-03-15/
LOCATION:Museum\, 57 Musconetcong River Rd\,\, Hampton\, NJ\, 08827\, United States
ATTACH;FMTTYPE=image/jpeg:https://lebanontownship.net/wp-content/uploads/2022/10/museum.jpg
END:VEVENT
BEGIN:VEVENT
DTSTART;TZID=America/New_York:20250315T130000
DTEND;TZID=America/New_York:20250315T160000
DTSTAMP:20260424T182836
CREATED:20250218T150659Z
LAST-MODIFIED:20250224T172738Z
UID:10001144-1742043600-1742054400@lebanontownship.net
SUMMARY:Trail Maintenance Day
DESCRIPTION:Lebanon Township Environmental and Open Space Commission is looking for 20 volunteers to clear thorny vegetation along a trail on Lebanon Township Open Space. \nRain/Snow Date Saturday\, March 29\, 2025.
URL:https://lebanontownship.net/event/trail-maintenance-day/
LOCATION:Miquin Woods\, 324 Newport Rd\, Glen Gardner\, New Jersey\, 08826
ATTACH;FMTTYPE=image/jpeg:https://lebanontownship.net/wp-content/uploads/2025/02/Trail-Maintenance-Day-Flyer-2.jpg
END:VEVENT
BEGIN:VEVENT
DTSTART;TZID=America/New_York:20250322T090000
DTEND;TZID=America/New_York:20250322T130000
DTSTAMP:20260424T182836
CREATED:20250228T134432Z
LAST-MODIFIED:20250228T134432Z
UID:10001157-1742634000-1742648400@lebanontownship.net
SUMMARY:Hunterdon County Electronic Waste Recycling Day
DESCRIPTION:
URL:https://lebanontownship.net/event/hunterdon-county-electronic-waste-recycling-day/2025-03-22/
LOCATION:Hunterdon County Library Complex\, 314 Route 12 East\, Flemington\, NJ\, 08822\, United States
ATTACH;FMTTYPE=image/jpeg:https://lebanontownship.net/wp-content/uploads/2025/02/Hunterdon-County-E-Waste-Flyer-2025-1-scaled.jpg
END:VEVENT
BEGIN:VEVENT
DTSTART;TZID=America/New_York:20250322T110000
DTEND;TZID=America/New_York:20250322T140000
DTSTAMP:20260424T182836
CREATED:20250114T140632Z
LAST-MODIFIED:20250114T140632Z
UID:10001067-1742641200-1742652000@lebanontownship.net
SUMMARY:Museum Open
DESCRIPTION:
URL:https://lebanontownship.net/event/museum-open/2025-03-22/
LOCATION:Museum\, 57 Musconetcong River Rd\,\, Hampton\, NJ\, 08827\, United States
ATTACH;FMTTYPE=image/jpeg:https://lebanontownship.net/wp-content/uploads/2022/10/museum.jpg
END:VEVENT
BEGIN:VEVENT
DTSTART;TZID=America/New_York:20250322T111500
DTEND;TZID=America/New_York:20250322T121500
DTSTAMP:20260424T182836
CREATED:20250117T205845Z
LAST-MODIFIED:20250119T145617Z
UID:10001138-1742642100-1742645700@lebanontownship.net
SUMMARY:Tracks Through Time:  The Delaware-Lackawanna Railroad "Then & Now"
DESCRIPTION:Join local Historian\, Mike Helbing\, for a captivating lecture on the Delaware and Lackawanna Railroad.
URL:https://lebanontownship.net/event/tracks-through-time-the-delaware-lackawanna-railroad-then-now/
LOCATION:Museum\, 57 Musconetcong River Rd\,\, Hampton\, NJ\, 08827\, United States
ATTACH;FMTTYPE=image/jpeg:https://lebanontownship.net/wp-content/uploads/2025/01/Delaware-Lackawanna-RR-Lecture-scaled.jpeg
END:VEVENT
BEGIN:VEVENT
DTSTART;TZID=America/New_York:20250325T100000
DTEND;TZID=America/New_York:20250325T120000
DTSTAMP:20260424T182836
CREATED:20250114T141457Z
LAST-MODIFIED:20251031T125313Z
UID:10001112-1742896800-1742904000@lebanontownship.net
SUMMARY:Museum Open
DESCRIPTION:
URL:https://lebanontownship.net/event/museum-open-2/2025-03-25/
LOCATION:Museum\, 57 Musconetcong River Rd\,\, Hampton\, NJ\, 08827\, United States
ATTACH;FMTTYPE=image/jpeg:https://lebanontownship.net/wp-content/uploads/2022/10/museum.jpg
END:VEVENT
BEGIN:VEVENT
DTSTART;TZID=America/New_York:20250325T100000
DTEND;TZID=America/New_York:20250325T120000
DTSTAMP:20260424T182836
CREATED:20250116T123751Z
LAST-MODIFIED:20250116T123751Z
UID:10001134-1742896800-1742904000@lebanontownship.net
SUMMARY:Paint with Felt
DESCRIPTION:In this adult crafting class\, you will have the opportunity to “Paint with Felt”\, using a dry needle felt process.
URL:https://lebanontownship.net/event/paint-with-felt/
LOCATION:Museum\, 57 Musconetcong River Rd\,\, Hampton\, NJ\, 08827\, United States
ATTACH;FMTTYPE=image/jpeg:https://lebanontownship.net/wp-content/uploads/2025/01/Paint-with-Felt-scaled.jpg
END:VEVENT
BEGIN:VEVENT
DTSTART;TZID=America/New_York:20250329T110000
DTEND;TZID=America/New_York:20250329T140000
DTSTAMP:20260424T182836
CREATED:20250114T140632Z
LAST-MODIFIED:20250114T140632Z
UID:10001068-1743246000-1743256800@lebanontownship.net
SUMMARY:Museum Open
DESCRIPTION:
URL:https://lebanontownship.net/event/museum-open/2025-03-29/
LOCATION:Museum\, 57 Musconetcong River Rd\,\, Hampton\, NJ\, 08827\, United States
ATTACH;FMTTYPE=image/jpeg:https://lebanontownship.net/wp-content/uploads/2022/10/museum.jpg
END:VEVENT
BEGIN:VEVENT
DTSTART;TZID=America/New_York:20250401T190000
DTEND;TZID=America/New_York:20250401T200000
DTSTAMP:20260424T182836
CREATED:20241226T153349Z
LAST-MODIFIED:20241226T153349Z
UID:10001023-1743534000-1743537600@lebanontownship.net
SUMMARY:Planning Board Meeting
DESCRIPTION:
URL:https://lebanontownship.net/event/planning-board-meeting/2025-04-01/
LOCATION:Meeting Room\, 530 West Hill Rd\, Glen Gardner\, NJ\, 08826
ATTACH;FMTTYPE=image/jpeg:https://lebanontownship.net/wp-content/uploads/2023/04/qtq80-2swUNs.jpeg
END:VEVENT
BEGIN:VEVENT
DTSTART;TZID=America/New_York:20250405T110000
DTEND;TZID=America/New_York:20250405T140000
DTSTAMP:20260424T182836
CREATED:20250114T140632Z
LAST-MODIFIED:20250114T140632Z
UID:10001069-1743850800-1743861600@lebanontownship.net
SUMMARY:Museum Open
DESCRIPTION:
URL:https://lebanontownship.net/event/museum-open/2025-04-05/
LOCATION:Museum\, 57 Musconetcong River Rd\,\, Hampton\, NJ\, 08827\, United States
ATTACH;FMTTYPE=image/jpeg:https://lebanontownship.net/wp-content/uploads/2022/10/museum.jpg
END:VEVENT
BEGIN:VEVENT
DTSTART;TZID=America/New_York:20250405T111500
DTEND;TZID=America/New_York:20250405T121500
DTSTAMP:20260424T182836
CREATED:20250312T115222Z
LAST-MODIFIED:20250404T135928Z
UID:10001173-1743851700-1743855300@lebanontownship.net
SUMMARY:Step Back in Time CANCELLED
DESCRIPTION:
URL:https://lebanontownship.net/event/step-back-in-time/
LOCATION:Museum\, 57 Musconetcong River Rd\,\, Hampton\, NJ\, 08827\, United States
ATTACH;FMTTYPE=image/jpeg:https://lebanontownship.net/wp-content/uploads/2025/04/canceled.jpg
END:VEVENT
BEGIN:VEVENT
DTSTART;TZID=America/New_York:20250408T100000
DTEND;TZID=America/New_York:20250408T120000
DTSTAMP:20260424T182836
CREATED:20250114T141457Z
LAST-MODIFIED:20251031T125313Z
UID:10001113-1744106400-1744113600@lebanontownship.net
SUMMARY:Museum Open
DESCRIPTION:
URL:https://lebanontownship.net/event/museum-open-2/2025-04-08/
LOCATION:Museum\, 57 Musconetcong River Rd\,\, Hampton\, NJ\, 08827\, United States
ATTACH;FMTTYPE=image/jpeg:https://lebanontownship.net/wp-content/uploads/2022/10/museum.jpg
END:VEVENT
BEGIN:VEVENT
DTSTART;TZID=America/New_York:20250408T100000
DTEND;TZID=America/New_York:20250408T120000
DTSTAMP:20260424T182836
CREATED:20250314T131707Z
LAST-MODIFIED:20250314T131707Z
UID:10001176-1744106400-1744113600@lebanontownship.net
SUMMARY:Children's Story Time & Craft with Miss Mary
DESCRIPTION:
URL:https://lebanontownship.net/event/childrens-story-time-craft-with-miss-mary-2/
LOCATION:Museum\, 57 Musconetcong River Rd\,\, Hampton\, NJ\, 08827\, United States
ATTACH;FMTTYPE=image/jpeg:https://lebanontownship.net/wp-content/uploads/2025/03/LEBTWP_Childrens-Story-Time_0425-scaled.jpg
END:VEVENT
BEGIN:VEVENT
DTSTART;TZID=America/New_York:20250410T190000
DTEND;TZID=America/New_York:20250410T200000
DTSTAMP:20260424T182836
CREATED:20250108T164915Z
LAST-MODIFIED:20251216T144130Z
UID:10001047-1744311600-1744315200@lebanontownship.net
SUMMARY:Historians Committee Meeting
DESCRIPTION:
URL:https://lebanontownship.net/event/historians-committee-meeting/2025-04-10/
LOCATION:Museum\, 57 Musconetcong River Rd\,\, Hampton\, NJ\, 08827\, United States
ATTACH;FMTTYPE=image/jpeg:https://lebanontownship.net/wp-content/uploads/2022/10/museum.jpg
END:VEVENT
BEGIN:VEVENT
DTSTART;TZID=America/New_York:20250412T090000
DTEND;TZID=America/New_York:20250412T120000
DTSTAMP:20260424T182836
CREATED:20250228T123856Z
LAST-MODIFIED:20250228T123856Z
UID:10001156-1744448400-1744459200@lebanontownship.net
SUMMARY:Raritan Headwaters 3th Annual Clean Up
DESCRIPTION:Memorial Park is Site 81.
URL:https://lebanontownship.net/event/raritan-headwaters-3th-annual-clean-up/
LOCATION:Memorial Park\, Bunnvale Rd.\, Califon\, NJ\, 07830\, United States
ATTACH;FMTTYPE=image/jpeg:https://lebanontownship.net/wp-content/uploads/2025/02/Raritan-Headwaters-Clean-Up-Event-2025-scaled.jpg
END:VEVENT
BEGIN:VEVENT
DTSTART;TZID=America/New_York:20250412T110000
DTEND;TZID=America/New_York:20250412T140000
DTSTAMP:20260424T182836
CREATED:20250114T140632Z
LAST-MODIFIED:20250114T140632Z
UID:10001070-1744455600-1744466400@lebanontownship.net
SUMMARY:Museum Open
DESCRIPTION:
URL:https://lebanontownship.net/event/museum-open/2025-04-12/
LOCATION:Museum\, 57 Musconetcong River Rd\,\, Hampton\, NJ\, 08827\, United States
ATTACH;FMTTYPE=image/jpeg:https://lebanontownship.net/wp-content/uploads/2022/10/museum.jpg
END:VEVENT
BEGIN:VEVENT
DTSTART;TZID=America/New_York:20250412T111500
DTEND;TZID=America/New_York:20250412T121500
DTSTAMP:20260424T182836
CREATED:20250312T115309Z
LAST-MODIFIED:20250312T115309Z
UID:10001174-1744456500-1744460100@lebanontownship.net
SUMMARY:All Aboard for History!
DESCRIPTION:
URL:https://lebanontownship.net/event/all-aboard-for-history/
LOCATION:Museum\, 57 Musconetcong River Rd\,\, Hampton\, NJ\, 08827\, United States
ATTACH;FMTTYPE=image/jpeg:https://lebanontownship.net/wp-content/uploads/2025/03/Warren-RR-Chip-April-12-2025-scaled.jpg
END:VEVENT
BEGIN:VEVENT
DTSTART;TZID=America/New_York:20250413T134500
DTEND;TZID=America/New_York:20250413T144500
DTSTAMP:20260424T182836
CREATED:20250331T171046Z
LAST-MODIFIED:20250331T171046Z
UID:10001179-1744551900-1744555500@lebanontownship.net
SUMMARY:Easter Egg Hunt
DESCRIPTION:
URL:https://lebanontownship.net/event/easter-egg-hunt-2/
LOCATION:Memorial Park\, Bunnvale Rd.\, Califon\, NJ\, 07830\, United States
ATTACH;FMTTYPE=image/jpeg:https://lebanontownship.net/wp-content/uploads/2025/03/Easter-Egg-Hunt.jpeg
END:VEVENT
BEGIN:VEVENT
DTSTART;TZID=America/New_York:20250422T100000
DTEND;TZID=America/New_York:20250422T120000
DTSTAMP:20260424T182836
CREATED:20250114T141457Z
LAST-MODIFIED:20251031T125313Z
UID:10001114-1745316000-1745323200@lebanontownship.net
SUMMARY:Museum Open
DESCRIPTION:
URL:https://lebanontownship.net/event/museum-open-2/2025-04-22/
LOCATION:Museum\, 57 Musconetcong River Rd\,\, Hampton\, NJ\, 08827\, United States
ATTACH;FMTTYPE=image/jpeg:https://lebanontownship.net/wp-content/uploads/2022/10/museum.jpg
END:VEVENT
BEGIN:VEVENT
DTSTART;TZID=America/New_York:20250422T100000
DTEND;TZID=America/New_York:20250422T120000
DTSTAMP:20260424T182836
CREATED:20250314T131622Z
LAST-MODIFIED:20250314T131622Z
UID:10001175-1745316000-1745323200@lebanontownship.net
SUMMARY:Adult Crafting at the Museum
DESCRIPTION:
URL:https://lebanontownship.net/event/adult-crafting-at-the-museum/
LOCATION:Museum\, 57 Musconetcong River Rd\,\, Hampton\, NJ\, 08827\, United States
ATTACH;FMTTYPE=image/jpeg:https://lebanontownship.net/wp-content/uploads/2025/03/Adult-Crafting-April-2025-scaled.jpg
END:VEVENT
END:VCALENDAR