BEGIN:VCALENDAR
VERSION:2.0
PRODID:-//Lebanon Township - ECPv6.15.20//NONSGML v1.0//EN
CALSCALE:GREGORIAN
METHOD:PUBLISH
X-WR-CALNAME:Lebanon Township
X-ORIGINAL-URL:https://lebanontownship.net
X-WR-CALDESC:Events for Lebanon Township
REFRESH-INTERVAL;VALUE=DURATION:PT1H
X-Robots-Tag:noindex
X-PUBLISHED-TTL:PT1H
BEGIN:VTIMEZONE
TZID:America/New_York
BEGIN:DAYLIGHT
TZOFFSETFROM:-0500
TZOFFSETTO:-0400
TZNAME:EDT
DTSTART:20240310T070000
END:DAYLIGHT
BEGIN:STANDARD
TZOFFSETFROM:-0400
TZOFFSETTO:-0500
TZNAME:EST
DTSTART:20241103T060000
END:STANDARD
BEGIN:DAYLIGHT
TZOFFSETFROM:-0500
TZOFFSETTO:-0400
TZNAME:EDT
DTSTART:20250309T070000
END:DAYLIGHT
BEGIN:STANDARD
TZOFFSETFROM:-0400
TZOFFSETTO:-0500
TZNAME:EST
DTSTART:20251102T060000
END:STANDARD
BEGIN:DAYLIGHT
TZOFFSETFROM:-0500
TZOFFSETTO:-0400
TZNAME:EDT
DTSTART:20260308T070000
END:DAYLIGHT
BEGIN:STANDARD
TZOFFSETFROM:-0400
TZOFFSETTO:-0500
TZNAME:EST
DTSTART:20261101T060000
END:STANDARD
BEGIN:DAYLIGHT
TZOFFSETFROM:-0500
TZOFFSETTO:-0400
TZNAME:EDT
DTSTART:20270314T070000
END:DAYLIGHT
BEGIN:STANDARD
TZOFFSETFROM:-0400
TZOFFSETTO:-0500
TZNAME:EST
DTSTART:20271107T060000
END:STANDARD
END:VTIMEZONE
BEGIN:VEVENT
DTSTART;TZID=America/New_York:20260422T190000
DTEND;TZID=America/New_York:20260422T200000
DTSTAMP:20260424T153144
CREATED:20260209T161957Z
LAST-MODIFIED:20260209T161957Z
UID:10001331-1776884400-1776888000@lebanontownship.net
SUMMARY:Board of Adjustment Meeting
DESCRIPTION:
URL:https://lebanontownship.net/event/board-of-adjustment-meeting/2026-04-22/
LOCATION:Meeting Room\, 530 West Hill Rd\, Glen Gardner\, NJ\, 08826
ATTACH;FMTTYPE=image/jpeg:https://lebanontownship.net/wp-content/uploads/2023/01/qtq80-pHcUx0-scaled.jpeg
END:VEVENT
BEGIN:VEVENT
DTSTART;TZID=America/New_York:20260414T190000
DTEND;TZID=America/New_York:20260414T193000
DTSTAMP:20260424T153144
CREATED:20260410T133137Z
LAST-MODIFIED:20260410T133137Z
UID:10001365-1776193200-1776195000@lebanontownship.net
SUMMARY:Board of Adjustment Special Meeting
DESCRIPTION:
URL:https://lebanontownship.net/event/board-of-adjustment-special-meeting-2/
LOCATION:Meeting Room\, 530 West Hill Rd\, Glen Gardner\, NJ\, 08826
ATTACH;FMTTYPE=image/jpeg:https://lebanontownship.net/wp-content/uploads/2023/01/qtq80-pHcUx0-scaled.jpeg
END:VEVENT
BEGIN:VEVENT
DTSTART;TZID=America/New_York:20260408T183000
DTEND;TZID=America/New_York:20260408T190000
DTSTAMP:20260424T153144
CREATED:20250114T161729Z
LAST-MODIFIED:20260403T144916Z
UID:10001131-1775673000-1775674800@lebanontownship.net
SUMMARY:Board of Health Meeting
DESCRIPTION:
URL:https://lebanontownship.net/event/board-of-health-meeting/
LOCATION:Meeting Room\, 530 West Hill Rd\, Glen Gardner\, NJ\, 08826
ATTACH;FMTTYPE=image/jpeg:https://lebanontownship.net/wp-content/uploads/2023/01/qtq80-w2iINF.jpeg
END:VEVENT
BEGIN:VEVENT
DTSTART;TZID=America/New_York:20260407T190000
DTEND;TZID=America/New_York:20260407T200000
DTSTAMP:20260424T153144
CREATED:20251229T162230Z
LAST-MODIFIED:20251229T162230Z
UID:10001294-1775588400-1775592000@lebanontownship.net
SUMMARY:Planning Board Meeting
DESCRIPTION:
URL:https://lebanontownship.net/event/planning-board-meeting-3/2026-04-07/
LOCATION:Meeting Room\, 530 West Hill Rd\, Glen Gardner\, NJ\, 08826
ATTACH;FMTTYPE=image/jpeg:https://lebanontownship.net/wp-content/uploads/2023/01/qtq80-N8aOEv.jpeg
END:VEVENT
BEGIN:VEVENT
DTSTART;TZID=America/New_York:20260406T190000
DTEND;TZID=America/New_York:20260406T200000
DTSTAMP:20260424T153144
CREATED:20241223T133941Z
LAST-MODIFIED:20260126T142338Z
UID:10001283-1775502000-1775505600@lebanontownship.net
SUMMARY:Environmental & Open Space Commission Meeting
DESCRIPTION:
URL:https://lebanontownship.net/event/environmental-open-space-commission-meeting/2026-04-06/
LOCATION:Meeting Room\, 530 West Hill Rd\, Glen Gardner\, NJ\, 08826
ATTACH;FMTTYPE=image/jpeg:https://lebanontownship.net/wp-content/uploads/2023/01/qtq80-DJdnbl-scaled.jpeg
END:VEVENT
BEGIN:VEVENT
DTSTART;TZID=America/New_York:20260325T190000
DTEND;TZID=America/New_York:20260325T200000
DTSTAMP:20260424T153144
CREATED:20260209T161957Z
LAST-MODIFIED:20260209T161957Z
UID:10001330-1774465200-1774468800@lebanontownship.net
SUMMARY:Board of Adjustment Meeting
DESCRIPTION:
URL:https://lebanontownship.net/event/board-of-adjustment-meeting/2026-03-25/
LOCATION:Meeting Room\, 530 West Hill Rd\, Glen Gardner\, NJ\, 08826
ATTACH;FMTTYPE=image/jpeg:https://lebanontownship.net/wp-content/uploads/2023/01/qtq80-pHcUx0-scaled.jpeg
END:VEVENT
BEGIN:VEVENT
DTSTART;TZID=America/New_York:20260325T183000
DTEND;TZID=America/New_York:20260325T190000
DTSTAMP:20260424T153144
CREATED:20260320T201751Z
LAST-MODIFIED:20260320T201751Z
UID:10001362-1774463400-1774465200@lebanontownship.net
SUMMARY:Board of Adjustment - Special Meeting
DESCRIPTION:
URL:https://lebanontownship.net/event/board-of-adjustment-special-meeting/
LOCATION:Meeting Room\, 530 West Hill Rd\, Glen Gardner\, NJ\, 08826
ATTACH;FMTTYPE=image/jpeg:https://lebanontownship.net/wp-content/uploads/2023/01/qtq80-pHcUx0-scaled.jpeg
END:VEVENT
BEGIN:VEVENT
DTSTART;TZID=America/New_York:20260303T190000
DTEND;TZID=America/New_York:20260303T200000
DTSTAMP:20260424T153144
CREATED:20251229T162230Z
LAST-MODIFIED:20251229T162230Z
UID:10001293-1772564400-1772568000@lebanontownship.net
SUMMARY:Planning Board Meeting
DESCRIPTION:
URL:https://lebanontownship.net/event/planning-board-meeting-3/2026-03-03/
LOCATION:Meeting Room\, 530 West Hill Rd\, Glen Gardner\, NJ\, 08826
ATTACH;FMTTYPE=image/jpeg:https://lebanontownship.net/wp-content/uploads/2023/01/qtq80-N8aOEv.jpeg
END:VEVENT
BEGIN:VEVENT
DTSTART;TZID=America/New_York:20260302T190000
DTEND;TZID=America/New_York:20260302T200000
DTSTAMP:20260424T153144
CREATED:20260224T134608Z
LAST-MODIFIED:20260224T134621Z
UID:10001342-1772478000-1772481600@lebanontownship.net
SUMMARY:Managing Deer on Township Open Space Property - During EOSC Meeting
DESCRIPTION:The public is invited to attend the Lebanon Township Environmental and Open Space Commission’s (EOSC) next meeting on March 2 at 7pm for a presentation by Jason Giroud on Readington Township’s successful deer management program on municipal open space properties.
URL:https://lebanontownship.net/event/managing-deer-on-township-open-space-property/
LOCATION:Meeting Room\, 530 West Hill Rd\, Glen Gardner\, NJ\, 08826
ATTACH;FMTTYPE=image/jpeg:https://lebanontownship.net/wp-content/uploads/2026/02/DeerManagementAd.jpg
END:VEVENT
BEGIN:VEVENT
DTSTART;TZID=America/New_York:20260302T190000
DTEND;TZID=America/New_York:20260302T200000
DTSTAMP:20260424T153144
CREATED:20241223T133941Z
LAST-MODIFIED:20260126T142338Z
UID:10001282-1772478000-1772481600@lebanontownship.net
SUMMARY:Environmental & Open Space Commission Meeting
DESCRIPTION:
URL:https://lebanontownship.net/event/environmental-open-space-commission-meeting/2026-03-02/
LOCATION:Meeting Room\, 530 West Hill Rd\, Glen Gardner\, NJ\, 08826
ATTACH;FMTTYPE=image/jpeg:https://lebanontownship.net/wp-content/uploads/2023/01/qtq80-DJdnbl-scaled.jpeg
END:VEVENT
BEGIN:VEVENT
DTSTART;TZID=America/New_York:20260226T180000
DTEND;TZID=America/New_York:20260226T190000
DTSTAMP:20260424T153144
CREATED:20230307T215918Z
LAST-MODIFIED:20260226T163035Z
UID:10001343-1772128800-1772132400@lebanontownship.net
SUMMARY:Township Committee Budget Work Session
DESCRIPTION:Please take notice that in accordance with the Open Public Meetings Act\, the Township Committee will be holding Budget Work Session on the following dates: \nThursday\, January 15\, 2026 \nThursday\, February 12\, 2026 \nThursday\, February 26\, 2026 \nThe purpose of these meetings is to discuss the 2026 Budget and any other business that may be deemed necessary.   The meetings will be held at 6:00 p.m. in the Meeting Room of the Municipal Building\, 530 West Hill\, Road\, Glen Gardner\, NJ\, 08826.
URL:https://lebanontownship.net/event/township-committee-budget-work-session/2026-02-26/
LOCATION:Meeting Room\, 530 West Hill Rd\, Glen Gardner\, NJ\, 08826
ATTACH;FMTTYPE=image/jpeg:https://lebanontownship.net/wp-content/uploads/2023/03/qtq80-pnGno5-scaled.jpeg
END:VEVENT
BEGIN:VEVENT
DTSTART;TZID=America/New_York:20260212T180000
DTEND;TZID=America/New_York:20260212T190000
DTSTAMP:20260424T153144
CREATED:20230307T215918Z
LAST-MODIFIED:20260226T163035Z
UID:10001265-1770919200-1770922800@lebanontownship.net
SUMMARY:Township Committee Budget Work Session
DESCRIPTION:Please take notice that in accordance with the Open Public Meetings Act\, the Township Committee will be holding Budget Work Session on the following dates: \nThursday\, January 15\, 2026 \nThursday\, February 12\, 2026 \nThursday\, February 26\, 2026 \nThe purpose of these meetings is to discuss the 2026 Budget and any other business that may be deemed necessary.   The meetings will be held at 6:00 p.m. in the Meeting Room of the Municipal Building\, 530 West Hill\, Road\, Glen Gardner\, NJ\, 08826.
URL:https://lebanontownship.net/event/township-committee-budget-work-session/2026-02-12/
LOCATION:Meeting Room\, 530 West Hill Rd\, Glen Gardner\, NJ\, 08826
ATTACH;FMTTYPE=image/jpeg:https://lebanontownship.net/wp-content/uploads/2023/03/qtq80-pnGno5-scaled.jpeg
END:VEVENT
BEGIN:VEVENT
DTSTART;TZID=America/New_York:20260203T190000
DTEND;TZID=America/New_York:20260203T200000
DTSTAMP:20260424T153144
CREATED:20251229T162230Z
LAST-MODIFIED:20251229T162230Z
UID:10001292-1770145200-1770148800@lebanontownship.net
SUMMARY:Planning Board Meeting
DESCRIPTION:
URL:https://lebanontownship.net/event/planning-board-meeting-3/2026-02-03/
LOCATION:Meeting Room\, 530 West Hill Rd\, Glen Gardner\, NJ\, 08826
ATTACH;FMTTYPE=image/jpeg:https://lebanontownship.net/wp-content/uploads/2023/01/qtq80-N8aOEv.jpeg
END:VEVENT
BEGIN:VEVENT
DTSTART;TZID=America/New_York:20260202T190000
DTEND;TZID=America/New_York:20260202T200000
DTSTAMP:20260424T153144
CREATED:20241223T133941Z
LAST-MODIFIED:20260126T142338Z
UID:10001281-1770058800-1770062400@lebanontownship.net
SUMMARY:Environmental & Open Space Commission Meeting
DESCRIPTION:
URL:https://lebanontownship.net/event/environmental-open-space-commission-meeting/2026-02-02/
LOCATION:Meeting Room\, 530 West Hill Rd\, Glen Gardner\, NJ\, 08826
ATTACH;FMTTYPE=image/jpeg:https://lebanontownship.net/wp-content/uploads/2023/01/qtq80-DJdnbl-scaled.jpeg
END:VEVENT
BEGIN:VEVENT
DTSTART;TZID=America/New_York:20260128T190000
DTEND;TZID=America/New_York:20260128T200000
DTSTAMP:20260424T153144
CREATED:20231211T145706Z
LAST-MODIFIED:20251229T161433Z
UID:10000671-1769626800-1769630400@lebanontownship.net
SUMMARY:Board of Adjustment Re-Organization Meeting
DESCRIPTION:
URL:https://lebanontownship.net/event/board-of-adjustment-re-organization-meeting/
LOCATION:Meeting Room\, 530 West Hill Rd\, Glen Gardner\, NJ\, 08826
ATTACH;FMTTYPE=image/jpeg:https://lebanontownship.net/wp-content/uploads/2023/01/qtq80-pHcUx0-scaled.jpeg
END:VEVENT
BEGIN:VEVENT
DTSTART;TZID=America/New_York:20260115T180000
DTEND;TZID=America/New_York:20260115T190000
DTSTAMP:20260424T153144
CREATED:20230307T215918Z
LAST-MODIFIED:20260226T163035Z
UID:10001267-1768500000-1768503600@lebanontownship.net
SUMMARY:Township Committee Budget Work Session
DESCRIPTION:Please take notice that in accordance with the Open Public Meetings Act\, the Township Committee will be holding Budget Work Session on the following dates: \nThursday\, January 15\, 2026 \nThursday\, February 12\, 2026 \nThursday\, February 26\, 2026 \nThe purpose of these meetings is to discuss the 2026 Budget and any other business that may be deemed necessary.   The meetings will be held at 6:00 p.m. in the Meeting Room of the Municipal Building\, 530 West Hill\, Road\, Glen Gardner\, NJ\, 08826.
URL:https://lebanontownship.net/event/township-committee-budget-work-session/2026-01-15/
LOCATION:Meeting Room\, 530 West Hill Rd\, Glen Gardner\, NJ\, 08826
ATTACH;FMTTYPE=image/jpeg:https://lebanontownship.net/wp-content/uploads/2023/03/qtq80-pnGno5-scaled.jpeg
END:VEVENT
BEGIN:VEVENT
DTSTART;TZID=America/New_York:20260113T190000
DTEND;TZID=America/New_York:20260113T200000
DTSTAMP:20260424T153144
CREATED:20231211T145949Z
LAST-MODIFIED:20260103T231050Z
UID:10000672-1768330800-1768334400@lebanontownship.net
SUMMARY:Planning Board Re-Organization Meeting
DESCRIPTION:
URL:https://lebanontownship.net/event/planning-board-re-organization-meeting/
LOCATION:Meeting Room\, 530 West Hill Rd\, Glen Gardner\, NJ\, 08826
ATTACH;FMTTYPE=image/jpeg:https://lebanontownship.net/wp-content/uploads/2023/01/qtq80-N8aOEv.jpeg
END:VEVENT
BEGIN:VEVENT
DTSTART;TZID=America/New_York:20260107T190000
DTEND;TZID=America/New_York:20260107T190000
DTSTAMP:20260424T153144
CREATED:20241223T133941Z
LAST-MODIFIED:20260126T142338Z
UID:10001280-1767812400-1767812400@lebanontownship.net
SUMMARY:Environmental & Open Space Commission Meeting
DESCRIPTION:
URL:https://lebanontownship.net/event/environmental-open-space-commission-meeting/2026-01-07/
LOCATION:Meeting Room\, 530 West Hill Rd\, Glen Gardner\, NJ\, 08826
ATTACH;FMTTYPE=image/jpeg:https://lebanontownship.net/wp-content/uploads/2023/01/qtq80-DJdnbl-scaled.jpeg
END:VEVENT
BEGIN:VEVENT
DTSTART;TZID=America/New_York:20260105T180000
DTEND;TZID=America/New_York:20260105T190000
DTSTAMP:20260424T153144
CREATED:20250508T151123Z
LAST-MODIFIED:20251114T181733Z
UID:10001195-1767636000-1767639600@lebanontownship.net
SUMMARY:Township Committee Re-Organization Meeting
DESCRIPTION:
URL:https://lebanontownship.net/event/township-committee-re-organization-meeting-2/
LOCATION:Meeting Room\, 530 West Hill Rd\, Glen Gardner\, NJ\, 08826
ATTACH;FMTTYPE=image/jpeg:https://lebanontownship.net/wp-content/uploads/2022/10/Depositphotos_13534536_original-300x222-1.jpg
END:VEVENT
BEGIN:VEVENT
DTSTART;TZID=America/New_York:20251216T180000
DTEND;TZID=America/New_York:20251216T190000
DTSTAMP:20260424T153144
CREATED:20250714T155750Z
LAST-MODIFIED:20251216T144026Z
UID:10001225-1765908000-1765911600@lebanontownship.net
SUMMARY:Township Committee Special Meeting
DESCRIPTION:
URL:https://lebanontownship.net/event/township-committee-special-meeting-5/
LOCATION:Meeting Room\, 530 West Hill Rd\, Glen Gardner\, NJ\, 08826
ATTACH;FMTTYPE=image/jpeg:https://lebanontownship.net/wp-content/uploads/2022/10/Depositphotos_13534536_original-300x222-1.jpg
END:VEVENT
BEGIN:VEVENT
DTSTART;TZID=America/New_York:20251204T193000
DTEND;TZID=America/New_York:20251204T203000
DTSTAMP:20260424T153144
CREATED:20251103T133329Z
LAST-MODIFIED:20251103T133330Z
UID:10001216-1764876600-1764880200@lebanontownship.net
SUMMARY:Recreation Commission Meeting
DESCRIPTION:  \n 
URL:https://lebanontownship.net/event/recreation-commission-meeting-3-3-4-2-2-2/2025-12-04/
LOCATION:Meeting Room\, 530 West Hill Rd\, Glen Gardner\, NJ\, 08826
ATTACH;FMTTYPE=image/jpeg:https://lebanontownship.net/wp-content/uploads/2023/01/qtq80-diKXrx.jpeg
END:VEVENT
BEGIN:VEVENT
DTSTART;TZID=America/New_York:20251203T190000
DTEND;TZID=America/New_York:20251203T200000
DTSTAMP:20260424T153144
CREATED:20241226T153851Z
LAST-MODIFIED:20250326T133711Z
UID:10001040-1764788400-1764792000@lebanontownship.net
SUMMARY:Township Committee Meeting
DESCRIPTION:
URL:https://lebanontownship.net/event/township-committee-meeting-3/2025-12-03/
LOCATION:Meeting Room\, 530 West Hill Rd\, Glen Gardner\, NJ\, 08826
ATTACH;FMTTYPE=image/jpeg:https://lebanontownship.net/wp-content/uploads/2022/10/township-committee-meeting.jpg
END:VEVENT
BEGIN:VEVENT
DTSTART;TZID=America/New_York:20251202T190000
DTEND;TZID=America/New_York:20251202T200000
DTSTAMP:20260424T153144
CREATED:20251103T202019Z
LAST-MODIFIED:20251103T202020Z
UID:10001227-1764702000-1764705600@lebanontownship.net
SUMMARY:Planning Board Meeting
DESCRIPTION:
URL:https://lebanontownship.net/event/planning-board-meeting-2-2-2-2/
LOCATION:Meeting Room\, 530 West Hill Rd\, Glen Gardner\, NJ\, 08826
ATTACH;FMTTYPE=image/jpeg:https://lebanontownship.net/wp-content/uploads/2023/04/qtq80-2swUNs.jpeg
END:VEVENT
BEGIN:VEVENT
DTSTART;TZID=America/New_York:20251112T190000
DTEND;TZID=America/New_York:20251112T200000
DTSTAMP:20260424T153144
CREATED:20250220T205423Z
LAST-MODIFIED:20251209T195522Z
UID:10001154-1762974000-1762977600@lebanontownship.net
SUMMARY:Board of Adjustment Meeting
DESCRIPTION:
URL:https://lebanontownship.net/event/board-of-adjustment/2025-11-12/
LOCATION:Meeting Room\, 530 West Hill Rd\, Glen Gardner\, NJ\, 08826
ATTACH;FMTTYPE=image/jpeg:https://lebanontownship.net/wp-content/uploads/2023/01/qtq80-pHcUx0-scaled.jpeg
END:VEVENT
BEGIN:VEVENT
DTSTART;TZID=America/New_York:20251105T190000
DTEND;TZID=America/New_York:20251105T200000
DTSTAMP:20260424T153144
CREATED:20241226T153851Z
LAST-MODIFIED:20250326T133711Z
UID:10001039-1762369200-1762372800@lebanontownship.net
SUMMARY:Township Committee Meeting
DESCRIPTION:
URL:https://lebanontownship.net/event/township-committee-meeting-3/2025-11-05/
LOCATION:Meeting Room\, 530 West Hill Rd\, Glen Gardner\, NJ\, 08826
ATTACH;FMTTYPE=image/jpeg:https://lebanontownship.net/wp-content/uploads/2022/10/township-committee-meeting.jpg
END:VEVENT
BEGIN:VEVENT
DTSTART;TZID=America/New_York:20251002T193000
DTEND;TZID=America/New_York:20251002T203000
DTSTAMP:20260424T153144
CREATED:20250630T123219Z
LAST-MODIFIED:20250630T123337Z
UID:10001215-1759433400-1759437000@lebanontownship.net
SUMMARY:Recreation Commission Meeting
DESCRIPTION:  \n 
URL:https://lebanontownship.net/event/recreation-commission-meeting-3-3-4-2-2/2025-10-02/
LOCATION:Meeting Room\, 530 West Hill Rd\, Glen Gardner\, NJ\, 08826
ATTACH;FMTTYPE=image/jpeg:https://lebanontownship.net/wp-content/uploads/2023/01/qtq80-diKXrx.jpeg
END:VEVENT
BEGIN:VEVENT
DTSTART;TZID=America/New_York:20251001T190000
DTEND;TZID=America/New_York:20251001T200000
DTSTAMP:20260424T153144
CREATED:20241226T153851Z
LAST-MODIFIED:20250326T133711Z
UID:10001038-1759345200-1759348800@lebanontownship.net
SUMMARY:Township Committee Meeting
DESCRIPTION:
URL:https://lebanontownship.net/event/township-committee-meeting-3/2025-10-01/
LOCATION:Meeting Room\, 530 West Hill Rd\, Glen Gardner\, NJ\, 08826
ATTACH;FMTTYPE=image/jpeg:https://lebanontownship.net/wp-content/uploads/2022/10/township-committee-meeting.jpg
END:VEVENT
BEGIN:VEVENT
DTSTART;TZID=America/New_York:20250924T190000
DTEND;TZID=America/New_York:20250924T200000
DTSTAMP:20260424T153144
CREATED:20250220T205423Z
LAST-MODIFIED:20251209T195522Z
UID:10001152-1758740400-1758744000@lebanontownship.net
SUMMARY:Board of Adjustment Meeting
DESCRIPTION:
URL:https://lebanontownship.net/event/board-of-adjustment/2025-09-24/
LOCATION:Meeting Room\, 530 West Hill Rd\, Glen Gardner\, NJ\, 08826
ATTACH;FMTTYPE=image/jpeg:https://lebanontownship.net/wp-content/uploads/2023/01/qtq80-pHcUx0-scaled.jpeg
END:VEVENT
BEGIN:VEVENT
DTSTART;TZID=America/New_York:20250904T193000
DTEND;TZID=America/New_York:20250904T203000
DTSTAMP:20260424T153144
CREATED:20250630T123219Z
LAST-MODIFIED:20250630T123337Z
UID:10001214-1757014200-1757017800@lebanontownship.net
SUMMARY:Recreation Commission Meeting
DESCRIPTION:  \n 
URL:https://lebanontownship.net/event/recreation-commission-meeting-3-3-4-2-2/2025-09-04/
LOCATION:Meeting Room\, 530 West Hill Rd\, Glen Gardner\, NJ\, 08826
ATTACH;FMTTYPE=image/jpeg:https://lebanontownship.net/wp-content/uploads/2023/01/qtq80-diKXrx.jpeg
END:VEVENT
BEGIN:VEVENT
DTSTART;TZID=America/New_York:20250903T190000
DTEND;TZID=America/New_York:20250903T200000
DTSTAMP:20260424T153144
CREATED:20241226T153851Z
LAST-MODIFIED:20250326T133711Z
UID:10001037-1756926000-1756929600@lebanontownship.net
SUMMARY:Township Committee Meeting
DESCRIPTION:
URL:https://lebanontownship.net/event/township-committee-meeting-3/2025-09-03/
LOCATION:Meeting Room\, 530 West Hill Rd\, Glen Gardner\, NJ\, 08826
ATTACH;FMTTYPE=image/jpeg:https://lebanontownship.net/wp-content/uploads/2022/10/township-committee-meeting.jpg
END:VEVENT
END:VCALENDAR