BEGIN:VCALENDAR
VERSION:2.0
PRODID:-//Lebanon Township - ECPv6.15.20//NONSGML v1.0//EN
CALSCALE:GREGORIAN
METHOD:PUBLISH
X-WR-CALNAME:Lebanon Township
X-ORIGINAL-URL:https://lebanontownship.net
X-WR-CALDESC:Events for Lebanon Township
REFRESH-INTERVAL;VALUE=DURATION:PT1H
X-Robots-Tag:noindex
X-PUBLISHED-TTL:PT1H
BEGIN:VTIMEZONE
TZID:America/New_York
BEGIN:DAYLIGHT
TZOFFSETFROM:-0500
TZOFFSETTO:-0400
TZNAME:EDT
DTSTART:20230312T070000
END:DAYLIGHT
BEGIN:STANDARD
TZOFFSETFROM:-0400
TZOFFSETTO:-0500
TZNAME:EST
DTSTART:20231105T060000
END:STANDARD
BEGIN:DAYLIGHT
TZOFFSETFROM:-0500
TZOFFSETTO:-0400
TZNAME:EDT
DTSTART:20240310T070000
END:DAYLIGHT
BEGIN:STANDARD
TZOFFSETFROM:-0400
TZOFFSETTO:-0500
TZNAME:EST
DTSTART:20241103T060000
END:STANDARD
BEGIN:DAYLIGHT
TZOFFSETFROM:-0500
TZOFFSETTO:-0400
TZNAME:EDT
DTSTART:20250309T070000
END:DAYLIGHT
BEGIN:STANDARD
TZOFFSETFROM:-0400
TZOFFSETTO:-0500
TZNAME:EST
DTSTART:20251102T060000
END:STANDARD
END:VTIMEZONE
BEGIN:VEVENT
DTSTART;TZID=America/New_York:20241203T190000
DTEND;TZID=America/New_York:20241203T200000
DTSTAMP:20260424T235056
CREATED:20230307T165042Z
LAST-MODIFIED:20240925T175753Z
UID:10000955-1733252400-1733256000@lebanontownship.net
SUMMARY:Planning Board Meeting
DESCRIPTION:PLANNING BOARD MEETING SCHEDULE: \nPlease take notice that in accordance with the Open Public Meetings Act\, Lebanon Township Planning Board will meet on the following Tuesday’s: \n\nJanuary 16\, 2024\nFebruary 6\, 2024\nMarch 5\, 2024\nApril 2\, 2024\nMay 7\, 2024\nJune 4\, 2024 – CANCELLED\nJuly 2\, 2024\nAugust 20\, 2024 – CANCELLED\nSeptember 3\, 2024 – CANCELLED\nSeptember 17\, 2024\nOctober 1\, 2024 – CANCELLED\nOctober 15\, 2024 – CANCELLED\nNO NOVEMBER MEETING\nDecember 3\, 2024\n\nMeetings will be held at 7:00 p.m. in the Meeting Room in the Municipal Building\, 530 West Hill Road\, Glen Gardner\, NJ 08826.
URL:https://lebanontownship.net/event/planning-board-meeting-5/2024-12-03/
LOCATION:Meeting Room\, 530 West Hill Rd\, Glen Gardner\, NJ\, 08826
ATTACH;FMTTYPE=image/jpeg:https://lebanontownship.net/wp-content/uploads/2023/01/qtq80-N8aOEv.jpeg
END:VEVENT
BEGIN:VEVENT
DTSTART;TZID=America/New_York:20241112T193000
DTEND;TZID=America/New_York:20241112T203000
DTSTAMP:20260424T235056
CREATED:20241104T130246Z
LAST-MODIFIED:20241104T130246Z
UID:10000833-1731439800-1731443400@lebanontownship.net
SUMMARY:Recreation Commission Meeting
DESCRIPTION:Recreation Commission Meeting \nThe Commission meets the 1st Thursday of the month at 7:30 pm at the Lebanon Township Municipal Building\, 530 West Hill Road\, Lebanon Township\, NJ.  Our meetings are open to the public and township residents are welcome to attend. All meeting end times are tentative. \n 
URL:https://lebanontownship.net/event/recreation-commission-meeting-3-3-4-2/2024-11-12/
LOCATION:Meeting Room\, 530 West Hill Rd\, Glen Gardner\, NJ\, 08826
ATTACH;FMTTYPE=image/jpeg:https://lebanontownship.net/wp-content/uploads/2023/01/qtq80-diKXrx.jpeg
END:VEVENT
BEGIN:VEVENT
DTSTART;TZID=America/New_York:20241106T190000
DTEND;TZID=America/New_York:20241106T200000
DTSTAMP:20260424T235056
CREATED:20240606T152027Z
LAST-MODIFIED:20241017T144949Z
UID:10000921-1730919600-1730923200@lebanontownship.net
SUMMARY:Township Committee Meeting
DESCRIPTION:Township Committee Meetings are held the 1st & 3rd Wednesday of each month at 7:00 pm. \nNO MEETING 7/3/2024 and 8/7/2024. \nNO MEETING 11/20/2024.
URL:https://lebanontownship.net/event/township-committee-meeting-2/2024-11-06/
LOCATION:Meeting Room\, 530 West Hill Rd\, Glen Gardner\, NJ\, 08826
ATTACH;FMTTYPE=image/jpeg:https://lebanontownship.net/wp-content/uploads/2022/10/township-committee-meeting.jpg
END:VEVENT
BEGIN:VEVENT
DTSTART;TZID=America/New_York:20241016T190000
DTEND;TZID=America/New_York:20241016T200000
DTSTAMP:20260424T235056
CREATED:20240606T152027Z
LAST-MODIFIED:20241017T144949Z
UID:10000920-1729105200-1729108800@lebanontownship.net
SUMMARY:Township Committee Meeting
DESCRIPTION:Township Committee Meetings are held the 1st & 3rd Wednesday of each month at 7:00 pm. \nNO MEETING 7/3/2024 and 8/7/2024. \nNO MEETING 11/20/2024.
URL:https://lebanontownship.net/event/township-committee-meeting-2/2024-10-16/
LOCATION:Meeting Room\, 530 West Hill Rd\, Glen Gardner\, NJ\, 08826
ATTACH;FMTTYPE=image/jpeg:https://lebanontownship.net/wp-content/uploads/2022/10/township-committee-meeting.jpg
END:VEVENT
BEGIN:VEVENT
DTSTART;TZID=America/New_York:20241003T193000
DTEND;TZID=America/New_York:20241003T203000
DTSTAMP:20260424T235056
CREATED:20240403T183312Z
LAST-MODIFIED:20240403T183440Z
UID:10000832-1727983800-1727987400@lebanontownship.net
SUMMARY:Recreation Commission Meeting
DESCRIPTION:Recreation Commission Meeting \nThe Commission meets the 1st Thursday of the month at 7:30 pm at the Lebanon Township Municipal Building\, 530 West Hill Road\, Lebanon Township\, NJ.  Our meetings are open to the public and township residents are welcome to attend. All meeting end times are tentative. \n 
URL:https://lebanontownship.net/event/recreation-commission-meeting-3-3-4/2024-10-03/
LOCATION:Meeting Room\, 530 West Hill Rd\, Glen Gardner\, NJ\, 08826
ATTACH;FMTTYPE=image/jpeg:https://lebanontownship.net/wp-content/uploads/2023/01/qtq80-diKXrx.jpeg
END:VEVENT
BEGIN:VEVENT
DTSTART;TZID=America/New_York:20241002T190000
DTEND;TZID=America/New_York:20241002T200000
DTSTAMP:20260424T235056
CREATED:20240606T152027Z
LAST-MODIFIED:20241017T144949Z
UID:10000919-1727895600-1727899200@lebanontownship.net
SUMMARY:Township Committee Meeting
DESCRIPTION:Township Committee Meetings are held the 1st & 3rd Wednesday of each month at 7:00 pm. \nNO MEETING 7/3/2024 and 8/7/2024. \nNO MEETING 11/20/2024.
URL:https://lebanontownship.net/event/township-committee-meeting-2/2024-10-02/
LOCATION:Meeting Room\, 530 West Hill Rd\, Glen Gardner\, NJ\, 08826
ATTACH;FMTTYPE=image/jpeg:https://lebanontownship.net/wp-content/uploads/2022/10/township-committee-meeting.jpg
END:VEVENT
BEGIN:VEVENT
DTSTART;TZID=America/New_York:20240918T190000
DTEND;TZID=America/New_York:20240918T200000
DTSTAMP:20260424T235056
CREATED:20240606T152027Z
LAST-MODIFIED:20241017T144949Z
UID:10000918-1726686000-1726689600@lebanontownship.net
SUMMARY:Township Committee Meeting
DESCRIPTION:Township Committee Meetings are held the 1st & 3rd Wednesday of each month at 7:00 pm. \nNO MEETING 7/3/2024 and 8/7/2024. \nNO MEETING 11/20/2024.
URL:https://lebanontownship.net/event/township-committee-meeting-2/2024-09-18/
LOCATION:Meeting Room\, 530 West Hill Rd\, Glen Gardner\, NJ\, 08826
ATTACH;FMTTYPE=image/jpeg:https://lebanontownship.net/wp-content/uploads/2022/10/township-committee-meeting.jpg
END:VEVENT
BEGIN:VEVENT
DTSTART;TZID=America/New_York:20240917T190000
DTEND;TZID=America/New_York:20240917T200000
DTSTAMP:20260424T235056
CREATED:20230307T165042Z
LAST-MODIFIED:20240925T175753Z
UID:10000972-1726599600-1726603200@lebanontownship.net
SUMMARY:Planning Board Meeting
DESCRIPTION:PLANNING BOARD MEETING SCHEDULE: \nPlease take notice that in accordance with the Open Public Meetings Act\, Lebanon Township Planning Board will meet on the following Tuesday’s: \n\nJanuary 16\, 2024\nFebruary 6\, 2024\nMarch 5\, 2024\nApril 2\, 2024\nMay 7\, 2024\nJune 4\, 2024 – CANCELLED\nJuly 2\, 2024\nAugust 20\, 2024 – CANCELLED\nSeptember 3\, 2024 – CANCELLED\nSeptember 17\, 2024\nOctober 1\, 2024 – CANCELLED\nOctober 15\, 2024 – CANCELLED\nNO NOVEMBER MEETING\nDecember 3\, 2024\n\nMeetings will be held at 7:00 p.m. in the Meeting Room in the Municipal Building\, 530 West Hill Road\, Glen Gardner\, NJ 08826.
URL:https://lebanontownship.net/event/planning-board-meeting-5/2024-09-17/
LOCATION:Meeting Room\, 530 West Hill Rd\, Glen Gardner\, NJ\, 08826
ATTACH;FMTTYPE=image/jpeg:https://lebanontownship.net/wp-content/uploads/2023/01/qtq80-N8aOEv.jpeg
END:VEVENT
BEGIN:VEVENT
DTSTART;TZID=America/New_York:20240909T190000
DTEND;TZID=America/New_York:20240909T200000
DTSTAMP:20260424T235056
CREATED:20240506T201926Z
LAST-MODIFIED:20240506T202211Z
UID:10000890-1725908400-1725912000@lebanontownship.net
SUMMARY:Memorial Park Committee Meeting
DESCRIPTION:The Committee meets the 2nd Monday of the month at 7:00 pm at the Lebanon Township Municipal Building. All meeting end times are tentative. \n 
URL:https://lebanontownship.net/event/memorial-park-committee-meeting-2-2-2/2024-09-09/
LOCATION:Meeting Room\, 530 West Hill Rd\, Glen Gardner\, NJ\, 08826
ATTACH;FMTTYPE=image/jpeg:https://lebanontownship.net/wp-content/uploads/2022/10/PXL_20221030_200652395-scaled.jpg
END:VEVENT
BEGIN:VEVENT
DTSTART;TZID=America/New_York:20240905T193000
DTEND;TZID=America/New_York:20240905T203000
DTSTAMP:20260424T235056
CREATED:20240403T183312Z
LAST-MODIFIED:20240403T183440Z
UID:10000831-1725564600-1725568200@lebanontownship.net
SUMMARY:Recreation Commission Meeting
DESCRIPTION:Recreation Commission Meeting \nThe Commission meets the 1st Thursday of the month at 7:30 pm at the Lebanon Township Municipal Building\, 530 West Hill Road\, Lebanon Township\, NJ.  Our meetings are open to the public and township residents are welcome to attend. All meeting end times are tentative. \n 
URL:https://lebanontownship.net/event/recreation-commission-meeting-3-3-4/2024-09-05/
LOCATION:Meeting Room\, 530 West Hill Rd\, Glen Gardner\, NJ\, 08826
ATTACH;FMTTYPE=image/jpeg:https://lebanontownship.net/wp-content/uploads/2023/01/qtq80-diKXrx.jpeg
END:VEVENT
BEGIN:VEVENT
DTSTART;TZID=America/New_York:20240904T190000
DTEND;TZID=America/New_York:20240904T200000
DTSTAMP:20260424T235056
CREATED:20240606T152027Z
LAST-MODIFIED:20241017T144949Z
UID:10000917-1725476400-1725480000@lebanontownship.net
SUMMARY:Township Committee Meeting
DESCRIPTION:Township Committee Meetings are held the 1st & 3rd Wednesday of each month at 7:00 pm. \nNO MEETING 7/3/2024 and 8/7/2024. \nNO MEETING 11/20/2024.
URL:https://lebanontownship.net/event/township-committee-meeting-2/2024-09-04/
LOCATION:Meeting Room\, 530 West Hill Rd\, Glen Gardner\, NJ\, 08826
ATTACH;FMTTYPE=image/jpeg:https://lebanontownship.net/wp-content/uploads/2022/10/township-committee-meeting.jpg
END:VEVENT
BEGIN:VEVENT
DTSTART;TZID=America/New_York:20240821T190000
DTEND;TZID=America/New_York:20240821T200000
DTSTAMP:20260424T235056
CREATED:20240606T152027Z
LAST-MODIFIED:20241017T144949Z
UID:10000916-1724266800-1724270400@lebanontownship.net
SUMMARY:Township Committee Meeting
DESCRIPTION:Township Committee Meetings are held the 1st & 3rd Wednesday of each month at 7:00 pm. \nNO MEETING 7/3/2024 and 8/7/2024. \nNO MEETING 11/20/2024.
URL:https://lebanontownship.net/event/township-committee-meeting-2/2024-08-21/
LOCATION:Meeting Room\, 530 West Hill Rd\, Glen Gardner\, NJ\, 08826
ATTACH;FMTTYPE=image/jpeg:https://lebanontownship.net/wp-content/uploads/2022/10/township-committee-meeting.jpg
END:VEVENT
BEGIN:VEVENT
DTSTART;TZID=America/New_York:20240812T190000
DTEND;TZID=America/New_York:20240812T200000
DTSTAMP:20260424T235056
CREATED:20240506T201926Z
LAST-MODIFIED:20240506T202211Z
UID:10000889-1723489200-1723492800@lebanontownship.net
SUMMARY:Memorial Park Committee Meeting
DESCRIPTION:The Committee meets the 2nd Monday of the month at 7:00 pm at the Lebanon Township Municipal Building. All meeting end times are tentative. \n 
URL:https://lebanontownship.net/event/memorial-park-committee-meeting-2-2-2/2024-08-12/
LOCATION:Meeting Room\, 530 West Hill Rd\, Glen Gardner\, NJ\, 08826
ATTACH;FMTTYPE=image/jpeg:https://lebanontownship.net/wp-content/uploads/2022/10/PXL_20221030_200652395-scaled.jpg
END:VEVENT
BEGIN:VEVENT
DTSTART;TZID=America/New_York:20240801T193000
DTEND;TZID=America/New_York:20240801T203000
DTSTAMP:20260424T235056
CREATED:20240403T183312Z
LAST-MODIFIED:20240403T183440Z
UID:10000830-1722540600-1722544200@lebanontownship.net
SUMMARY:Recreation Commission Meeting
DESCRIPTION:Recreation Commission Meeting \nThe Commission meets the 1st Thursday of the month at 7:30 pm at the Lebanon Township Municipal Building\, 530 West Hill Road\, Lebanon Township\, NJ.  Our meetings are open to the public and township residents are welcome to attend. All meeting end times are tentative. \n 
URL:https://lebanontownship.net/event/recreation-commission-meeting-3-3-4/2024-08-01/
LOCATION:Meeting Room\, 530 West Hill Rd\, Glen Gardner\, NJ\, 08826
ATTACH;FMTTYPE=image/jpeg:https://lebanontownship.net/wp-content/uploads/2023/01/qtq80-diKXrx.jpeg
END:VEVENT
BEGIN:VEVENT
DTSTART;TZID=America/New_York:20240717T190000
DTEND;TZID=America/New_York:20240717T200000
DTSTAMP:20260424T235056
CREATED:20240606T152027Z
LAST-MODIFIED:20241017T144949Z
UID:10000915-1721242800-1721246400@lebanontownship.net
SUMMARY:Township Committee Meeting
DESCRIPTION:Township Committee Meetings are held the 1st & 3rd Wednesday of each month at 7:00 pm. \nNO MEETING 7/3/2024 and 8/7/2024. \nNO MEETING 11/20/2024.
URL:https://lebanontownship.net/event/township-committee-meeting-2/2024-07-17/
LOCATION:Meeting Room\, 530 West Hill Rd\, Glen Gardner\, NJ\, 08826
ATTACH;FMTTYPE=image/jpeg:https://lebanontownship.net/wp-content/uploads/2022/10/township-committee-meeting.jpg
END:VEVENT
BEGIN:VEVENT
DTSTART;TZID=America/New_York:20240708T190000
DTEND;TZID=America/New_York:20240708T200000
DTSTAMP:20260424T235056
CREATED:20240506T201926Z
LAST-MODIFIED:20240506T202211Z
UID:10000888-1720465200-1720468800@lebanontownship.net
SUMMARY:Memorial Park Committee Meeting
DESCRIPTION:The Committee meets the 2nd Monday of the month at 7:00 pm at the Lebanon Township Municipal Building. All meeting end times are tentative. \n 
URL:https://lebanontownship.net/event/memorial-park-committee-meeting-2-2-2/2024-07-08/
LOCATION:Meeting Room\, 530 West Hill Rd\, Glen Gardner\, NJ\, 08826
ATTACH;FMTTYPE=image/jpeg:https://lebanontownship.net/wp-content/uploads/2022/10/PXL_20221030_200652395-scaled.jpg
END:VEVENT
BEGIN:VEVENT
DTSTART;TZID=America/New_York:20240702T190000
DTEND;TZID=America/New_York:20240702T200000
DTSTAMP:20260424T235056
CREATED:20230307T165042Z
LAST-MODIFIED:20240925T175753Z
UID:10000731-1719946800-1719950400@lebanontownship.net
SUMMARY:Planning Board Meeting
DESCRIPTION:PLANNING BOARD MEETING SCHEDULE: \nPlease take notice that in accordance with the Open Public Meetings Act\, Lebanon Township Planning Board will meet on the following Tuesday’s: \n\nJanuary 16\, 2024\nFebruary 6\, 2024\nMarch 5\, 2024\nApril 2\, 2024\nMay 7\, 2024\nJune 4\, 2024 – CANCELLED\nJuly 2\, 2024\nAugust 20\, 2024 – CANCELLED\nSeptember 3\, 2024 – CANCELLED\nSeptember 17\, 2024\nOctober 1\, 2024 – CANCELLED\nOctober 15\, 2024 – CANCELLED\nNO NOVEMBER MEETING\nDecember 3\, 2024\n\nMeetings will be held at 7:00 p.m. in the Meeting Room in the Municipal Building\, 530 West Hill Road\, Glen Gardner\, NJ 08826.
URL:https://lebanontownship.net/event/planning-board-meeting-5/2024-07-02/
LOCATION:Meeting Room\, 530 West Hill Rd\, Glen Gardner\, NJ\, 08826
ATTACH;FMTTYPE=image/jpeg:https://lebanontownship.net/wp-content/uploads/2023/01/qtq80-N8aOEv.jpeg
END:VEVENT
BEGIN:VEVENT
DTSTART;TZID=America/New_York:20240619T190000
DTEND;TZID=America/New_York:20240619T200000
DTSTAMP:20260424T235056
CREATED:20231226T171707Z
LAST-MODIFIED:20240606T151712Z
UID:10000901-1718823600-1718827200@lebanontownship.net
SUMMARY:Township Committee Meeting
DESCRIPTION:Township Committee Meetings are held the 1st & 3rd Wednesday of each month at 7:00 pm.
URL:https://lebanontownship.net/event/township-committee-meeting-8/2024-06-19/
LOCATION:Meeting Room\, 530 West Hill Rd\, Glen Gardner\, NJ\, 08826
ATTACH;FMTTYPE=image/jpeg:https://lebanontownship.net/wp-content/uploads/2022/10/township-committee-meeting.jpg
END:VEVENT
BEGIN:VEVENT
DTSTART;TZID=America/New_York:20240610T190000
DTEND;TZID=America/New_York:20240610T200000
DTSTAMP:20260424T235056
CREATED:20240506T201926Z
LAST-MODIFIED:20240506T202211Z
UID:10000887-1718046000-1718049600@lebanontownship.net
SUMMARY:Memorial Park Committee Meeting
DESCRIPTION:The Committee meets the 2nd Monday of the month at 7:00 pm at the Lebanon Township Municipal Building. All meeting end times are tentative. \n 
URL:https://lebanontownship.net/event/memorial-park-committee-meeting-2-2-2/2024-06-10/
LOCATION:Meeting Room\, 530 West Hill Rd\, Glen Gardner\, NJ\, 08826
ATTACH;FMTTYPE=image/jpeg:https://lebanontownship.net/wp-content/uploads/2022/10/PXL_20221030_200652395-scaled.jpg
END:VEVENT
BEGIN:VEVENT
DTSTART;TZID=America/New_York:20240606T193000
DTEND;TZID=America/New_York:20240606T203000
DTSTAMP:20260424T235056
CREATED:20240403T183312Z
LAST-MODIFIED:20240403T183440Z
UID:10000829-1717702200-1717705800@lebanontownship.net
SUMMARY:Recreation Commission Meeting
DESCRIPTION:Recreation Commission Meeting \nThe Commission meets the 1st Thursday of the month at 7:30 pm at the Lebanon Township Municipal Building\, 530 West Hill Road\, Lebanon Township\, NJ.  Our meetings are open to the public and township residents are welcome to attend. All meeting end times are tentative. \n 
URL:https://lebanontownship.net/event/recreation-commission-meeting-3-3-4/2024-06-06/
LOCATION:Meeting Room\, 530 West Hill Rd\, Glen Gardner\, NJ\, 08826
ATTACH;FMTTYPE=image/jpeg:https://lebanontownship.net/wp-content/uploads/2023/01/qtq80-diKXrx.jpeg
END:VEVENT
BEGIN:VEVENT
DTSTART;TZID=America/New_York:20240605T190000
DTEND;TZID=America/New_York:20240605T200000
DTSTAMP:20260424T235056
CREATED:20240606T152027Z
LAST-MODIFIED:20241017T144949Z
UID:10000914-1717614000-1717617600@lebanontownship.net
SUMMARY:Township Committee Meeting
DESCRIPTION:Township Committee Meetings are held the 1st & 3rd Wednesday of each month at 7:00 pm. \nNO MEETING 7/3/2024 and 8/7/2024. \nNO MEETING 11/20/2024.
URL:https://lebanontownship.net/event/township-committee-meeting-2/2024-06-05/
LOCATION:Meeting Room\, 530 West Hill Rd\, Glen Gardner\, NJ\, 08826
ATTACH;FMTTYPE=image/jpeg:https://lebanontownship.net/wp-content/uploads/2022/10/township-committee-meeting.jpg
END:VEVENT
BEGIN:VEVENT
DTSTART;TZID=America/New_York:20240605T190000
DTEND;TZID=America/New_York:20240605T200000
DTSTAMP:20260424T235056
CREATED:20231226T171707Z
LAST-MODIFIED:20240606T151712Z
UID:10000900-1717614000-1717617600@lebanontownship.net
SUMMARY:Township Committee Meeting
DESCRIPTION:Township Committee Meetings are held the 1st & 3rd Wednesday of each month at 7:00 pm.
URL:https://lebanontownship.net/event/township-committee-meeting-8/2024-06-05/
LOCATION:Meeting Room\, 530 West Hill Rd\, Glen Gardner\, NJ\, 08826
ATTACH;FMTTYPE=image/jpeg:https://lebanontownship.net/wp-content/uploads/2022/10/township-committee-meeting.jpg
END:VEVENT
BEGIN:VEVENT
DTSTART;TZID=America/New_York:20240515T190000
DTEND;TZID=America/New_York:20240515T190000
DTSTAMP:20260424T235056
CREATED:20240606T152027Z
LAST-MODIFIED:20241017T144949Z
UID:10000913-1715799600-1715799600@lebanontownship.net
SUMMARY:Township Committee Meeting
DESCRIPTION:Township Committee Meetings are held the 1st & 3rd Wednesday of each month at 7:00 pm. \nNO MEETING 7/3/2024 and 8/7/2024. \nNO MEETING 11/20/2024.
URL:https://lebanontownship.net/event/township-committee-meeting-2/2024-05-15/
LOCATION:Meeting Room\, 530 West Hill Rd\, Glen Gardner\, NJ\, 08826
ATTACH;FMTTYPE=image/jpeg:https://lebanontownship.net/wp-content/uploads/2022/10/township-committee-meeting.jpg
END:VEVENT
BEGIN:VEVENT
DTSTART;TZID=America/New_York:20240515T190000
DTEND;TZID=America/New_York:20240515T190000
DTSTAMP:20260424T235056
CREATED:20231226T171707Z
LAST-MODIFIED:20240606T151712Z
UID:10000710-1715799600-1715799600@lebanontownship.net
SUMMARY:Township Committee Meeting
DESCRIPTION:Township Committee Meetings are held the 1st & 3rd Wednesday of each month at 7:00 pm.
URL:https://lebanontownship.net/event/township-committee-meeting-8/2024-05-15/
LOCATION:Meeting Room\, 530 West Hill Rd\, Glen Gardner\, NJ\, 08826
ATTACH;FMTTYPE=image/jpeg:https://lebanontownship.net/wp-content/uploads/2022/10/township-committee-meeting.jpg
END:VEVENT
BEGIN:VEVENT
DTSTART;TZID=America/New_York:20240507T190000
DTEND;TZID=America/New_York:20240507T200000
DTSTAMP:20260424T235056
CREATED:20230307T165042Z
LAST-MODIFIED:20240925T175753Z
UID:10000729-1715108400-1715112000@lebanontownship.net
SUMMARY:Planning Board Meeting
DESCRIPTION:PLANNING BOARD MEETING SCHEDULE: \nPlease take notice that in accordance with the Open Public Meetings Act\, Lebanon Township Planning Board will meet on the following Tuesday’s: \n\nJanuary 16\, 2024\nFebruary 6\, 2024\nMarch 5\, 2024\nApril 2\, 2024\nMay 7\, 2024\nJune 4\, 2024 – CANCELLED\nJuly 2\, 2024\nAugust 20\, 2024 – CANCELLED\nSeptember 3\, 2024 – CANCELLED\nSeptember 17\, 2024\nOctober 1\, 2024 – CANCELLED\nOctober 15\, 2024 – CANCELLED\nNO NOVEMBER MEETING\nDecember 3\, 2024\n\nMeetings will be held at 7:00 p.m. in the Meeting Room in the Municipal Building\, 530 West Hill Road\, Glen Gardner\, NJ 08826.
URL:https://lebanontownship.net/event/planning-board-meeting-5/2024-05-07/
LOCATION:Meeting Room\, 530 West Hill Rd\, Glen Gardner\, NJ\, 08826
ATTACH;FMTTYPE=image/jpeg:https://lebanontownship.net/wp-content/uploads/2023/01/qtq80-N8aOEv.jpeg
END:VEVENT
BEGIN:VEVENT
DTSTART;TZID=America/New_York:20240502T193000
DTEND;TZID=America/New_York:20240502T203000
DTSTAMP:20260424T235056
CREATED:20240403T183312Z
LAST-MODIFIED:20240403T183440Z
UID:10000828-1714678200-1714681800@lebanontownship.net
SUMMARY:Recreation Commission Meeting
DESCRIPTION:Recreation Commission Meeting \nThe Commission meets the 1st Thursday of the month at 7:30 pm at the Lebanon Township Municipal Building\, 530 West Hill Road\, Lebanon Township\, NJ.  Our meetings are open to the public and township residents are welcome to attend. All meeting end times are tentative. \n 
URL:https://lebanontownship.net/event/recreation-commission-meeting-3-3-4/2024-05-02/
LOCATION:Meeting Room\, 530 West Hill Rd\, Glen Gardner\, NJ\, 08826
ATTACH;FMTTYPE=image/jpeg:https://lebanontownship.net/wp-content/uploads/2023/01/qtq80-diKXrx.jpeg
END:VEVENT
BEGIN:VEVENT
DTSTART;TZID=America/New_York:20240501T190000
DTEND;TZID=America/New_York:20240501T190000
DTSTAMP:20260424T235056
CREATED:20240606T152027Z
LAST-MODIFIED:20241017T144949Z
UID:10000912-1714590000-1714590000@lebanontownship.net
SUMMARY:Township Committee Meeting
DESCRIPTION:Township Committee Meetings are held the 1st & 3rd Wednesday of each month at 7:00 pm. \nNO MEETING 7/3/2024 and 8/7/2024. \nNO MEETING 11/20/2024.
URL:https://lebanontownship.net/event/township-committee-meeting-2/2024-05-01/
LOCATION:Meeting Room\, 530 West Hill Rd\, Glen Gardner\, NJ\, 08826
ATTACH;FMTTYPE=image/jpeg:https://lebanontownship.net/wp-content/uploads/2022/10/township-committee-meeting.jpg
END:VEVENT
BEGIN:VEVENT
DTSTART;TZID=America/New_York:20240501T190000
DTEND;TZID=America/New_York:20240501T190000
DTSTAMP:20260424T235056
CREATED:20231226T171707Z
LAST-MODIFIED:20240606T151712Z
UID:10000709-1714590000-1714590000@lebanontownship.net
SUMMARY:Township Committee Meeting
DESCRIPTION:Township Committee Meetings are held the 1st & 3rd Wednesday of each month at 7:00 pm.
URL:https://lebanontownship.net/event/township-committee-meeting-8/2024-05-01/
LOCATION:Meeting Room\, 530 West Hill Rd\, Glen Gardner\, NJ\, 08826
ATTACH;FMTTYPE=image/jpeg:https://lebanontownship.net/wp-content/uploads/2022/10/township-committee-meeting.jpg
END:VEVENT
BEGIN:VEVENT
DTSTART;TZID=America/New_York:20240417T190000
DTEND;TZID=America/New_York:20240417T190000
DTSTAMP:20260424T235056
CREATED:20240606T152027Z
LAST-MODIFIED:20241017T144949Z
UID:10000911-1713380400-1713380400@lebanontownship.net
SUMMARY:Township Committee Meeting
DESCRIPTION:Township Committee Meetings are held the 1st & 3rd Wednesday of each month at 7:00 pm. \nNO MEETING 7/3/2024 and 8/7/2024. \nNO MEETING 11/20/2024.
URL:https://lebanontownship.net/event/township-committee-meeting-2/2024-04-17/
LOCATION:Meeting Room\, 530 West Hill Rd\, Glen Gardner\, NJ\, 08826
ATTACH;FMTTYPE=image/jpeg:https://lebanontownship.net/wp-content/uploads/2022/10/township-committee-meeting.jpg
END:VEVENT
BEGIN:VEVENT
DTSTART;TZID=America/New_York:20240417T190000
DTEND;TZID=America/New_York:20240417T190000
DTSTAMP:20260424T235056
CREATED:20231226T171707Z
LAST-MODIFIED:20240606T151712Z
UID:10000708-1713380400-1713380400@lebanontownship.net
SUMMARY:Township Committee Meeting
DESCRIPTION:Township Committee Meetings are held the 1st & 3rd Wednesday of each month at 7:00 pm.
URL:https://lebanontownship.net/event/township-committee-meeting-8/2024-04-17/
LOCATION:Meeting Room\, 530 West Hill Rd\, Glen Gardner\, NJ\, 08826
ATTACH;FMTTYPE=image/jpeg:https://lebanontownship.net/wp-content/uploads/2022/10/township-committee-meeting.jpg
END:VEVENT
END:VCALENDAR