BEGIN:VCALENDAR
VERSION:2.0
PRODID:-//Lebanon Township - ECPv6.15.20//NONSGML v1.0//EN
CALSCALE:GREGORIAN
METHOD:PUBLISH
X-WR-CALNAME:Lebanon Township
X-ORIGINAL-URL:https://lebanontownship.net
X-WR-CALDESC:Events for Lebanon Township
REFRESH-INTERVAL;VALUE=DURATION:PT1H
X-Robots-Tag:noindex
X-PUBLISHED-TTL:PT1H
BEGIN:VTIMEZONE
TZID:America/New_York
BEGIN:DAYLIGHT
TZOFFSETFROM:-0500
TZOFFSETTO:-0400
TZNAME:EDT
DTSTART:20230312T070000
END:DAYLIGHT
BEGIN:STANDARD
TZOFFSETFROM:-0400
TZOFFSETTO:-0500
TZNAME:EST
DTSTART:20231105T060000
END:STANDARD
BEGIN:DAYLIGHT
TZOFFSETFROM:-0500
TZOFFSETTO:-0400
TZNAME:EDT
DTSTART:20240310T070000
END:DAYLIGHT
BEGIN:STANDARD
TZOFFSETFROM:-0400
TZOFFSETTO:-0500
TZNAME:EST
DTSTART:20241103T060000
END:STANDARD
BEGIN:DAYLIGHT
TZOFFSETFROM:-0500
TZOFFSETTO:-0400
TZNAME:EDT
DTSTART:20250309T070000
END:DAYLIGHT
BEGIN:STANDARD
TZOFFSETFROM:-0400
TZOFFSETTO:-0500
TZNAME:EST
DTSTART:20251102T060000
END:STANDARD
END:VTIMEZONE
BEGIN:VEVENT
DTSTART;TZID=America/New_York:20240827T173000
DTEND;TZID=America/New_York:20240827T183000
DTSTAMP:20260423T100802
CREATED:20240823T145656Z
LAST-MODIFIED:20240823T152459Z
UID:10000956-1724779800-1724783400@lebanontownship.net
SUMMARY:Let's Go For a Hike! at Point Mountain
DESCRIPTION:Lebanon Township boasts over 30 trails throughout more than 3\,700 acres of open space.  Come savor the beauty of Lebanon Township’s natural resources with the comfort of an experienced guide so you may be inspired to take advantage of these local treasures on your own.  This hike will be on fairly level terrain along the Musconetcong River and is approximately one mile in length.  Email recreation@lebtwp.net to register.
URL:https://lebanontownship.net/event/lets-go-for-a-hike-at-point-mountain/
LOCATION:Point Mountain
ATTACH;FMTTYPE=image/jpeg:https://lebanontownship.net/wp-content/uploads/2024/08/Lets-Go-For-a-Hike.jpeg
END:VEVENT
END:VCALENDAR